BEGIN:VCALENDAR
VERSION:2.0
PRODID:-//Abbotsford Flying Club - ECPv6.0.0.1//NONSGML v1.0//EN
CALSCALE:GREGORIAN
METHOD:PUBLISH
X-ORIGINAL-URL:http://www.abbotsfordflyingclub.ca
X-WR-CALDESC:Events for Abbotsford Flying Club
REFRESH-INTERVAL;VALUE=DURATION:PT1H
X-Robots-Tag:noindex
X-PUBLISHED-TTL:PT1H
BEGIN:VTIMEZONE
TZID:America/Vancouver
BEGIN:DAYLIGHT
TZOFFSETFROM:-0800
TZOFFSETTO:-0700
TZNAME:PDT
DTSTART:20190310T100000
END:DAYLIGHT
BEGIN:STANDARD
TZOFFSETFROM:-0700
TZOFFSETTO:-0800
TZNAME:PST
DTSTART:20191103T090000
END:STANDARD
BEGIN:DAYLIGHT
TZOFFSETFROM:-0800
TZOFFSETTO:-0700
TZNAME:PDT
DTSTART:20200308T100000
END:DAYLIGHT
BEGIN:STANDARD
TZOFFSETFROM:-0700
TZOFFSETTO:-0800
TZNAME:PST
DTSTART:20201101T090000
END:STANDARD
BEGIN:DAYLIGHT
TZOFFSETFROM:-0800
TZOFFSETTO:-0700
TZNAME:PDT
DTSTART:20210314T100000
END:DAYLIGHT
BEGIN:STANDARD
TZOFFSETFROM:-0700
TZOFFSETTO:-0800
TZNAME:PST
DTSTART:20211107T090000
END:STANDARD
BEGIN:DAYLIGHT
TZOFFSETFROM:-0800
TZOFFSETTO:-0700
TZNAME:PDT
DTSTART:20220313T100000
END:DAYLIGHT
BEGIN:STANDARD
TZOFFSETFROM:-0700
TZOFFSETTO:-0800
TZNAME:PST
DTSTART:20221106T090000
END:STANDARD
BEGIN:DAYLIGHT
TZOFFSETFROM:-0800
TZOFFSETTO:-0700
TZNAME:PDT
DTSTART:20230312T100000
END:DAYLIGHT
BEGIN:STANDARD
TZOFFSETFROM:-0700
TZOFFSETTO:-0800
TZNAME:PST
DTSTART:20231105T090000
END:STANDARD
END:VTIMEZONE
BEGIN:VEVENT
DTSTART;TZID=America/Vancouver:20230513T080000
DTEND;TZID=America/Vancouver:20230513T160000
DTSTAMP:20260421T112039
CREATED:20230320T084749Z
LAST-MODIFIED:20230320T084749Z
UID:13471-1683964800-1683993600@www.abbotsfordflyingclub.ca
SUMMARY:CASARA Training Session
DESCRIPTION:
URL:http://www.abbotsfordflyingclub.ca/event/casara-training-session-12/
LOCATION:AFC Meeting Room\, 30540 Approach Drive\, Abbotsford\, BC\, V2T 6H5\, Canada
CATEGORIES:CASARA
ORGANIZER;CN="Dennis%20Nevett%20%28CASARA%29":MAILTO:yxxcasara@telus.net
END:VEVENT
BEGIN:VEVENT
DTSTART;TZID=America/Vancouver:20230408T080000
DTEND;TZID=America/Vancouver:20230408T160000
DTSTAMP:20260421T112039
CREATED:20230320T084647Z
LAST-MODIFIED:20230320T084647Z
UID:13469-1680940800-1680969600@www.abbotsfordflyingclub.ca
SUMMARY:CASARA Training Session
DESCRIPTION:
URL:http://www.abbotsfordflyingclub.ca/event/casara-training-session-11/
LOCATION:AFC Meeting Room\, 30540 Approach Drive\, Abbotsford\, BC\, V2T 6H5\, Canada
CATEGORIES:CASARA
ORGANIZER;CN="Dennis%20Nevett%20%28CASARA%29":MAILTO:yxxcasara@telus.net
END:VEVENT
BEGIN:VEVENT
DTSTART;TZID=America/Vancouver:20221008T080000
DTEND;TZID=America/Vancouver:20221008T160000
DTSTAMP:20260421T112039
CREATED:20220304T104650Z
LAST-MODIFIED:20220620T231250Z
UID:12659-1665216000-1665244800@www.abbotsfordflyingclub.ca
SUMMARY:CASARA Training Session
DESCRIPTION:
URL:http://www.abbotsfordflyingclub.ca/event/casara-training-session-7/
LOCATION:AFC Meeting Room\, 30540 Approach Drive\, Abbotsford\, BC\, V2T 6H5\, Canada
CATEGORIES:CASARA,Community
ORGANIZER;CN="Dennis%20Nevett%20%28CASARA%29":MAILTO:yxxcasara@telus.net
END:VEVENT
BEGIN:VEVENT
DTSTART;TZID=America/Vancouver:20220910T080000
DTEND;TZID=America/Vancouver:20220910T160000
DTSTAMP:20260421T112039
CREATED:20220304T104605Z
LAST-MODIFIED:20220620T231250Z
UID:12657-1662796800-1662825600@www.abbotsfordflyingclub.ca
SUMMARY:CASARA Training Session
DESCRIPTION:
URL:http://www.abbotsfordflyingclub.ca/event/casara-training-session-6/
LOCATION:AFC Meeting Room\, 30540 Approach Drive\, Abbotsford\, BC\, V2T 6H5\, Canada
CATEGORIES:CASARA,Community
ORGANIZER;CN="Dennis%20Nevett%20%28CASARA%29":MAILTO:yxxcasara@telus.net
END:VEVENT
BEGIN:VEVENT
DTSTART;VALUE=DATE:20220806
DTEND;VALUE=DATE:20220807
DTSTAMP:20260421T112039
CREATED:20220304T104728Z
LAST-MODIFIED:20220620T231250Z
UID:12661-1659744000-1659830399@www.abbotsfordflyingclub.ca
SUMMARY:ABBOTSFORD INTERNATIONAL AIRSHOW
DESCRIPTION:
URL:http://www.abbotsfordflyingclub.ca/event/casara-training-session-8/
LOCATION:AFC Clubhouse and Patio\, 30540 Approach Drive\, Abbotsford\, BC\, V2T 6H5\, Canada
CATEGORIES:CASARA,Community
ORGANIZER;CN="AFC%20Board":MAILTO:afcsec@gmail.com
END:VEVENT
BEGIN:VEVENT
DTSTART;TZID=America/Vancouver:20220709T080000
DTEND;TZID=America/Vancouver:20220709T160000
DTSTAMP:20260421T112039
CREATED:20220304T104507Z
LAST-MODIFIED:20220620T231250Z
UID:12655-1657353600-1657382400@www.abbotsfordflyingclub.ca
SUMMARY:CASARA Training Session
DESCRIPTION:
URL:http://www.abbotsfordflyingclub.ca/event/casara-training-session-5/
LOCATION:AFC Meeting Room\, 30540 Approach Drive\, Abbotsford\, BC\, V2T 6H5\, Canada
CATEGORIES:CASARA,Community
ORGANIZER;CN="Dennis%20Nevett%20%28CASARA%29":MAILTO:yxxcasara@telus.net
END:VEVENT
BEGIN:VEVENT
DTSTART;TZID=America/Vancouver:20220611T080000
DTEND;TZID=America/Vancouver:20220611T160000
DTSTAMP:20260421T112039
CREATED:20220304T104425Z
LAST-MODIFIED:20220620T231250Z
UID:12653-1654934400-1654963200@www.abbotsfordflyingclub.ca
SUMMARY:CASARA Training Session
DESCRIPTION:
URL:http://www.abbotsfordflyingclub.ca/event/casara-training-session-4/
LOCATION:AFC Meeting Room\, 30540 Approach Drive\, Abbotsford\, BC\, V2T 6H5\, Canada
CATEGORIES:CASARA,Community
ORGANIZER;CN="Dennis%20Nevett%20%28CASARA%29":MAILTO:yxxcasara@telus.net
END:VEVENT
BEGIN:VEVENT
DTSTART;TZID=America/Vancouver:20220514T080000
DTEND;TZID=America/Vancouver:20220514T160000
DTSTAMP:20260421T112039
CREATED:20220304T104301Z
LAST-MODIFIED:20220304T104301Z
UID:12651-1652515200-1652544000@www.abbotsfordflyingclub.ca
SUMMARY:CASARA Training Session
DESCRIPTION:
URL:http://www.abbotsfordflyingclub.ca/event/casara-training-session-3/
LOCATION:AFC Meeting Room\, 30540 Approach Drive\, Abbotsford\, BC\, V2T 6H5\, Canada
CATEGORIES:CASARA
ORGANIZER;CN="Dennis%20Nevett%20%28CASARA%29":MAILTO:yxxcasara@telus.net
END:VEVENT
BEGIN:VEVENT
DTSTART;TZID=America/Vancouver:20220409T080000
DTEND;TZID=America/Vancouver:20220409T160000
DTSTAMP:20260421T112039
CREATED:20220304T104208Z
LAST-MODIFIED:20220304T104208Z
UID:12649-1649491200-1649520000@www.abbotsfordflyingclub.ca
SUMMARY:CASARA Training Session
DESCRIPTION:
URL:http://www.abbotsfordflyingclub.ca/event/casara-training-session-2/
LOCATION:AFC Meeting Room\, 30540 Approach Drive\, Abbotsford\, BC\, V2T 6H5\, Canada
CATEGORIES:CASARA
ORGANIZER;CN="Dennis%20Nevett%20%28CASARA%29":MAILTO:yxxcasara@telus.net
END:VEVENT
BEGIN:VEVENT
DTSTART;TZID=America/Vancouver:20220312T080000
DTEND;TZID=America/Vancouver:20220312T160000
DTSTAMP:20260421T112039
CREATED:20220304T104107Z
LAST-MODIFIED:20220304T104107Z
UID:12647-1647072000-1647100800@www.abbotsfordflyingclub.ca
SUMMARY:CASARA Training Session
DESCRIPTION:
URL:http://www.abbotsfordflyingclub.ca/event/casara-training-session/
LOCATION:AFC Meeting Room\, 30540 Approach Drive\, Abbotsford\, BC\, V2T 6H5\, Canada
CATEGORIES:CASARA
ORGANIZER;CN="Dennis%20Nevett%20%28CASARA%29":MAILTO:yxxcasara@telus.net
END:VEVENT
BEGIN:VEVENT
DTSTART;TZID=America/Vancouver:20211211T083000
DTEND;TZID=America/Vancouver:20211211T160000
DTSTAMP:20260421T112039
CREATED:20210707T170219Z
LAST-MODIFIED:20210707T170219Z
UID:11937-1639211400-1639238400@www.abbotsfordflyingclub.ca
SUMMARY:CASARA
DESCRIPTION:
URL:http://www.abbotsfordflyingclub.ca/event/casara-32/
LOCATION:AFC Meeting Room\, 30540 Approach Drive\, Abbotsford\, BC\, V2T 6H5\, Canada
CATEGORIES:CASARA
ORGANIZER;CN="Dennis%20Nevett%20%28CASARA%29":MAILTO:yxxcasara@telus.net
END:VEVENT
BEGIN:VEVENT
DTSTART;TZID=America/Vancouver:20211113T083000
DTEND;TZID=America/Vancouver:20211113T160000
DTSTAMP:20260421T112039
CREATED:20210707T170128Z
LAST-MODIFIED:20210707T170128Z
UID:11935-1636792200-1636819200@www.abbotsfordflyingclub.ca
SUMMARY:CASARA
DESCRIPTION:
URL:http://www.abbotsfordflyingclub.ca/event/casara-31/
LOCATION:AFC Meeting Room\, 30540 Approach Drive\, Abbotsford\, BC\, V2T 6H5\, Canada
CATEGORIES:CASARA
ORGANIZER;CN="Dennis%20Nevett%20%28CASARA%29":MAILTO:yxxcasara@telus.net
END:VEVENT
BEGIN:VEVENT
DTSTART;TZID=America/Vancouver:20211009T083000
DTEND;TZID=America/Vancouver:20211009T160000
DTSTAMP:20260421T112039
CREATED:20210707T170045Z
LAST-MODIFIED:20210707T170045Z
UID:11933-1633768200-1633795200@www.abbotsfordflyingclub.ca
SUMMARY:CASARA
DESCRIPTION:
URL:http://www.abbotsfordflyingclub.ca/event/casara-30/
LOCATION:AFC Meeting Room\, 30540 Approach Drive\, Abbotsford\, BC\, V2T 6H5\, Canada
CATEGORIES:CASARA
ORGANIZER;CN="Dennis%20Nevett%20%28CASARA%29":MAILTO:yxxcasara@telus.net
END:VEVENT
BEGIN:VEVENT
DTSTART;TZID=America/Vancouver:20210911T083000
DTEND;TZID=America/Vancouver:20210911T160000
DTSTAMP:20260421T112039
CREATED:20210707T165958Z
LAST-MODIFIED:20210707T165958Z
UID:11931-1631349000-1631376000@www.abbotsfordflyingclub.ca
SUMMARY:CASARA
DESCRIPTION:
URL:http://www.abbotsfordflyingclub.ca/event/casara-29/
LOCATION:AFC Clubhouse\, 30540 Approach Drive\, Abbotsford\, BC\, V2T 6H5
CATEGORIES:CASARA
ORGANIZER;CN="Dennis%20Nevett%20%28CASARA%29":MAILTO:yxxcasara@telus.net
END:VEVENT
BEGIN:VEVENT
DTSTART;TZID=America/Vancouver:20210814T083000
DTEND;TZID=America/Vancouver:20210814T160000
DTSTAMP:20260421T112039
CREATED:20210707T165914Z
LAST-MODIFIED:20210707T165914Z
UID:11929-1628929800-1628956800@www.abbotsfordflyingclub.ca
SUMMARY:CASARA
DESCRIPTION:
URL:http://www.abbotsfordflyingclub.ca/event/casara-28/
LOCATION:AFC Clubhouse\, 30540 Approach Drive\, Abbotsford\, BC\, V2T 6H5
CATEGORIES:CASARA
END:VEVENT
BEGIN:VEVENT
DTSTART;TZID=America/Vancouver:20210710T083000
DTEND;TZID=America/Vancouver:20210710T160000
DTSTAMP:20260421T112039
CREATED:20210707T164936Z
LAST-MODIFIED:20210707T165831Z
UID:11926-1625905800-1625932800@www.abbotsfordflyingclub.ca
SUMMARY:CASARA
DESCRIPTION:
URL:http://www.abbotsfordflyingclub.ca/event/casara-15/
LOCATION:AFC Meeting Room\, 30540 Approach Drive\, Abbotsford\, BC\, V2T 6H5\, Canada
CATEGORIES:CASARA
ORGANIZER;CN="Dennis%20Nevett%20%28CASARA%29":MAILTO:yxxcasara@telus.net
END:VEVENT
BEGIN:VEVENT
DTSTART;TZID=America/Vancouver:20201114T080000
DTEND;TZID=America/Vancouver:20201114T160000
DTSTAMP:20260421T112039
CREATED:20191108T155524Z
LAST-MODIFIED:20200303T225945Z
UID:9726-1605340800-1605369600@www.abbotsfordflyingclub.ca
SUMMARY:CASARA
DESCRIPTION:CASARA 8-4\n\nNovember 14 @ 08:00 – 16:00\n\n\n\nCASARA event. 08:00 to 16:00 \nMeeting Room
URL:http://www.abbotsfordflyingclub.ca/event/casara-8-4-20/
LOCATION:AFC Meeting Room\, 30540 Approach Drive\, Abbotsford\, BC\, V2T 6H5\, Canada
CATEGORIES:CASARA
END:VEVENT
BEGIN:VEVENT
DTSTART;TZID=America/Vancouver:20201010T080000
DTEND;TZID=America/Vancouver:20201010T160000
DTSTAMP:20260421T112039
CREATED:20191108T155409Z
LAST-MODIFIED:20200303T225953Z
UID:9724-1602316800-1602345600@www.abbotsfordflyingclub.ca
SUMMARY:CASARA
DESCRIPTION:CASARA 8-4\n\nOctober 10 @ 08:00 – 16:00\n\n\n\nCASARA event. 08:00 to 16:00 \nMeeting Room
URL:http://www.abbotsfordflyingclub.ca/event/casara-8-4-19/
LOCATION:AFC Meeting Room\, 30540 Approach Drive\, Abbotsford\, BC\, V2T 6H5\, Canada
CATEGORIES:CASARA
END:VEVENT
BEGIN:VEVENT
DTSTART;TZID=America/Vancouver:20200912T080000
DTEND;TZID=America/Vancouver:20200912T160000
DTSTAMP:20260421T112039
CREATED:20191108T155311Z
LAST-MODIFIED:20200303T230000Z
UID:9722-1599897600-1599926400@www.abbotsfordflyingclub.ca
SUMMARY:CASARA
DESCRIPTION:CASARA 8-4\n\nSeptember 12 @ 08:00 – 16:00\n\n\n\nCASARA event. 08:00 to 16:00 \nMeeting Room
URL:http://www.abbotsfordflyingclub.ca/event/casara-8-4-18/
LOCATION:BC
CATEGORIES:CASARA
END:VEVENT
BEGIN:VEVENT
DTSTART;TZID=America/Vancouver:20200711T080000
DTEND;TZID=America/Vancouver:20200711T160000
DTSTAMP:20260421T112039
CREATED:20191108T155013Z
LAST-MODIFIED:20200401T172041Z
UID:9719-1594454400-1594483200@www.abbotsfordflyingclub.ca
SUMMARY:CASARA
DESCRIPTION:CASARA 8-4\n\nJuly 11 @ 08:00 – 16:00\n\n\n\nCASARA event. 08:00 to 16:00 \nMeeting Room
URL:http://www.abbotsfordflyingclub.ca/event/casara-8-4-17/
LOCATION:AFC Meeting Room\, 30540 Approach Drive\, Abbotsford\, BC\, V2T 6H5\, Canada
CATEGORIES:CASARA
END:VEVENT
BEGIN:VEVENT
DTSTART;TZID=America/Vancouver:20200314T080000
DTEND;TZID=America/Vancouver:20200314T160000
DTSTAMP:20260421T112039
CREATED:20191108T154510Z
LAST-MODIFIED:20200303T230041Z
UID:9713-1584172800-1584201600@www.abbotsfordflyingclub.ca
SUMMARY:CASARA
DESCRIPTION:CASARA 8-4\n\nMarch 14 @ 08:00 – 16:00\n\n\n\nCASARA event. 08:00 to 16:00 \nMeeting Room
URL:http://www.abbotsfordflyingclub.ca/event/casara-8-4-13/
LOCATION:AFC Meeting Room\, 30540 Approach Drive\, Abbotsford\, BC\, V2T 6H5\, Canada
CATEGORIES:CASARA
END:VEVENT
BEGIN:VEVENT
DTSTART;TZID=America/Vancouver:20200208T080000
DTEND;TZID=America/Vancouver:20200208T160000
DTSTAMP:20260421T112039
CREATED:20191108T153931Z
LAST-MODIFIED:20191108T153931Z
UID:9707-1581148800-1581177600@www.abbotsfordflyingclub.ca
SUMMARY:CASARA 8-4
DESCRIPTION:CASARA 8-4\n\nFebruary 8 @ 08:00 – 16:00\n\n\n\nCASARA event. 08:00 to 16:00 \nMeeting Room
URL:http://www.abbotsfordflyingclub.ca/event/casara-8-4-12/
LOCATION:AFC Meeting Room\, 30540 Approach Drive\, Abbotsford\, BC\, V2T 6H5\, Canada
CATEGORIES:CASARA
END:VEVENT
BEGIN:VEVENT
DTSTART;TZID=America/Vancouver:20200111T080000
DTEND;TZID=America/Vancouver:20200111T160000
DTSTAMP:20260421T112039
CREATED:20191030T182657Z
LAST-MODIFIED:20191030T202557Z
UID:9679-1578729600-1578758400@www.abbotsfordflyingclub.ca
SUMMARY:CASARA 8-4
DESCRIPTION:CASARA 8-4\n\nJanuary 11 @ 08:00 – 16:00\n\n\n\nCASARA event. 08:00 to 16:00 \nMeeting Room
URL:http://www.abbotsfordflyingclub.ca/event/casara-8-4-11/
LOCATION:AFC Meeting Room\, 30540 Approach Drive\, Abbotsford\, BC\, V2T 6H5\, Canada
CATEGORIES:CASARA
END:VEVENT
BEGIN:VEVENT
DTSTART;TZID=America/Vancouver:20191109T080000
DTEND;TZID=America/Vancouver:20191109T160000
DTSTAMP:20260421T112039
CREATED:20190109T040907Z
LAST-MODIFIED:20190109T040907Z
UID:8408-1573286400-1573315200@www.abbotsfordflyingclub.ca
SUMMARY:CASARA 8-4
DESCRIPTION:CASARA event. 08:00 to 16:00 \nMeeting Room
URL:http://www.abbotsfordflyingclub.ca/event/casara-8-4-10/
LOCATION:AFC Meeting Room\, 30540 Approach Drive\, Abbotsford\, BC\, V2T 6H5\, Canada
CATEGORIES:CASARA
END:VEVENT
BEGIN:VEVENT
DTSTART;TZID=America/Vancouver:20191012T080000
DTEND;TZID=America/Vancouver:20191012T160000
DTSTAMP:20260421T112039
CREATED:20190109T040812Z
LAST-MODIFIED:20190109T040812Z
UID:8406-1570867200-1570896000@www.abbotsfordflyingclub.ca
SUMMARY:CASARA 8-4
DESCRIPTION:CASARA event. 08:00 to 16:00 \nMeeting Room
URL:http://www.abbotsfordflyingclub.ca/event/casara-8-4-9/
LOCATION:AFC Meeting Room\, 30540 Approach Drive\, Abbotsford\, BC\, V2T 6H5\, Canada
CATEGORIES:CASARA
END:VEVENT
BEGIN:VEVENT
DTSTART;TZID=America/Vancouver:20190914T080000
DTEND;TZID=America/Vancouver:20190914T160000
DTSTAMP:20260421T112039
CREATED:20190109T040706Z
LAST-MODIFIED:20190109T040706Z
UID:8404-1568448000-1568476800@www.abbotsfordflyingclub.ca
SUMMARY:CASARA 8-4
DESCRIPTION:CASARA event. 08:00 to 16:00 \nMeeting Room
URL:http://www.abbotsfordflyingclub.ca/event/casara-8-4-8/
LOCATION:AFC Meeting Room\, 30540 Approach Drive\, Abbotsford\, BC\, V2T 6H5\, Canada
CATEGORIES:CASARA
END:VEVENT
BEGIN:VEVENT
DTSTART;TZID=America/Vancouver:20190713T080000
DTEND;TZID=America/Vancouver:20190713T160000
DTSTAMP:20260421T112039
CREATED:20190109T040622Z
LAST-MODIFIED:20190109T040622Z
UID:8402-1563004800-1563033600@www.abbotsfordflyingclub.ca
SUMMARY:CASARA 8-4
DESCRIPTION:CASARA event. 08:00 to 16:00 \nMeeting Room
URL:http://www.abbotsfordflyingclub.ca/event/casara-8-4-7/
LOCATION:AFC Meeting Room\, 30540 Approach Drive\, Abbotsford\, BC\, V2T 6H5\, Canada
CATEGORIES:CASARA
END:VEVENT
BEGIN:VEVENT
DTSTART;TZID=America/Vancouver:20190608T080000
DTEND;TZID=America/Vancouver:20190608T160000
DTSTAMP:20260421T112039
CREATED:20190109T040524Z
LAST-MODIFIED:20190109T040524Z
UID:8400-1559980800-1560009600@www.abbotsfordflyingclub.ca
SUMMARY:CASARA 8-4
DESCRIPTION:CASARA event. 08:00 to 16:00 \nMeeting Room
URL:http://www.abbotsfordflyingclub.ca/event/casara-8-4-6/
LOCATION:AFC Meeting Room\, 30540 Approach Drive\, Abbotsford\, BC\, V2T 6H5\, Canada
CATEGORIES:CASARA
END:VEVENT
BEGIN:VEVENT
DTSTART;TZID=America/Vancouver:20190511T080000
DTEND;TZID=America/Vancouver:20190511T160000
DTSTAMP:20260421T112039
CREATED:20190109T040417Z
LAST-MODIFIED:20190109T040417Z
UID:8398-1557561600-1557590400@www.abbotsfordflyingclub.ca
SUMMARY:CASARA 8-4
DESCRIPTION:CASARA event. 08:00 to 16:00 \nMeeting Room
URL:http://www.abbotsfordflyingclub.ca/event/casara-8-4-5/
LOCATION:BC
CATEGORIES:CASARA
END:VEVENT
BEGIN:VEVENT
DTSTART;TZID=America/Vancouver:20190413T080000
DTEND;TZID=America/Vancouver:20190413T160000
DTSTAMP:20260421T112039
CREATED:20190109T040247Z
LAST-MODIFIED:20190109T040247Z
UID:8396-1555142400-1555171200@www.abbotsfordflyingclub.ca
SUMMARY:CASARA 8-4
DESCRIPTION:CASARA event. 08:00 to 16:00 \nMeeting Room
URL:http://www.abbotsfordflyingclub.ca/event/casara-8-4-4/
LOCATION:AFC Meeting Room\, 30540 Approach Drive\, Abbotsford\, BC\, V2T 6H5\, Canada
CATEGORIES:CASARA
END:VEVENT
END:VCALENDAR