BEGIN:VCALENDAR
VERSION:2.0
PRODID:-//Abbotsford Flying Club - ECPv6.0.0.1//NONSGML v1.0//EN
CALSCALE:GREGORIAN
METHOD:PUBLISH
X-ORIGINAL-URL:https://www.abbotsfordflyingclub.ca
X-WR-CALDESC:Events for Abbotsford Flying Club
REFRESH-INTERVAL;VALUE=DURATION:PT1H
X-Robots-Tag:noindex
X-PUBLISHED-TTL:PT1H
BEGIN:VTIMEZONE
TZID:America/Vancouver
BEGIN:DAYLIGHT
TZOFFSETFROM:-0800
TZOFFSETTO:-0700
TZNAME:PDT
DTSTART:20220313T100000
END:DAYLIGHT
BEGIN:STANDARD
TZOFFSETFROM:-0700
TZOFFSETTO:-0800
TZNAME:PST
DTSTART:20221106T090000
END:STANDARD
END:VTIMEZONE
BEGIN:VEVENT
DTSTART;TZID=America/Vancouver:20221209T180000
DTEND;TZID=America/Vancouver:20221209T200000
DTSTAMP:20260422T182046
CREATED:20220906T081122Z
LAST-MODIFIED:20220906T081122Z
UID:13080-1670608800-1670616000@www.abbotsfordflyingclub.ca
SUMMARY:TGIF Friday
DESCRIPTION:Bring dinner and your spouse\, and relax at the airport.  On the back lawn if the evening weather is nice\, otherwise inside around the fireplace\, pool table\, and the big screen.
URL:https://www.abbotsfordflyingclub.ca/event/tgif-friday-13/
LOCATION:BC
CATEGORIES:Socials
END:VEVENT
END:VCALENDAR