BEGIN:VCALENDAR
VERSION:2.0
PRODID:-//Abbotsford Flying Club - ECPv6.0.0.1//NONSGML v1.0//EN
CALSCALE:GREGORIAN
METHOD:PUBLISH
X-ORIGINAL-URL:https://www.abbotsfordflyingclub.ca
X-WR-CALDESC:Events for Abbotsford Flying Club
REFRESH-INTERVAL;VALUE=DURATION:PT1H
X-Robots-Tag:noindex
X-PUBLISHED-TTL:PT1H
BEGIN:VTIMEZONE
TZID:America/Vancouver
BEGIN:DAYLIGHT
TZOFFSETFROM:-0800
TZOFFSETTO:-0700
TZNAME:PDT
DTSTART:20220313T100000
END:DAYLIGHT
BEGIN:STANDARD
TZOFFSETFROM:-0700
TZOFFSETTO:-0800
TZNAME:PST
DTSTART:20221106T090000
END:STANDARD
END:VTIMEZONE
BEGIN:VEVENT
DTSTART;TZID=America/Vancouver:20221211T083000
DTEND;TZID=America/Vancouver:20221211T120000
DTSTAMP:20260422T215217
CREATED:20220906T075339Z
LAST-MODIFIED:20220906T075339Z
UID:13050-1670747400-1670760000@www.abbotsfordflyingclub.ca
SUMMARY:Sunday Morning Breakfast Fly-out
DESCRIPTION:Destination TBA weather and aircraft availability permitting.  Meet at the Clubhouse at 8:30am.  All welcome.
URL:https://www.abbotsfordflyingclub.ca/event/sunday-morning-breakfast-fly-out-13/
LOCATION:BC
CATEGORIES:Flyouts & Fly-Ins
END:VEVENT
BEGIN:VEVENT
DTSTART;TZID=America/Vancouver:20221211T150000
DTEND;TZID=America/Vancouver:20221211T180000
DTSTAMP:20260422T215217
CREATED:20220906T072245Z
LAST-MODIFIED:20220906T072245Z
UID:13017-1670770800-1670781600@www.abbotsfordflyingclub.ca
SUMMARY:May Day Choir Practice - Private Event
DESCRIPTION:
URL:https://www.abbotsfordflyingclub.ca/event/may-day-choir-practice-private-event-9/
LOCATION:AFC Clubhouse\, 30540 Approach Drive\, Abbotsford\, BC\, V2T 6H5
CATEGORIES:Private Member Event
END:VEVENT
END:VCALENDAR