BEGIN:VCALENDAR
VERSION:2.0
PRODID:-//Abbotsford Flying Club - ECPv6.0.0.1//NONSGML v1.0//EN
CALSCALE:GREGORIAN
METHOD:PUBLISH
X-WR-CALNAME:Abbotsford Flying Club
X-ORIGINAL-URL:https://www.abbotsfordflyingclub.ca
X-WR-CALDESC:Events for Abbotsford Flying Club
REFRESH-INTERVAL;VALUE=DURATION:PT1H
X-Robots-Tag:noindex
X-PUBLISHED-TTL:PT1H
BEGIN:VTIMEZONE
TZID:America/Vancouver
BEGIN:DAYLIGHT
TZOFFSETFROM:-0800
TZOFFSETTO:-0700
TZNAME:PDT
DTSTART:20230312T100000
END:DAYLIGHT
BEGIN:STANDARD
TZOFFSETFROM:-0700
TZOFFSETTO:-0800
TZNAME:PST
DTSTART:20231105T090000
END:STANDARD
END:VTIMEZONE
BEGIN:VEVENT
DTSTART;VALUE=DATE:20230913
DTEND;VALUE=DATE:20230918
DTSTAMP:20260422T074527
CREATED:20230817T090523Z
LAST-MODIFIED:20230817T090523Z
UID:13995-1694563200-1694995199@www.abbotsfordflyingclub.ca
SUMMARY:Reno Air Races Sept 13-17
DESCRIPTION:Drive\, fly or fly commercially.  This is the last time the air races will be held in Reno and possibly the last time ever.
URL:https://www.abbotsfordflyingclub.ca/event/reno-air-races-sept-13-17/
LOCATION:BC
CATEGORIES:Flyouts & Fly-Ins,Socials
END:VEVENT
BEGIN:VEVENT
DTSTART;VALUE=DATE:20230916
DTEND;VALUE=DATE:20230917
DTSTAMP:20260422T074527
CREATED:20230909T085135Z
LAST-MODIFIED:20230909T085325Z
UID:14011-1694822400-1694908799@www.abbotsfordflyingclub.ca
SUMMARY:Fairmont Hotsprings 2nd Annual Fly-in
DESCRIPTION:Join Us!\nSeptember 16\, 2023\, 9:00 am – 1:00 pm\nfor our 2nd annual Fly-in + Open House\nPLUS the Grand Opening of the new washroom facility. \nWhat’s there to do?\n– tour airplanes & the airport\n– breakfast by donation to the Lake Windermere Lions Club (available until 11:00am)\n– coffee/tea by donation to the Fairmont Lions Club\n– 50/50 raffle\n– ticketed raffles (20+ items!)\, tickets $10 for 10\, $25 for 30 or $40 for 60\n– kids games\n– learn about the airport’s operations & volunteers\n– information booths \nHelicopter tours (must be pre-booked and paid for)\, contact Glacier Helicopters at 250-341-7164.\n8 min. $75/person\, 18 mins $210/person\, 30 mins $345/person\nPlease be sure to bring cash to the event\,\nyour support is VERY appreciated.
URL:https://www.abbotsfordflyingclub.ca/event/fairmont-hotsprings-2nd-annual-fly-in/
LOCATION:BC
CATEGORIES:Flyouts & Fly-Ins
END:VEVENT
END:VCALENDAR