BEGIN:VCALENDAR
VERSION:2.0
PRODID:-//Abbotsford Flying Club - ECPv6.0.0.1//NONSGML v1.0//EN
CALSCALE:GREGORIAN
METHOD:PUBLISH
X-WR-CALNAME:Abbotsford Flying Club
X-ORIGINAL-URL:https://www.abbotsfordflyingclub.ca
X-WR-CALDESC:Events for Abbotsford Flying Club
REFRESH-INTERVAL;VALUE=DURATION:PT1H
X-Robots-Tag:noindex
X-PUBLISHED-TTL:PT1H
BEGIN:VTIMEZONE
TZID:America/Vancouver
BEGIN:DAYLIGHT
TZOFFSETFROM:-0800
TZOFFSETTO:-0700
TZNAME:PDT
DTSTART:20260308T100000
END:DAYLIGHT
BEGIN:STANDARD
TZOFFSETFROM:-0700
TZOFFSETTO:-0800
TZNAME:PST
DTSTART:20261101T090000
END:STANDARD
END:VTIMEZONE
BEGIN:VEVENT
DTSTART;VALUE=DATE:20260807
DTEND;VALUE=DATE:20260810
DTSTAMP:20260422T125713
CREATED:20260123T093725Z
LAST-MODIFIED:20260123T093811Z
UID:14886-1786060800-1786319999@www.abbotsfordflyingclub.ca
SUMMARY:Abbotsford International Airshow
DESCRIPTION:It’s all AFC hands on deck during the weekend to support the Airshow\, Campground\, Fly-in Parking\, Broken Prop\, Guest Hosting and more.  Registration and setup for various areas begins weeks and months in advance.  Contact a Board or committee member early to express your preferred area of involvement.  This is by far the largest AFC social event of the year.  You won’t want to miss it.
URL:https://www.abbotsfordflyingclub.ca/event/abbotsford-international-airshow-7/
LOCATION:Abbotsford Airport CYXX
CATEGORIES:Socials
ORGANIZER;CN="AFC%20Board":MAILTO:afcsec@gmail.com
END:VEVENT
END:VCALENDAR