BEGIN:VCALENDAR
VERSION:2.0
PRODID:-//Abbotsford Flying Club - ECPv6.0.0.1//NONSGML v1.0//EN
CALSCALE:GREGORIAN
METHOD:PUBLISH
X-WR-CALNAME:Abbotsford Flying Club
X-ORIGINAL-URL:https://www.abbotsfordflyingclub.ca
X-WR-CALDESC:Events for Abbotsford Flying Club
REFRESH-INTERVAL;VALUE=DURATION:PT1H
X-Robots-Tag:noindex
X-PUBLISHED-TTL:PT1H
BEGIN:VTIMEZONE
TZID:America/Vancouver
BEGIN:DAYLIGHT
TZOFFSETFROM:-0800
TZOFFSETTO:-0700
TZNAME:PDT
DTSTART:20260308T100000
END:DAYLIGHT
BEGIN:STANDARD
TZOFFSETFROM:-0700
TZOFFSETTO:-0800
TZNAME:PST
DTSTART:20261101T090000
END:STANDARD
END:VTIMEZONE
BEGIN:VEVENT
DTSTART;TZID=America/Vancouver:20260909T193000
DTEND;TZID=America/Vancouver:20260909T213000
DTSTAMP:20260422T141722
CREATED:20251119T035244Z
LAST-MODIFIED:20251119T035244Z
UID:14791-1788982200-1788989400@www.abbotsfordflyingclub.ca
SUMMARY:AFC General Meeting (Guests welcome)
DESCRIPTION:
URL:https://www.abbotsfordflyingclub.ca/event/afc-general-meeting-guests-welcome-5/
LOCATION:Hybrid (In-person at the clubhouse or Zoom)
CATEGORIES:Meetings
END:VEVENT
END:VCALENDAR