BEGIN:VCALENDAR
VERSION:2.0
PRODID:-//Abbotsford Flying Club - ECPv6.0.0.1//NONSGML v1.0//EN
CALSCALE:GREGORIAN
METHOD:PUBLISH
X-WR-CALNAME:Abbotsford Flying Club
X-ORIGINAL-URL:https://www.abbotsfordflyingclub.ca
X-WR-CALDESC:Events for Abbotsford Flying Club
REFRESH-INTERVAL;VALUE=DURATION:PT1H
X-Robots-Tag:noindex
X-PUBLISHED-TTL:PT1H
BEGIN:VTIMEZONE
TZID:America/Vancouver
BEGIN:DAYLIGHT
TZOFFSETFROM:-0800
TZOFFSETTO:-0700
TZNAME:PDT
DTSTART:20190310T100000
END:DAYLIGHT
BEGIN:STANDARD
TZOFFSETFROM:-0700
TZOFFSETTO:-0800
TZNAME:PST
DTSTART:20191103T090000
END:STANDARD
BEGIN:DAYLIGHT
TZOFFSETFROM:-0800
TZOFFSETTO:-0700
TZNAME:PDT
DTSTART:20200308T100000
END:DAYLIGHT
BEGIN:STANDARD
TZOFFSETFROM:-0700
TZOFFSETTO:-0800
TZNAME:PST
DTSTART:20201101T090000
END:STANDARD
BEGIN:DAYLIGHT
TZOFFSETFROM:-0800
TZOFFSETTO:-0700
TZNAME:PDT
DTSTART:20210314T100000
END:DAYLIGHT
BEGIN:STANDARD
TZOFFSETFROM:-0700
TZOFFSETTO:-0800
TZNAME:PST
DTSTART:20211107T090000
END:STANDARD
BEGIN:DAYLIGHT
TZOFFSETFROM:-0800
TZOFFSETTO:-0700
TZNAME:PDT
DTSTART:20220313T100000
END:DAYLIGHT
BEGIN:STANDARD
TZOFFSETFROM:-0700
TZOFFSETTO:-0800
TZNAME:PST
DTSTART:20221106T090000
END:STANDARD
BEGIN:DAYLIGHT
TZOFFSETFROM:-0800
TZOFFSETTO:-0700
TZNAME:PDT
DTSTART:20230312T100000
END:DAYLIGHT
BEGIN:STANDARD
TZOFFSETFROM:-0700
TZOFFSETTO:-0800
TZNAME:PST
DTSTART:20231105T090000
END:STANDARD
END:VTIMEZONE
BEGIN:VEVENT
DTSTART;TZID=America/Vancouver:20230415T100000
DTEND;TZID=America/Vancouver:20230415T120000
DTSTAMP:20260422T021313
CREATED:20230103T054107Z
LAST-MODIFIED:20230103T054107Z
UID:13309-1681552800-1681560000@www.abbotsfordflyingclub.ca
SUMMARY:Seminar: Maintenance requirements for certified GA
DESCRIPTION:Details TBA.  Contact Devin Campbell
URL:https://www.abbotsfordflyingclub.ca/event/seminar-maintenance-requirements-for-certified-ga/
CATEGORIES:Education & Training,IMC/ VMC Club
END:VEVENT
BEGIN:VEVENT
DTSTART;TZID=America/Vancouver:20230311T100000
DTEND;TZID=America/Vancouver:20230311T120000
DTSTAMP:20260422T021313
CREATED:20230103T053912Z
LAST-MODIFIED:20230103T053912Z
UID:13307-1678528800-1678536000@www.abbotsfordflyingclub.ca
SUMMARY:Seminar:  Cost of aircraft ownership
DESCRIPTION:Details TBA
URL:https://www.abbotsfordflyingclub.ca/event/seminar-cost-of-aircraft-ownership/
CATEGORIES:Education & Training,IMC/ VMC Club
END:VEVENT
BEGIN:VEVENT
DTSTART;TZID=America/Vancouver:20230211T100000
DTEND;TZID=America/Vancouver:20230211T120000
DTSTAMP:20260422T021313
CREATED:20230103T053735Z
LAST-MODIFIED:20230103T054339Z
UID:13305-1676109600-1676116800@www.abbotsfordflyingclub.ca
SUMMARY:Seminar (Virtual):  Airport Markings
DESCRIPTION:Details TBA.
URL:https://www.abbotsfordflyingclub.ca/event/seminar-airport-markings-virtual/
LOCATION:Zoom Online Meeting
CATEGORIES:Education & Training,IMC/ VMC Club
END:VEVENT
BEGIN:VEVENT
DTSTART;TZID=America/Vancouver:20230114T100000
DTEND;TZID=America/Vancouver:20230114T120000
DTSTAMP:20260422T021313
CREATED:20230103T053531Z
LAST-MODIFIED:20230104T055150Z
UID:13302-1673690400-1673697600@www.abbotsfordflyingclub.ca
SUMMARY:Seminar:  Arrival/Departure Procedures CYXX 10am start
DESCRIPTION:A seminar about the procedures for coming and going from the Abbotsford Airport.  This seminar will be held at the AFC Clubhouse and hosted by Bob Salway.  For those that would like to attend but wish to do so virtually\, we are going to try and have a virtual drop in section and see how a hybrid session will work for us.  An invite will be sent out for the virtual portion closer to the date of the event.
URL:https://www.abbotsfordflyingclub.ca/event/seminar-getting-in-out-of-yxx-10am-start/
LOCATION:AFC Lounge\, 30540 Approach Drive\, Abbotsford\, BC\, V2T 6H5\, Canada
CATEGORIES:Education & Training,IMC/ VMC Club
END:VEVENT
BEGIN:VEVENT
DTSTART;TZID=America/Vancouver:20220423T100000
DTEND;TZID=America/Vancouver:20220423T113000
DTSTAMP:20260422T021313
CREATED:20220423T051537Z
LAST-MODIFIED:20220423T052103Z
UID:12817-1650708000-1650713400@www.abbotsfordflyingclub.ca
SUMMARY:IMC Club @ 10am via Webex
DESCRIPTION:Join us for a Webex discussion about real life flying scenarios\, weather\, maps and charts\, including simulated trips. The subject matter is supplemented by real life stories\, examples and nuggets of knowledge as told by some high time pilots (old\, but not bold) now retired. Come and learn from those that have survived doing what we want do. If you want to listen to the actual guys who’ve gone before us and done it\, and have access to ask them questions\, you will not want to miss these sessions. \nUp coming topics:\n-Lower Mainland Airspace and VTA changes. A simulated trip to Victoria.\n-Mountain flying tips/tricks/gotchas. TBA \n  \nhttps://apa-bya.my.webex.com/apa-bya.my/j.php?MTID=md8f80e8f6cf74d3dd45395775c6231f1
URL:https://www.abbotsfordflyingclub.ca/event/imc-club-5/
LOCATION:WEBEX
CATEGORIES:Education & Training,IMC/ VMC Club
END:VEVENT
BEGIN:VEVENT
DTSTART;TZID=America/Vancouver:20220326T100000
DTEND;TZID=America/Vancouver:20220326T113000
DTSTAMP:20260422T021313
CREATED:20220315T190244Z
LAST-MODIFIED:20220326T190853Z
UID:12679-1648288800-1648294200@www.abbotsfordflyingclub.ca
SUMMARY:IMC Club 10am via Webex
DESCRIPTION:Join us for a Webex discussion about real life flying scenarios\, weather\, maps and charts\, including simulated trips. The subject matter is supplemented by real life stories\, examples and nuggets of knowledge as told by some high time pilots (old\, but not bold) now retired. Come and learn from those that have survived doing what we want do.  If you want to listen to the actual guys who’ve gone before us and done it\, and have access to ask them questions\, you will not want to miss these sessions.   \nUp coming topics:\n-Border crossing tips/tricks\, ADSB\, EAPIS.  Feb 26\n-Lower Mainland Airspace and VTA changes.  A simulated trip to Victoria.   Mar 26\n-Mountain flying tips/tricks/gotchas. TBA \nNOTE:  WEBEX links for IMC Club sessions will be posted here as they become available.  If you would like to be put on an email list to automatically receive the Webex links\, send an email to devcamp@telus.net \nWEBEX LINK: \nhttps://apa-bya.my.webex.com/apa-bya.my/j.php?MTID=mdfd866994672c6b7b62b1dc25f006886\nSaturday\, Mar 26\, 2022 10:00 am | 1 hour 30 minutes | (UTC-07:00) Pacific Time (US & Canada)\nMeeting number: 2554 599 3963\nPassword: PFiAtTpj373 (73428875 from phones and video systems) \nJoin by video system\nDial 25545993963@webex.com\nYou can also dial 173.243.2.68 and enter your meeting number. \nJoin by phone\n+1-415-655-0001 US Toll \nAccess code: 255 459 93963
URL:https://www.abbotsfordflyingclub.ca/event/imc-club-4/
LOCATION:WEBEX
CATEGORIES:Education & Training,IMC/ VMC Club
END:VEVENT
BEGIN:VEVENT
DTSTART;TZID=America/Vancouver:20220226T100000
DTEND;TZID=America/Vancouver:20220226T113000
DTSTAMP:20260422T021313
CREATED:20220226T032304Z
LAST-MODIFIED:20220226T032957Z
UID:12639-1645869600-1645875000@www.abbotsfordflyingclub.ca
SUMMARY:IMC CLUB 10am EAPIS\, Lower Mainland Airspace
DESCRIPTION:Join us for a discussion about EAPIS (cross border operations) and Lower Mainland Airspace.  10AM Saturday Feb 26\, 2022 \nJoin from the meeting link\nhttps://apa-bya.my.webex.com/apa-bya.my/j.php?MTID=m823da5ce3097b7f5afd2ed151e477e32 \nJoin by meeting number\nMeeting number (access code): 2551 490 6517\nMeeting password: bMsrwD7Za64 (26779379 from phones and video systems) \nTap to join from a mobile device (attendees only)\n+1-415-655-0001\,\,25514906517#26779379# US Toll\nSome mobile devices may ask attendees to enter a numeric password. \nJoin by phone\n+1-415-655-0001 US Toll\nGlobal call-in numbers \nJoin by video system\, application or Skype for business\nDial 25514906517@webex.com\nYou can also dial 173.243.2.68 and enter your meeting number.
URL:https://www.abbotsfordflyingclub.ca/event/imc-club-10am-saturday-feb-26/
LOCATION:WEBEX
CATEGORIES:Education & Training,IMC/ VMC Club
END:VEVENT
BEGIN:VEVENT
DTSTART;TZID=America/Vancouver:20210129T193000
DTEND;TZID=America/Vancouver:20210129T213000
DTSTAMP:20260422T021313
CREATED:20210122T012012Z
LAST-MODIFIED:20210122T012012Z
UID:11627-1611948600-1611955800@www.abbotsfordflyingclub.ca
SUMMARY:Flight Safety Seminar with Warren Legrice
DESCRIPTION:Winter Flying Considerations – January 29\, 19:30\n\n\nPlease note you will have to visit www.webex.com and register for a free account in order to join the various workshops. I would encourage members to take advantage of this learning opportunity.\n\nOnce members have obtained their free account\, please advise John Palmer\, Chair Flight Safety Committee and he will ensure you receive invitations to join the workshops. John can be reached at flightsafety@abbotsfordflyingclub.ca or johnandmireia@shaw.ca to schedule your attendance \n  \nAlso\, you can email Warren Legrice at wlegrice@gmail.com to schedule
URL:https://www.abbotsfordflyingclub.ca/event/flight-safety-seminar-with-warren-legrice-2/
LOCATION:WEBEX
CATEGORIES:Education & Training,IMC/ VMC Club
END:VEVENT
BEGIN:VEVENT
DTSTART;TZID=America/Vancouver:20210122T193000
DTEND;TZID=America/Vancouver:20210122T203000
DTSTAMP:20260422T021313
CREATED:20210122T011902Z
LAST-MODIFIED:20210122T011902Z
UID:11624-1611343800-1611347400@www.abbotsfordflyingclub.ca
SUMMARY:Flight Safety Seminar with Warren Legrice
DESCRIPTION: \nPDM Part 2 -January 22\, 1930 to\n \n\nPlease note you will have to visit www.webex.com and register for a free account in order to join the various workshops. I would encourage members to take advantage of this learning opportunity.\n\nOnce members have obtained their free account\, please advise John Palmer\, Chair Flight Safety Committee and he will ensure you receive invitations to join the workshops. John can be reached at flightsafety@abbotsfordflyingclub.ca or johnandmireia@shaw.ca to schedule your attendance \n  \nAlso\, you can email Warren Legrice at wlegrice@gmail.com to schedule
URL:https://www.abbotsfordflyingclub.ca/event/flight-safety-seminar-with-warren-legrice/
LOCATION:WEBEX
CATEGORIES:Education & Training,IMC/ VMC Club
END:VEVENT
BEGIN:VEVENT
DTSTART;TZID=America/Vancouver:20191026T090000
DTEND;TZID=America/Vancouver:20191026T120000
DTSTAMP:20260422T021313
CREATED:20190827T151321Z
LAST-MODIFIED:20190827T151321Z
UID:9155-1572080400-1572091200@www.abbotsfordflyingclub.ca
SUMMARY:IMC Club Meeting
DESCRIPTION:IMC Club meeting \nHosted by Warren Le Grice \nOctober 26 0930 – 1200 hrs \n 
URL:https://www.abbotsfordflyingclub.ca/event/imc-club-meeting-9/
LOCATION:AFC Meeting Room\, 30540 Approach Drive\, Abbotsford\, BC\, V2T 6H5\, Canada
CATEGORIES:Education & Training,IMC/ VMC Club
END:VEVENT
BEGIN:VEVENT
DTSTART;TZID=America/Vancouver:20190928T090000
DTEND;TZID=America/Vancouver:20190928T120000
DTSTAMP:20260422T021313
CREATED:20190827T151218Z
LAST-MODIFIED:20190827T151218Z
UID:9153-1569661200-1569672000@www.abbotsfordflyingclub.ca
SUMMARY:IMC Club Meeting
DESCRIPTION:IMC Club meeting \nHosted by Warren Le Grice \nSept 28 0930 – 1200 hrs \n 
URL:https://www.abbotsfordflyingclub.ca/event/imc-club-meeting-8/
LOCATION:AFC Meeting Room\, 30540 Approach Drive\, Abbotsford\, BC\, V2T 6H5\, Canada
CATEGORIES:Education & Training,IMC/ VMC Club
END:VEVENT
BEGIN:VEVENT
DTSTART;TZID=America/Vancouver:20190629T090000
DTEND;TZID=America/Vancouver:20190629T120000
DTSTAMP:20260422T021313
CREATED:20190529T040810Z
LAST-MODIFIED:20190529T040810Z
UID:8849-1561798800-1561809600@www.abbotsfordflyingclub.ca
SUMMARY:IMC/ VMC Club June 29
DESCRIPTION:IMC/VMC Club June 29th\, 9:30 am to 12:00
URL:https://www.abbotsfordflyingclub.ca/event/imc-vmc-club-june-29/
CATEGORIES:Education & Training,IMC/ VMC Club
END:VEVENT
END:VCALENDAR