BEGIN:VCALENDAR
VERSION:2.0
PRODID:-//Abbotsford Flying Club - ECPv6.0.0.1//NONSGML v1.0//EN
CALSCALE:GREGORIAN
METHOD:PUBLISH
X-WR-CALNAME:Abbotsford Flying Club
X-ORIGINAL-URL:https://www.abbotsfordflyingclub.ca
X-WR-CALDESC:Events for Abbotsford Flying Club
REFRESH-INTERVAL;VALUE=DURATION:PT1H
X-Robots-Tag:noindex
X-PUBLISHED-TTL:PT1H
BEGIN:VTIMEZONE
TZID:America/Vancouver
BEGIN:DAYLIGHT
TZOFFSETFROM:-0800
TZOFFSETTO:-0700
TZNAME:PDT
DTSTART:20220313T100000
END:DAYLIGHT
BEGIN:STANDARD
TZOFFSETFROM:-0700
TZOFFSETTO:-0800
TZNAME:PST
DTSTART:20221106T090000
END:STANDARD
END:VTIMEZONE
BEGIN:VEVENT
DTSTART;TZID=America/Vancouver:20221125T180000
DTEND;TZID=America/Vancouver:20221125T200000
DTSTAMP:20260422T151526
CREATED:20220906T081006Z
LAST-MODIFIED:20220906T081006Z
UID:13076-1669399200-1669406400@www.abbotsfordflyingclub.ca
SUMMARY:TGIF Friday
DESCRIPTION:Bring dinner and your spouse\, and relax at the airport.  On the back lawn if the evening weather is nice\, otherwise inside around the fireplace\, pool table\, and the big screen.
URL:https://www.abbotsfordflyingclub.ca/event/tgif-friday-11/
LOCATION:AFC Lounge and Patio\, 30540 Approach Drive\, Abbotsford\, BC\, V2T 6H5\, Canada
CATEGORIES:Socials
END:VEVENT
BEGIN:VEVENT
DTSTART;TZID=America/Vancouver:20221123T120000
DTEND;TZID=America/Vancouver:20221123T130000
DTSTAMP:20260422T151526
CREATED:20220906T083446Z
LAST-MODIFIED:20220906T083446Z
UID:13111-1669204800-1669208400@www.abbotsfordflyingclub.ca
SUMMARY:Dutch Lunch
DESCRIPTION:Bring a bag lunch for an informal lunch with fellow members in the lounge.
URL:https://www.abbotsfordflyingclub.ca/event/dutch-lunch-12/
LOCATION:AFC Lounge and Patio\, 30540 Approach Drive\, Abbotsford\, BC\, V2T 6H5\, Canada
CATEGORIES:Socials
END:VEVENT
BEGIN:VEVENT
DTSTART;TZID=America/Vancouver:20221120T150000
DTEND;TZID=America/Vancouver:20221120T180000
DTSTAMP:20260422T151526
CREATED:20220906T072012Z
LAST-MODIFIED:20220906T072012Z
UID:13011-1668956400-1668967200@www.abbotsfordflyingclub.ca
SUMMARY:May Day Choir Practice - Private Event
DESCRIPTION:
URL:https://www.abbotsfordflyingclub.ca/event/may-day-choir-practice-private-event-6/
LOCATION:AFC Clubhouse\, 30540 Approach Drive\, Abbotsford\, BC\, V2T 6H5\, Canada
CATEGORIES:Private Member Event
END:VEVENT
BEGIN:VEVENT
DTSTART;TZID=America/Vancouver:20221120T083000
DTEND;TZID=America/Vancouver:20221120T120000
DTSTAMP:20260422T151526
CREATED:20220906T075130Z
LAST-MODIFIED:20220906T075130Z
UID:13044-1668933000-1668945600@www.abbotsfordflyingclub.ca
SUMMARY:Sunday Morning Breakfast Fly-out
DESCRIPTION:Destination TBA weather and aircraft availability permitting.  Meet at the Clubhouse at 8:30am.  All welcome.
URL:https://www.abbotsfordflyingclub.ca/event/sunday-morning-breakfast-fly-out-10/
LOCATION:BC
CATEGORIES:Flyouts & Fly-Ins
END:VEVENT
BEGIN:VEVENT
DTSTART;TZID=America/Vancouver:20221118T180000
DTEND;TZID=America/Vancouver:20221118T200000
DTSTAMP:20260422T151526
CREATED:20220906T080911Z
LAST-MODIFIED:20220906T080911Z
UID:13074-1668794400-1668801600@www.abbotsfordflyingclub.ca
SUMMARY:TGIF Friday
DESCRIPTION:Bring dinner and your spouse\, and relax at the airport.  On the back lawn if the evening weather is nice\, otherwise inside around the fireplace\, pool table\, and the big screen.
URL:https://www.abbotsfordflyingclub.ca/event/tgif-friday-10/
LOCATION:AFC Lounge and Patio\, 30540 Approach Drive\, Abbotsford\, BC\, V2T 6H5\, Canada
CATEGORIES:Socials
END:VEVENT
BEGIN:VEVENT
DTSTART;TZID=America/Vancouver:20221116T120000
DTEND;TZID=America/Vancouver:20221116T130000
DTSTAMP:20260422T151526
CREATED:20220906T083344Z
LAST-MODIFIED:20220906T083344Z
UID:13109-1668600000-1668603600@www.abbotsfordflyingclub.ca
SUMMARY:Dutch Lunch
DESCRIPTION:Bring a bag lunch for an informal lunch with fellow members in the lounge.
URL:https://www.abbotsfordflyingclub.ca/event/dutch-lunch-11/
LOCATION:AFC Lounge and Patio\, 30540 Approach Drive\, Abbotsford\, BC\, V2T 6H5\, Canada
CATEGORIES:Socials
END:VEVENT
BEGIN:VEVENT
DTSTART;TZID=America/Vancouver:20221113T080000
DTEND;TZID=America/Vancouver:20221113T170000
DTSTAMP:20260422T151526
CREATED:20220906T075048Z
LAST-MODIFIED:20220906T075048Z
UID:13042-1668326400-1668358800@www.abbotsfordflyingclub.ca
SUMMARY:Sunday Morning Breakfast Fly-out
DESCRIPTION:Destination TBA weather and aircraft availability permitting.  Meet at the Clubhouse at 8:30am.  All welcome.
URL:https://www.abbotsfordflyingclub.ca/event/sunday-morning-breakfast-fly-out-9/
LOCATION:BC
CATEGORIES:Flyouts & Fly-Ins
END:VEVENT
BEGIN:VEVENT
DTSTART;TZID=America/Vancouver:20221111T180000
DTEND;TZID=America/Vancouver:20221111T200000
DTSTAMP:20260422T151526
CREATED:20220906T080817Z
LAST-MODIFIED:20220906T080817Z
UID:13072-1668189600-1668196800@www.abbotsfordflyingclub.ca
SUMMARY:TGIF Friday
DESCRIPTION:Bring dinner and your spouse\, and relax at the airport.  On the back lawn if the evening weather is nice\, otherwise inside around the fireplace\, pool table\, and the big screen.
URL:https://www.abbotsfordflyingclub.ca/event/tgif-friday-9/
LOCATION:BC
CATEGORIES:Socials
END:VEVENT
BEGIN:VEVENT
DTSTART;TZID=America/Vancouver:20221109T120000
DTEND;TZID=America/Vancouver:20221109T130000
DTSTAMP:20260422T151526
CREATED:20220906T083239Z
LAST-MODIFIED:20220906T083239Z
UID:13107-1667995200-1667998800@www.abbotsfordflyingclub.ca
SUMMARY:Dutch Lunch
DESCRIPTION:Bring a bag lunch for an informal lunch with fellow members in the lounge.
URL:https://www.abbotsfordflyingclub.ca/event/dutch-lunch-10/
LOCATION:AFC Lounge and Patio\, 30540 Approach Drive\, Abbotsford\, BC\, V2T 6H5\, Canada
CATEGORIES:Socials
END:VEVENT
BEGIN:VEVENT
DTSTART;TZID=America/Vancouver:20221106T150000
DTEND;TZID=America/Vancouver:20221106T180000
DTSTAMP:20260422T151526
CREATED:20220906T071904Z
LAST-MODIFIED:20220906T071904Z
UID:13009-1667746800-1667757600@www.abbotsfordflyingclub.ca
SUMMARY:May Day Choir Practice - Private Event
DESCRIPTION:
URL:https://www.abbotsfordflyingclub.ca/event/may-day-choir-practice-private-event-5/
LOCATION:AFC Clubhouse\, 30540 Approach Drive\, Abbotsford\, BC\, V2T 6H5
CATEGORIES:Private Member Event
END:VEVENT
BEGIN:VEVENT
DTSTART;TZID=America/Vancouver:20221106T083000
DTEND;TZID=America/Vancouver:20221106T120000
DTSTAMP:20260422T151526
CREATED:20220906T075008Z
LAST-MODIFIED:20220906T075008Z
UID:13040-1667723400-1667736000@www.abbotsfordflyingclub.ca
SUMMARY:Sunday Morning Breakfast Fly-out
DESCRIPTION:Destination TBA weather and aircraft availability permitting.  Meet at the Clubhouse at 8:30am.  All welcome.
URL:https://www.abbotsfordflyingclub.ca/event/sunday-morning-breakfast-fly-out-8/
LOCATION:BC
CATEGORIES:Flyouts & Fly-Ins
END:VEVENT
BEGIN:VEVENT
DTSTART;TZID=America/Vancouver:20221104T180000
DTEND;TZID=America/Vancouver:20221104T200000
DTSTAMP:20260422T151526
CREATED:20220906T080734Z
LAST-MODIFIED:20220906T080734Z
UID:13070-1667584800-1667592000@www.abbotsfordflyingclub.ca
SUMMARY:TGIF Friday
DESCRIPTION:Bring dinner and your spouse\, and relax at the airport.  On the back lawn if the evening weather is nice\, otherwise inside around the fireplace\, pool table\, and the big screen.
URL:https://www.abbotsfordflyingclub.ca/event/tgif-friday-8/
LOCATION:AFC Lounge and Patio\, 30540 Approach Drive\, Abbotsford\, BC\, V2T 6H5\, Canada
CATEGORIES:Socials
END:VEVENT
BEGIN:VEVENT
DTSTART;TZID=America/Vancouver:20221102T120000
DTEND;TZID=America/Vancouver:20221102T130000
DTSTAMP:20260422T151526
CREATED:20220906T083158Z
LAST-MODIFIED:20220906T083158Z
UID:13105-1667390400-1667394000@www.abbotsfordflyingclub.ca
SUMMARY:Dutch Lunch
DESCRIPTION:Bring a bag lunch for an informal lunch with fellow members in the lounge.
URL:https://www.abbotsfordflyingclub.ca/event/dutch-lunch-9/
LOCATION:AFC Lounge and Patio\, 30540 Approach Drive\, Abbotsford\, BC\, V2T 6H5\, Canada
CATEGORIES:Socials
END:VEVENT
BEGIN:VEVENT
DTSTART;TZID=America/Vancouver:20221030T080000
DTEND;TZID=America/Vancouver:20221030T170000
DTSTAMP:20260422T151527
CREATED:20220906T074928Z
LAST-MODIFIED:20220906T074929Z
UID:13038-1667116800-1667149200@www.abbotsfordflyingclub.ca
SUMMARY:Sunday Morning Breakfast Fly-out
DESCRIPTION:Destination TBA weather and aircraft availability permitting.  Meet at the Clubhouse at 8:30am.  All welcome.
URL:https://www.abbotsfordflyingclub.ca/event/sunday-morning-breakfast-fly-out-7/
LOCATION:BC
CATEGORIES:Flyouts & Fly-Ins
END:VEVENT
BEGIN:VEVENT
DTSTART;TZID=America/Vancouver:20221026T120000
DTEND;TZID=America/Vancouver:20221026T130000
DTSTAMP:20260422T151527
CREATED:20220906T083055Z
LAST-MODIFIED:20220906T083055Z
UID:13103-1666785600-1666789200@www.abbotsfordflyingclub.ca
SUMMARY:Dutch Lunch
DESCRIPTION:Bring a bag lunch for an informal lunch with fellow members in the lounge.
URL:https://www.abbotsfordflyingclub.ca/event/dutch-lunch-8/
LOCATION:AFC Lounge and Patio\, 30540 Approach Drive\, Abbotsford\, BC\, V2T 6H5\, Canada
CATEGORIES:Socials
END:VEVENT
BEGIN:VEVENT
DTSTART;TZID=America/Vancouver:20221023T150000
DTEND;TZID=America/Vancouver:20221023T180000
DTSTAMP:20260422T151527
CREATED:20220906T071730Z
LAST-MODIFIED:20220906T071730Z
UID:13007-1666537200-1666548000@www.abbotsfordflyingclub.ca
SUMMARY:May Day Choir Practice - Private Event
DESCRIPTION:
URL:https://www.abbotsfordflyingclub.ca/event/may-day-choir-practice-private-event-4/
LOCATION:AFC Clubhouse\, 30540 Approach Drive\, Abbotsford\, BC\, V2T 6H5
CATEGORIES:Private Member Event
END:VEVENT
BEGIN:VEVENT
DTSTART;TZID=America/Vancouver:20221023T083000
DTEND;TZID=America/Vancouver:20221023T120000
DTSTAMP:20260422T151527
CREATED:20220906T074853Z
LAST-MODIFIED:20220906T074853Z
UID:13036-1666513800-1666526400@www.abbotsfordflyingclub.ca
SUMMARY:Sunday Morning Breakfast Fly-out
DESCRIPTION:Destination TBA weather and aircraft availability permitting.  Meet at the Clubhouse at 8:30am.  All welcome.
URL:https://www.abbotsfordflyingclub.ca/event/sunday-morning-breakfast-fly-out-6/
LOCATION:BC
CATEGORIES:Flyouts & Fly-Ins
END:VEVENT
BEGIN:VEVENT
DTSTART;TZID=America/Vancouver:20221021T180000
DTEND;TZID=America/Vancouver:20221021T200000
DTSTAMP:20260422T151527
CREATED:20220906T080650Z
LAST-MODIFIED:20220906T080650Z
UID:13068-1666375200-1666382400@www.abbotsfordflyingclub.ca
SUMMARY:TGIF Friday
DESCRIPTION:Bring dinner and your spouse\, and relax at the airport.  On the back lawn if the evening weather is nice\, otherwise inside around the fireplace\, pool table\, and the big screen.
URL:https://www.abbotsfordflyingclub.ca/event/tgif-friday-7/
LOCATION:AFC Lounge and Patio\, 30540 Approach Drive\, Abbotsford\, BC\, V2T 6H5\, Canada
CATEGORIES:Socials
END:VEVENT
BEGIN:VEVENT
DTSTART;TZID=America/Vancouver:20221019T120000
DTEND;TZID=America/Vancouver:20221019T130000
DTSTAMP:20260422T151527
CREATED:20220906T083013Z
LAST-MODIFIED:20220906T083013Z
UID:13101-1666180800-1666184400@www.abbotsfordflyingclub.ca
SUMMARY:Dutch Lunch
DESCRIPTION:Bring a bag lunch for an informal lunch with fellow members in the lounge.
URL:https://www.abbotsfordflyingclub.ca/event/dutch-lunch-7/
LOCATION:AFC Lounge and Patio\, 30540 Approach Drive\, Abbotsford\, BC\, V2T 6H5\, Canada
CATEGORIES:Socials
END:VEVENT
BEGIN:VEVENT
DTSTART;TZID=America/Vancouver:20221016T150000
DTEND;TZID=America/Vancouver:20221016T180000
DTSTAMP:20260422T151527
CREATED:20220906T071642Z
LAST-MODIFIED:20220906T073246Z
UID:13005-1665932400-1665943200@www.abbotsfordflyingclub.ca
SUMMARY:May Day Choir Practice - Private Event
DESCRIPTION:
URL:https://www.abbotsfordflyingclub.ca/event/may-day-choir-practice-private-event-3/
LOCATION:AFC Clubhouse\, 30540 Approach Drive\, Abbotsford\, BC\, V2T 6H5
CATEGORIES:Private Member Event
END:VEVENT
BEGIN:VEVENT
DTSTART;TZID=America/Vancouver:20221016T083000
DTEND;TZID=America/Vancouver:20221016T120000
DTSTAMP:20260422T151527
CREATED:20220906T074814Z
LAST-MODIFIED:20220906T074814Z
UID:13034-1665909000-1665921600@www.abbotsfordflyingclub.ca
SUMMARY:Sunday Morning Breakfast Fly-out
DESCRIPTION:Destination TBA weather and aircraft availability permitting.  Meet at the Clubhouse at 8:30am.  All welcome.
URL:https://www.abbotsfordflyingclub.ca/event/sunday-morning-breakfast-fly-out-5/
LOCATION:BC
CATEGORIES:Flyouts & Fly-Ins
END:VEVENT
BEGIN:VEVENT
DTSTART;TZID=America/Vancouver:20221014T180000
DTEND;TZID=America/Vancouver:20221014T200000
DTSTAMP:20260422T151527
CREATED:20220906T080606Z
LAST-MODIFIED:20220906T080606Z
UID:13066-1665770400-1665777600@www.abbotsfordflyingclub.ca
SUMMARY:TGIF Friday
DESCRIPTION:Bring dinner and your spouse\, and relax at the airport.  On the back lawn if the evening weather is nice\, otherwise inside around the fireplace\, pool table\, and the big screen.
URL:https://www.abbotsfordflyingclub.ca/event/tgif-friday-6/
LOCATION:BC
CATEGORIES:Socials
END:VEVENT
BEGIN:VEVENT
DTSTART;TZID=America/Vancouver:20221012T193000
DTEND;TZID=America/Vancouver:20221012T233000
DTSTAMP:20260422T151527
CREATED:20220318T092310Z
LAST-MODIFIED:20220620T231250Z
UID:12717-1665603000-1665617400@www.abbotsfordflyingclub.ca
SUMMARY:Annual General Meeting - Members only
DESCRIPTION:Details TBA
URL:https://www.abbotsfordflyingclub.ca/event/annual-general-meeting-members-only/
LOCATION:BC
CATEGORIES:Community,Meetings,Socials
ORGANIZER;CN="AFC%20Board":MAILTO:afcsec@gmail.com
END:VEVENT
BEGIN:VEVENT
DTSTART;TZID=America/Vancouver:20221012T120000
DTEND;TZID=America/Vancouver:20221012T130000
DTSTAMP:20260422T151527
CREATED:20220906T082932Z
LAST-MODIFIED:20220906T082932Z
UID:13099-1665576000-1665579600@www.abbotsfordflyingclub.ca
SUMMARY:Dutch Lunch
DESCRIPTION:Bring a bag lunch for an informal lunch with fellow members in the lounge.
URL:https://www.abbotsfordflyingclub.ca/event/dutch-lunch-6/
LOCATION:AFC Lounge and Patio\, 30540 Approach Drive\, Abbotsford\, BC\, V2T 6H5\, Canada
CATEGORIES:Socials
END:VEVENT
BEGIN:VEVENT
DTSTART;TZID=America/Vancouver:20221009T083000
DTEND;TZID=America/Vancouver:20221009T120000
DTSTAMP:20260422T151527
CREATED:20220906T074704Z
LAST-MODIFIED:20220906T074731Z
UID:13031-1665304200-1665316800@www.abbotsfordflyingclub.ca
SUMMARY:Sunday Morning Breakfast Fly-out
DESCRIPTION:Destination TBA weather and aircraft availability permitting.  Meet at the Clubhouse at 8:30am.  All welcome.
URL:https://www.abbotsfordflyingclub.ca/event/sunday-morning-breakfast-fly-out-4/
LOCATION:BC
CATEGORIES:Flyouts & Fly-Ins
END:VEVENT
BEGIN:VEVENT
DTSTART;TZID=America/Vancouver:20221008T080000
DTEND;TZID=America/Vancouver:20221008T160000
DTSTAMP:20260422T151527
CREATED:20220304T104650Z
LAST-MODIFIED:20220620T231250Z
UID:12659-1665216000-1665244800@www.abbotsfordflyingclub.ca
SUMMARY:CASARA Training Session
DESCRIPTION:
URL:https://www.abbotsfordflyingclub.ca/event/casara-training-session-7/
LOCATION:AFC Meeting Room\, 30540 Approach Drive\, Abbotsford\, BC\, V2T 6H5\, Canada
CATEGORIES:CASARA,Community
ORGANIZER;CN="Dennis%20Nevett%20%28CASARA%29":MAILTO:yxxcasara@telus.net
END:VEVENT
BEGIN:VEVENT
DTSTART;TZID=America/Vancouver:20221007T180000
DTEND;TZID=America/Vancouver:20221007T200000
DTSTAMP:20260422T151527
CREATED:20220906T080531Z
LAST-MODIFIED:20220906T080531Z
UID:13064-1665165600-1665172800@www.abbotsfordflyingclub.ca
SUMMARY:TGIF Friday
DESCRIPTION:Bring dinner and your spouse\, and relax at the airport.  On the back lawn if the evening weather is nice\, otherwise inside around the fireplace\, pool table\, and the big screen.
URL:https://www.abbotsfordflyingclub.ca/event/tgif-friday-5/
LOCATION:BC
CATEGORIES:Socials
END:VEVENT
BEGIN:VEVENT
DTSTART;TZID=America/Vancouver:20221007T080000
DTEND;TZID=America/Vancouver:20221007T160000
DTSTAMP:20260422T151527
CREATED:20221007T181057Z
LAST-MODIFIED:20221007T181057Z
UID:13189-1665129600-1665158400@www.abbotsfordflyingclub.ca
SUMMARY:CASARA Training Session
DESCRIPTION:
URL:https://www.abbotsfordflyingclub.ca/event/casara-training-session-10/
LOCATION:AFC Meeting Room\, 30540 Approach Drive\, Abbotsford\, BC\, V2T 6H5\, Canada
ORGANIZER;CN="Dennis%20Nevett%20%28CASARA%29":MAILTO:yxxcasara@telus.net
END:VEVENT
BEGIN:VEVENT
DTSTART;TZID=America/Vancouver:20221005T120000
DTEND;TZID=America/Vancouver:20221005T130000
DTSTAMP:20260422T151527
CREATED:20220906T082851Z
LAST-MODIFIED:20220906T082851Z
UID:13097-1664971200-1664974800@www.abbotsfordflyingclub.ca
SUMMARY:Dutch Lunch
DESCRIPTION:Bring a bag lunch for an informal lunch with fellow members in the lounge.
URL:https://www.abbotsfordflyingclub.ca/event/dutch-lunch-5/
LOCATION:AFC Lounge and Patio\, 30540 Approach Drive\, Abbotsford\, BC\, V2T 6H5\, Canada
CATEGORIES:Socials
END:VEVENT
BEGIN:VEVENT
DTSTART;TZID=America/Vancouver:20221002T150000
DTEND;TZID=America/Vancouver:20221002T180000
DTSTAMP:20260422T151527
CREATED:20220906T071441Z
LAST-MODIFIED:20220906T071441Z
UID:13001-1664722800-1664733600@www.abbotsfordflyingclub.ca
SUMMARY:May Day Choir Practice - Private Event
DESCRIPTION:
URL:https://www.abbotsfordflyingclub.ca/event/may-day-choir-practice-private-event/
LOCATION:AFC Clubhouse\, 30540 Approach Drive\, Abbotsford\, BC\, V2T 6H5
CATEGORIES:Private Member Event
END:VEVENT
END:VCALENDAR