BEGIN:VCALENDAR
VERSION:2.0
PRODID:-//Abbotsford Flying Club - ECPv6.0.0.1//NONSGML v1.0//EN
CALSCALE:GREGORIAN
METHOD:PUBLISH
X-WR-CALNAME:Abbotsford Flying Club
X-ORIGINAL-URL:https://www.abbotsfordflyingclub.ca
X-WR-CALDESC:Events for Abbotsford Flying Club
REFRESH-INTERVAL;VALUE=DURATION:PT1H
X-Robots-Tag:noindex
X-PUBLISHED-TTL:PT1H
BEGIN:VTIMEZONE
TZID:America/Vancouver
BEGIN:DAYLIGHT
TZOFFSETFROM:-0800
TZOFFSETTO:-0700
TZNAME:PDT
DTSTART:20260308T100000
END:DAYLIGHT
BEGIN:STANDARD
TZOFFSETFROM:-0700
TZOFFSETTO:-0800
TZNAME:PST
DTSTART:20261101T090000
END:STANDARD
END:VTIMEZONE
BEGIN:VEVENT
DTSTART;VALUE=DATE:20260712
DTEND;VALUE=DATE:20260713
DTSTAMP:20260422T155311
CREATED:20260123T092324Z
LAST-MODIFIED:20260123T092324Z
UID:14883-1783814400-1783900799@www.abbotsfordflyingclub.ca
SUMMARY:Wings and Wheels - Guests welcome!
DESCRIPTION:Bring your aircraft or Classic Car for an afternoon of fun\, relaxation\, show and tell on the back lawn of the AFC.
URL:https://www.abbotsfordflyingclub.ca/event/wings-and-wheels-guests-welcome-2/
LOCATION:AFC Lounge and Patio\, 30540 Approach Drive\, Abbotsford\, BC\, V2T 6H5\, Canada
CATEGORIES:Flyouts & Fly-Ins,Socials
END:VEVENT
BEGIN:VEVENT
DTSTART;TZID=America/Vancouver:20260711T080000
DTEND;TZID=America/Vancouver:20260711T160000
DTSTAMP:20260422T155311
CREATED:20251119T034528Z
LAST-MODIFIED:20251119T034528Z
UID:14775-1783756800-1783785600@www.abbotsfordflyingclub.ca
SUMMARY:CASARA Training Session
DESCRIPTION:
URL:https://www.abbotsfordflyingclub.ca/event/casara-training-session-46/
LOCATION:AFC Meeting Room\, 30540 Approach Drive\, Abbotsford\, BC\, V2T 6H5\, Canada
CATEGORIES:CASARA
ORGANIZER;CN="Dennis%20Nevett%20%28CASARA%29":MAILTO:yxxcasara@telus.net
END:VEVENT
BEGIN:VEVENT
DTSTART;TZID=America/Vancouver:20260708T193000
DTEND;TZID=America/Vancouver:20260708T213000
DTSTAMP:20260422T155311
CREATED:20251119T035200Z
LAST-MODIFIED:20251119T035200Z
UID:14789-1783539000-1783546200@www.abbotsfordflyingclub.ca
SUMMARY:AFC General Meeting (Guests welcome)
DESCRIPTION:
URL:https://www.abbotsfordflyingclub.ca/event/afc-general-meeting-guests-welcome-4/
LOCATION:Hybrid (In-person at the clubhouse or Zoom)
CATEGORIES:Meetings
END:VEVENT
BEGIN:VEVENT
DTSTART;TZID=America/Vancouver:20260614T150000
DTEND;TZID=America/Vancouver:20260614T173000
DTSTAMP:20260422T155311
CREATED:20260123T092043Z
LAST-MODIFIED:20260123T092043Z
UID:14881-1781449200-1781458200@www.abbotsfordflyingclub.ca
SUMMARY:Mayday Club Choir Practice - Private Event
DESCRIPTION:
URL:https://www.abbotsfordflyingclub.ca/event/mayday-club-choir-practice-private-event-3/
LOCATION:AFC Clubhouse\, 30540 Approach Drive\, Abbotsford\, BC\, V2T 6H5
CATEGORIES:Private Member Event
END:VEVENT
BEGIN:VEVENT
DTSTART;TZID=America/Vancouver:20260613T080000
DTEND;TZID=America/Vancouver:20260613T160000
DTSTAMP:20260422T155311
CREATED:20251119T034444Z
LAST-MODIFIED:20251119T034444Z
UID:14773-1781337600-1781366400@www.abbotsfordflyingclub.ca
SUMMARY:CASARA Training Session
DESCRIPTION:
URL:https://www.abbotsfordflyingclub.ca/event/casara-training-session-45/
LOCATION:AFC Meeting Room\, 30540 Approach Drive\, Abbotsford\, BC\, V2T 6H5\, Canada
CATEGORIES:CASARA
ORGANIZER;CN="Dennis%20Nevett%20%28CASARA%29":MAILTO:yxxcasara@telus.net
END:VEVENT
BEGIN:VEVENT
DTSTART;TZID=America/Vancouver:20260531T150000
DTEND;TZID=America/Vancouver:20260531T173000
DTSTAMP:20260422T155311
CREATED:20260123T090421Z
LAST-MODIFIED:20260123T091428Z
UID:14865-1780239600-1780248600@www.abbotsfordflyingclub.ca
SUMMARY:Mayday Club Choir Practice - Private Event
DESCRIPTION:
URL:https://www.abbotsfordflyingclub.ca/event/mayday-club-choir-practice-31/
LOCATION:AFC Clubhouse\, 30540 Approach Drive\, Abbotsford\, BC\, V2T 6H5
CATEGORIES:Private Member Event
END:VEVENT
BEGIN:VEVENT
DTSTART;TZID=America/Vancouver:20260531T150000
DTEND;TZID=America/Vancouver:20260531T173000
DTSTAMP:20260422T155311
CREATED:20260123T090316Z
LAST-MODIFIED:20260123T091628Z
UID:14863-1780239600-1780248600@www.abbotsfordflyingclub.ca
SUMMARY:Mayday Club Choir Practice - Private Event
DESCRIPTION:
URL:https://www.abbotsfordflyingclub.ca/event/mayday-club-choir-practice-30/
LOCATION:AFC Clubhouse\, 30540 Approach Drive\, Abbotsford\, BC\, V2T 6H5
CATEGORIES:Private Member Event
END:VEVENT
BEGIN:VEVENT
DTSTART;TZID=America/Vancouver:20260524T150000
DTEND;TZID=America/Vancouver:20260524T173000
DTSTAMP:20260422T155311
CREATED:20260123T090152Z
LAST-MODIFIED:20260123T091702Z
UID:14861-1779634800-1779643800@www.abbotsfordflyingclub.ca
SUMMARY:Mayday Club Choir Practice - Private Event
DESCRIPTION:
URL:https://www.abbotsfordflyingclub.ca/event/mayday-club-choir-practice-29/
LOCATION:AFC Clubhouse\, 30540 Approach Drive\, Abbotsford\, BC\, V2T 6H5
CATEGORIES:Private Member Event
END:VEVENT
BEGIN:VEVENT
DTSTART;TZID=America/Vancouver:20260513T193000
DTEND;TZID=America/Vancouver:20260513T213000
DTSTAMP:20260422T155311
CREATED:20251119T035118Z
LAST-MODIFIED:20260402T034510Z
UID:14787-1778700600-1778707800@www.abbotsfordflyingclub.ca
SUMMARY:AFC General Meeting (Guests welcome) Dinner starts at 6pm
DESCRIPTION:
URL:https://www.abbotsfordflyingclub.ca/event/afc-general-meeting-guests-welcome-3/
LOCATION:Hybrid (In-person at the clubhouse or Zoom)
CATEGORIES:Meetings
END:VEVENT
BEGIN:VEVENT
DTSTART;TZID=America/Vancouver:20260510T150000
DTEND;TZID=America/Vancouver:20260510T173000
DTSTAMP:20260422T155311
CREATED:20260123T090053Z
LAST-MODIFIED:20260123T091731Z
UID:14859-1778425200-1778434200@www.abbotsfordflyingclub.ca
SUMMARY:Mayday Club Choir Practice - Private Event
DESCRIPTION:
URL:https://www.abbotsfordflyingclub.ca/event/mayday-club-choir-practice-28/
LOCATION:AFC Clubhouse\, 30540 Approach Drive\, Abbotsford\, BC\, V2T 6H5
CATEGORIES:Private Member Event
END:VEVENT
BEGIN:VEVENT
DTSTART;TZID=America/Vancouver:20260510T090000
DTEND;TZID=America/Vancouver:20260510T150000
DTSTAMP:20260422T155311
CREATED:20260313T041817Z
LAST-MODIFIED:20260313T043334Z
UID:14929-1778403600-1778425200@www.abbotsfordflyingclub.ca
SUMMARY:Scholarship Interviews in Progress
DESCRIPTION:
URL:https://www.abbotsfordflyingclub.ca/event/scholarship-interviews-in-progress-3/
LOCATION:AFC Clubhouse\, 30540 Approach Drive\, Abbotsford\, BC\, V2T 6H5
CATEGORIES:Meetings
ORGANIZER;CN="Ken%20McKeen":MAILTO:mckeenfarm@shaw.ca
END:VEVENT
BEGIN:VEVENT
DTSTART;TZID=America/Vancouver:20260509T080000
DTEND;TZID=America/Vancouver:20260509T160000
DTSTAMP:20260422T155311
CREATED:20251119T034359Z
LAST-MODIFIED:20251119T034359Z
UID:14771-1778313600-1778342400@www.abbotsfordflyingclub.ca
SUMMARY:CASARA Training Session
DESCRIPTION:
URL:https://www.abbotsfordflyingclub.ca/event/casara-training-session-44/
LOCATION:AFC Meeting Room\, 30540 Approach Drive\, Abbotsford\, BC\, V2T 6H5\, Canada
CATEGORIES:CASARA
ORGANIZER;CN="Dennis%20Nevett%20%28CASARA%29":MAILTO:yxxcasara@telus.net
END:VEVENT
BEGIN:VEVENT
DTSTART;TZID=America/Vancouver:20260508T090000
DTEND;TZID=America/Vancouver:20260508T180000
DTSTAMP:20260422T155311
CREATED:20260313T041354Z
LAST-MODIFIED:20260313T043852Z
UID:14924-1778230800-1778263200@www.abbotsfordflyingclub.ca
SUMMARY:Scholarship Interviews in Progress
DESCRIPTION:
URL:https://www.abbotsfordflyingclub.ca/event/scholarship-interviews-in-progress/
LOCATION:AFC Clubhouse\, 30540 Approach Drive\, Abbotsford\, BC\, V2T 6H5
CATEGORIES:Meetings
ORGANIZER;CN="Ken%20McKeen":MAILTO:mckeenfarm@shaw.ca
END:VEVENT
BEGIN:VEVENT
DTSTART;TZID=America/Vancouver:20260507T090000
DTEND;TZID=America/Vancouver:20260507T170000
DTSTAMP:20260422T155311
CREATED:20260313T170717Z
LAST-MODIFIED:20260313T170717Z
UID:14932-1778144400-1778173200@www.abbotsfordflyingclub.ca
SUMMARY:Scholarship Interviews in Progress
DESCRIPTION:
URL:https://www.abbotsfordflyingclub.ca/event/scholarship-interviews-in-progress-2/
LOCATION:AFC Clubhouse\, 30540 Approach Drive\, Abbotsford\, BC\, V2T 6H5
CATEGORIES:Meetings
ORGANIZER;CN="Ken%20McKeen":MAILTO:mckeenfarm@shaw.ca
END:VEVENT
BEGIN:VEVENT
DTSTART;TZID=America/Vancouver:20260427T100000
DTEND;TZID=America/Vancouver:20260427T140000
DTSTAMP:20260422T155311
CREATED:20260402T034032Z
LAST-MODIFIED:20260402T034032Z
UID:14941-1777284000-1777298400@www.abbotsfordflyingclub.ca
SUMMARY:Richard Bauch - Private event
DESCRIPTION:
URL:https://www.abbotsfordflyingclub.ca/event/richard-bauch-private-event-15/
LOCATION:AFC Clubhouse\, 30540 Approach Drive\, Abbotsford\, BC\, V2T 6H5
CATEGORIES:Private Member Event
END:VEVENT
BEGIN:VEVENT
DTSTART;TZID=America/Vancouver:20260426T150000
DTEND;TZID=America/Vancouver:20260426T173000
DTSTAMP:20260422T155311
CREATED:20260123T085952Z
LAST-MODIFIED:20260123T091752Z
UID:14857-1777215600-1777224600@www.abbotsfordflyingclub.ca
SUMMARY:Mayday Club Choir Practice - Private Event
DESCRIPTION:
URL:https://www.abbotsfordflyingclub.ca/event/mayday-club-choir-practice-27/
LOCATION:AFC Clubhouse\, 30540 Approach Drive\, Abbotsford\, BC\, V2T 6H5
CATEGORIES:Private Member Event
END:VEVENT
BEGIN:VEVENT
DTSTART;TZID=America/Vancouver:20260425T150000
DTEND;TZID=America/Vancouver:20260425T200000
DTSTAMP:20260422T155311
CREATED:20260421T055053Z
LAST-MODIFIED:20260421T055053Z
UID:14955-1777129200-1777147200@www.abbotsfordflyingclub.ca
SUMMARY:Al Hassan Private Event
DESCRIPTION:
URL:https://www.abbotsfordflyingclub.ca/event/al-hassan-private-event-4/
LOCATION:AFC Clubhouse\, 30540 Approach Drive\, Abbotsford\, BC\, V2T 6H5
CATEGORIES:Private Member Event
END:VEVENT
BEGIN:VEVENT
DTSTART;TZID=America/Vancouver:20260424T080000
DTEND;TZID=America/Vancouver:20260424T170000
DTSTAMP:20260422T155311
CREATED:20260408T172154Z
LAST-MODIFIED:20260408T172350Z
UID:14949-1777017600-1777050000@www.abbotsfordflyingclub.ca
SUMMARY:Kitchen cabinet installation
DESCRIPTION:
URL:https://www.abbotsfordflyingclub.ca/event/kitchen-reno-work-2/
LOCATION:AFC Clubhouse\, 30540 Approach Drive\, Abbotsford\, BC\, V2T 6H5
ORGANIZER;CN="Ken%20McKeen":MAILTO:mckeenfarm@shaw.ca
END:VEVENT
BEGIN:VEVENT
DTSTART;TZID=America/Vancouver:20260423T080000
DTEND;TZID=America/Vancouver:20260423T170000
DTSTAMP:20260422T155311
CREATED:20260408T172102Z
LAST-MODIFIED:20260408T172446Z
UID:14947-1776931200-1776963600@www.abbotsfordflyingclub.ca
SUMMARY:Kitchen cabinet installation
DESCRIPTION:
URL:https://www.abbotsfordflyingclub.ca/event/kitchen-reno-work/
LOCATION:AFC Clubhouse\, 30540 Approach Drive\, Abbotsford\, BC\, V2T 6H5
ORGANIZER;CN="Ken%20McKeen":MAILTO:mckeenfarm@shaw.ca
END:VEVENT
BEGIN:VEVENT
DTSTART;TZID=America/Vancouver:20260413T100000
DTEND;TZID=America/Vancouver:20260413T140000
DTSTAMP:20260422T155311
CREATED:20260402T033909Z
LAST-MODIFIED:20260402T033909Z
UID:14939-1776074400-1776088800@www.abbotsfordflyingclub.ca
SUMMARY:Richard Bauch - Private event
DESCRIPTION:
URL:https://www.abbotsfordflyingclub.ca/event/richard-bauch-private-event-14/
LOCATION:AFC Clubhouse\, 30540 Approach Drive\, Abbotsford\, BC\, V2T 6H5
CATEGORIES:Private Member Event
END:VEVENT
BEGIN:VEVENT
DTSTART;TZID=America/Vancouver:20260412T150000
DTEND;TZID=America/Vancouver:20260412T173000
DTSTAMP:20260422T155311
CREATED:20260123T085840Z
LAST-MODIFIED:20260123T091836Z
UID:14855-1776006000-1776015000@www.abbotsfordflyingclub.ca
SUMMARY:Mayday Club Choir Practice - Private Event
DESCRIPTION:
URL:https://www.abbotsfordflyingclub.ca/event/mayday-club-choir-practice-26/
LOCATION:AFC Clubhouse\, 30540 Approach Drive\, Abbotsford\, BC\, V2T 6H5
CATEGORIES:Private Member Event
END:VEVENT
BEGIN:VEVENT
DTSTART;TZID=America/Vancouver:20260411T080000
DTEND;TZID=America/Vancouver:20260411T160000
DTSTAMP:20260422T155311
CREATED:20251119T034311Z
LAST-MODIFIED:20251119T034311Z
UID:14769-1775894400-1775923200@www.abbotsfordflyingclub.ca
SUMMARY:CASARA Training Session
DESCRIPTION:
URL:https://www.abbotsfordflyingclub.ca/event/casara-training-session-43/
LOCATION:AFC Meeting Room\, 30540 Approach Drive\, Abbotsford\, BC\, V2T 6H5\, Canada
CATEGORIES:CASARA
ORGANIZER;CN="Dennis%20Nevett%20%28CASARA%29":MAILTO:yxxcasara@telus.net
END:VEVENT
BEGIN:VEVENT
DTSTART;TZID=America/Vancouver:20260330T100000
DTEND;TZID=America/Vancouver:20260330T140000
DTSTAMP:20260422T155311
CREATED:20260227T075918Z
LAST-MODIFIED:20260227T075918Z
UID:14913-1774864800-1774879200@www.abbotsfordflyingclub.ca
SUMMARY:Richard Bauch Private Event
DESCRIPTION:
URL:https://www.abbotsfordflyingclub.ca/event/richard-bauch-private-event-13/
LOCATION:AFC Clubhouse\, 30540 Approach Drive\, Abbotsford\, BC\, V2T 6H5
CATEGORIES:Private Member Event
END:VEVENT
BEGIN:VEVENT
DTSTART;TZID=America/Vancouver:20260328T140000
DTEND;TZID=America/Vancouver:20260328T180000
DTSTAMP:20260422T155312
CREATED:20260304T051334Z
LAST-MODIFIED:20260304T051334Z
UID:14915-1774706400-1774720800@www.abbotsfordflyingclub.ca
SUMMARY:Laurens Bosman Private Event
DESCRIPTION:
URL:https://www.abbotsfordflyingclub.ca/event/laurens-bosman-private-event/
LOCATION:AFC Clubhouse\, 30540 Approach Drive\, Abbotsford\, BC\, V2T 6H5
CATEGORIES:Private Member Event
END:VEVENT
BEGIN:VEVENT
DTSTART;TZID=America/Vancouver:20260323T100000
DTEND;TZID=America/Vancouver:20260323T140000
DTSTAMP:20260422T155312
CREATED:20260227T075816Z
LAST-MODIFIED:20260227T075816Z
UID:14910-1774260000-1774274400@www.abbotsfordflyingclub.ca
SUMMARY:Richard Bauch Private Event
DESCRIPTION:
URL:https://www.abbotsfordflyingclub.ca/event/richard-bauch-private-event-12/
LOCATION:AFC Clubhouse\, 30540 Approach Drive\, Abbotsford\, BC\, V2T 6H5
CATEGORIES:Private Member Event
END:VEVENT
BEGIN:VEVENT
DTSTART;TZID=America/Vancouver:20260322T150000
DTEND;TZID=America/Vancouver:20260322T173000
DTSTAMP:20260422T155312
CREATED:20260123T085733Z
LAST-MODIFIED:20260123T091809Z
UID:14853-1774191600-1774200600@www.abbotsfordflyingclub.ca
SUMMARY:Mayday Club Choir Practice - Private Event
DESCRIPTION:
URL:https://www.abbotsfordflyingclub.ca/event/mayday-club-choir-practice-25/
LOCATION:AFC Clubhouse\, 30540 Approach Drive\, Abbotsford\, BC\, V2T 6H5
CATEGORIES:Private Member Event
END:VEVENT
BEGIN:VEVENT
DTSTART;TZID=America/Vancouver:20260316T100000
DTEND;TZID=America/Vancouver:20260316T140000
DTSTAMP:20260422T155312
CREATED:20260227T075653Z
LAST-MODIFIED:20260227T075653Z
UID:14905-1773655200-1773669600@www.abbotsfordflyingclub.ca
SUMMARY:Richard Bauch Private Event
DESCRIPTION:
URL:https://www.abbotsfordflyingclub.ca/event/richard-bauch-private-event-11/
LOCATION:AFC Clubhouse\, 30540 Approach Drive\, Abbotsford\, BC\, V2T 6H5
CATEGORIES:Private Member Event
END:VEVENT
BEGIN:VEVENT
DTSTART;TZID=America/Vancouver:20260314T140000
DTEND;TZID=America/Vancouver:20260314T170000
DTSTAMP:20260422T155312
CREATED:20251119T033908Z
LAST-MODIFIED:20260121T055505Z
UID:14763-1773496800-1773507600@www.abbotsfordflyingclub.ca
SUMMARY:Adrian Renkers - Celebration of Life
DESCRIPTION:
URL:https://www.abbotsfordflyingclub.ca/event/renkers-family-private-event/
LOCATION:AFC Clubhouse and Patio\, 30540 Approach Drive\, Abbotsford\, BC\, V2T 6H5\, Canada
ORGANIZER;CN="AFC%20Board":MAILTO:afcsec@gmail.com
END:VEVENT
BEGIN:VEVENT
DTSTART;TZID=America/Vancouver:20260311T193000
DTEND;TZID=America/Vancouver:20260311T213000
DTSTAMP:20260422T155312
CREATED:20251119T035035Z
LAST-MODIFIED:20251119T035035Z
UID:14785-1773257400-1773264600@www.abbotsfordflyingclub.ca
SUMMARY:AFC General Meeting (Guests welcome)
DESCRIPTION:
URL:https://www.abbotsfordflyingclub.ca/event/afc-general-meeting-guests-welcome-2/
LOCATION:Hybrid (In-person at the clubhouse or Zoom)
CATEGORIES:Meetings
END:VEVENT
BEGIN:VEVENT
DTSTART;TZID=America/Vancouver:20260309T100000
DTEND;TZID=America/Vancouver:20260309T140000
DTSTAMP:20260422T155312
CREATED:20260227T075550Z
LAST-MODIFIED:20260227T080124Z
UID:14903-1773050400-1773064800@www.abbotsfordflyingclub.ca
SUMMARY:Richard Bauch Private Event
DESCRIPTION:
URL:https://www.abbotsfordflyingclub.ca/event/richard-bauch-private-event-8/
LOCATION:AFC Clubhouse\, 30540 Approach Drive\, Abbotsford\, BC\, V2T 6H5
CATEGORIES:Private Member Event
END:VEVENT
END:VCALENDAR