BEGIN:VCALENDAR
VERSION:2.0
PRODID:-//Abbotsford Flying Club - ECPv6.0.0.1//NONSGML v1.0//EN
CALSCALE:GREGORIAN
METHOD:PUBLISH
X-WR-CALNAME:Abbotsford Flying Club
X-ORIGINAL-URL:https://www.abbotsfordflyingclub.ca
X-WR-CALDESC:Events for Abbotsford Flying Club
REFRESH-INTERVAL;VALUE=DURATION:PT1H
X-Robots-Tag:noindex
X-PUBLISHED-TTL:PT1H
BEGIN:VTIMEZONE
TZID:America/Vancouver
BEGIN:DAYLIGHT
TZOFFSETFROM:-0800
TZOFFSETTO:-0700
TZNAME:PDT
DTSTART:20220313T100000
END:DAYLIGHT
BEGIN:STANDARD
TZOFFSETFROM:-0700
TZOFFSETTO:-0800
TZNAME:PST
DTSTART:20221106T090000
END:STANDARD
BEGIN:DAYLIGHT
TZOFFSETFROM:-0800
TZOFFSETTO:-0700
TZNAME:PDT
DTSTART:20230312T100000
END:DAYLIGHT
BEGIN:STANDARD
TZOFFSETFROM:-0700
TZOFFSETTO:-0800
TZNAME:PST
DTSTART:20231105T090000
END:STANDARD
END:VTIMEZONE
BEGIN:VEVENT
DTSTART;TZID=America/Vancouver:20221218T150000
DTEND;TZID=America/Vancouver:20221218T180000
DTSTAMP:20260422T145518
CREATED:20220906T072340Z
LAST-MODIFIED:20220906T072340Z
UID:13019-1671375600-1671386400@www.abbotsfordflyingclub.ca
SUMMARY:May Day Choir Practice - Private Event
DESCRIPTION:
URL:https://www.abbotsfordflyingclub.ca/event/may-day-choir-practice-private-event-10/
LOCATION:AFC Clubhouse\, 30540 Approach Drive\, Abbotsford\, BC\, V2T 6H5
CATEGORIES:Private Member Event
END:VEVENT
BEGIN:VEVENT
DTSTART;TZID=America/Vancouver:20221221T120000
DTEND;TZID=America/Vancouver:20221221T130000
DTSTAMP:20260422T145518
CREATED:20220906T083730Z
LAST-MODIFIED:20220906T083730Z
UID:13119-1671624000-1671627600@www.abbotsfordflyingclub.ca
SUMMARY:Dutch Lunch
DESCRIPTION:Bring a bag lunch for an informal lunch with fellow members in the lounge.
URL:https://www.abbotsfordflyingclub.ca/event/dutch-lunch-16/
LOCATION:AFC Lounge and Patio\, 30540 Approach Drive\, Abbotsford\, BC\, V2T 6H5\, Canada
CATEGORIES:Socials
END:VEVENT
BEGIN:VEVENT
DTSTART;TZID=America/Vancouver:20221223T180000
DTEND;TZID=America/Vancouver:20221223T200000
DTSTAMP:20260422T145518
CREATED:20220906T081249Z
LAST-MODIFIED:20220906T081249Z
UID:13084-1671818400-1671825600@www.abbotsfordflyingclub.ca
SUMMARY:TGIF Friday
DESCRIPTION:Bring dinner and your spouse\, and relax at the airport.  On the back lawn if the evening weather is nice\, otherwise inside around the fireplace\, pool table\, and the big screen.
URL:https://www.abbotsfordflyingclub.ca/event/tgif-friday-15/
LOCATION:AFC Lounge and Patio\, 30540 Approach Drive\, Abbotsford\, BC\, V2T 6H5\, Canada
CATEGORIES:Socials
END:VEVENT
BEGIN:VEVENT
DTSTART;TZID=America/Vancouver:20221226T120000
DTEND;TZID=America/Vancouver:20221226T200000
DTSTAMP:20260422T145518
CREATED:20220325T015148Z
LAST-MODIFIED:20221223T005449Z
UID:12744-1672056000-1672084800@www.abbotsfordflyingclub.ca
SUMMARY:Dan Renaud - Private Event
DESCRIPTION:
URL:https://www.abbotsfordflyingclub.ca/event/dana-renaud-private-event/
LOCATION:AFC Clubhouse\, 30540 Approach Drive\, Abbotsford\, BC\, V2T 6H5
CATEGORIES:Community,Private Member Event
END:VEVENT
BEGIN:VEVENT
DTSTART;TZID=America/Vancouver:20221228T120000
DTEND;TZID=America/Vancouver:20221228T130000
DTSTAMP:20260422T145518
CREATED:20220906T084058Z
LAST-MODIFIED:20220906T084058Z
UID:13123-1672228800-1672232400@www.abbotsfordflyingclub.ca
SUMMARY:Dutch Lunch
DESCRIPTION:Bring a bag lunch for an informal lunch with fellow members in the lounge.
URL:https://www.abbotsfordflyingclub.ca/event/dutch-lunch-18/
LOCATION:AFC Lounge and Patio\, 30540 Approach Drive\, Abbotsford\, BC\, V2T 6H5\, Canada
CATEGORIES:Socials
END:VEVENT
BEGIN:VEVENT
DTSTART;TZID=America/Vancouver:20221230T180000
DTEND;TZID=America/Vancouver:20221230T200000
DTSTAMP:20260422T145519
CREATED:20220906T081330Z
LAST-MODIFIED:20221220T070707Z
UID:13086-1672423200-1672430400@www.abbotsfordflyingclub.ca
SUMMARY:TGIF Friday - Year End Party
DESCRIPTION:Bring dinner and your spouse\, and relax at the airport.  On the back lawn if the evening weather is nice\, otherwise inside around the fireplace\, pool table\, and the big screen.
URL:https://www.abbotsfordflyingclub.ca/event/tgif-friday-16/
LOCATION:AFC Lounge and Patio\, 30540 Approach Drive\, Abbotsford\, BC\, V2T 6H5\, Canada
CATEGORIES:Socials
END:VEVENT
BEGIN:VEVENT
DTSTART;TZID=America/Vancouver:20230108T150000
DTEND;TZID=America/Vancouver:20230108T180000
DTSTAMP:20260422T145519
CREATED:20230103T050923Z
LAST-MODIFIED:20230103T051318Z
UID:13282-1673190000-1673200800@www.abbotsfordflyingclub.ca
SUMMARY:May Day Choir Practice – Private Event
DESCRIPTION:
URL:https://www.abbotsfordflyingclub.ca/event/may-day-choir-practice-private-event-2/
LOCATION:AFC Clubhouse\, 30540 Approach Drive\, Abbotsford\, BC\, V2T 6H5
CATEGORIES:Private Member Event
END:VEVENT
BEGIN:VEVENT
DTSTART;TZID=America/Vancouver:20230111T073000
DTEND;TZID=America/Vancouver:20230111T210000
DTSTAMP:20260422T145519
CREATED:20230103T052619Z
LAST-MODIFIED:20230103T052619Z
UID:13298-1673422200-1673470800@www.abbotsfordflyingclub.ca
SUMMARY:General Meeting via Zoom 7:30pm
DESCRIPTION:Meeting login details to be emailed to registered members on the day of the meeting.  If you’ve not been receiving emails\, check you spam folder/settings or notify the secretary for email confirmation.  secretary@abbotsfordflyingclub.ca
URL:https://www.abbotsfordflyingclub.ca/event/general-meeting-via-zoom-730pm-3/
LOCATION:Zoom Teleconference
CATEGORIES:Meetings
END:VEVENT
BEGIN:VEVENT
DTSTART;TZID=America/Vancouver:20230114T080000
DTEND;TZID=America/Vancouver:20230114T160000
DTSTAMP:20260422T145519
CREATED:20221007T180947Z
LAST-MODIFIED:20221007T180947Z
UID:13187-1673683200-1673712000@www.abbotsfordflyingclub.ca
SUMMARY:CASARA Training Session
DESCRIPTION:
URL:https://www.abbotsfordflyingclub.ca/event/casara-training-session-9/
LOCATION:AFC Meeting Room\, 30540 Approach Drive\, Abbotsford\, BC\, V2T 6H5\, Canada
ORGANIZER;CN="Dennis%20Nevett%20%28CASARA%29":MAILTO:yxxcasara@telus.net
END:VEVENT
BEGIN:VEVENT
DTSTART;TZID=America/Vancouver:20230114T100000
DTEND;TZID=America/Vancouver:20230114T120000
DTSTAMP:20260422T145519
CREATED:20230103T053531Z
LAST-MODIFIED:20230104T055150Z
UID:13302-1673690400-1673697600@www.abbotsfordflyingclub.ca
SUMMARY:Seminar:  Arrival/Departure Procedures CYXX 10am start
DESCRIPTION:A seminar about the procedures for coming and going from the Abbotsford Airport.  This seminar will be held at the AFC Clubhouse and hosted by Bob Salway.  For those that would like to attend but wish to do so virtually\, we are going to try and have a virtual drop in section and see how a hybrid session will work for us.  An invite will be sent out for the virtual portion closer to the date of the event.
URL:https://www.abbotsfordflyingclub.ca/event/seminar-getting-in-out-of-yxx-10am-start/
LOCATION:AFC Lounge\, 30540 Approach Drive\, Abbotsford\, BC\, V2T 6H5\, Canada
CATEGORIES:Education & Training,IMC/ VMC Club
END:VEVENT
BEGIN:VEVENT
DTSTART;TZID=America/Vancouver:20230115T150000
DTEND;TZID=America/Vancouver:20230115T180000
DTSTAMP:20260422T145519
CREATED:20230103T051016Z
LAST-MODIFIED:20230103T051353Z
UID:13284-1673794800-1673805600@www.abbotsfordflyingclub.ca
SUMMARY:May Day Choir Practice – Private Event
DESCRIPTION:
URL:https://www.abbotsfordflyingclub.ca/event/may-day-choir-practice-private-event-12/
LOCATION:AFC Clubhouse\, 30540 Approach Drive\, Abbotsford\, BC\, V2T 6H5
CATEGORIES:Private Member Event
END:VEVENT
BEGIN:VEVENT
DTSTART;TZID=America/Vancouver:20230122T150000
DTEND;TZID=America/Vancouver:20230122T180000
DTSTAMP:20260422T145519
CREATED:20230103T051120Z
LAST-MODIFIED:20230103T051447Z
UID:13286-1674399600-1674410400@www.abbotsfordflyingclub.ca
SUMMARY:May Day Choir Practice – Private Event
DESCRIPTION:
URL:https://www.abbotsfordflyingclub.ca/event/may-day-choir-practice-private-event-13/
LOCATION:AFC Clubhouse\, 30540 Approach Drive\, Abbotsford\, BC\, V2T 6H5
CATEGORIES:Private Member Event
END:VEVENT
BEGIN:VEVENT
DTSTART;TZID=America/Vancouver:20230125T070000
DTEND;TZID=America/Vancouver:20230125T220000
DTSTAMP:20260422T145519
CREATED:20230103T052736Z
LAST-MODIFIED:20230103T052736Z
UID:13300-1674630000-1674684000@www.abbotsfordflyingclub.ca
SUMMARY:Board Meeting - 7pm via Zoom
DESCRIPTION:
URL:https://www.abbotsfordflyingclub.ca/event/board-meeting-7pm-via-zoom/
LOCATION:Zoom Teleconference
CATEGORIES:Board Meeting,Meetings
ORGANIZER;CN="AFC%20Secretary":MAILTO:afcsec@gmail.com
END:VEVENT
BEGIN:VEVENT
DTSTART;TZID=America/Vancouver:20230205T150000
DTEND;TZID=America/Vancouver:20230205T180000
DTSTAMP:20260422T145519
CREATED:20230103T051608Z
LAST-MODIFIED:20230103T051608Z
UID:13292-1675609200-1675620000@www.abbotsfordflyingclub.ca
SUMMARY:May Day Choir Practice – Private Event
DESCRIPTION:
URL:https://www.abbotsfordflyingclub.ca/event/may-day-choir-practice-private-event-15/
LOCATION:AFC Clubhouse\, 30540 Approach Drive\, Abbotsford\, BC\, V2T 6H5
CATEGORIES:Private Member Event
END:VEVENT
BEGIN:VEVENT
DTSTART;TZID=America/Vancouver:20230208T193000
DTEND;TZID=America/Vancouver:20230208T213000
DTSTAMP:20260422T145519
CREATED:20230125T115614Z
LAST-MODIFIED:20230125T115614Z
UID:13350-1675884600-1675891800@www.abbotsfordflyingclub.ca
SUMMARY:General Meeting 7:30pm via Zoom
DESCRIPTION:
URL:https://www.abbotsfordflyingclub.ca/event/general-meeting-730pm-via-zoom-2/
LOCATION:Zoom Teleconference
CATEGORIES:Meetings
ORGANIZER;CN="AFC%20Board":MAILTO:afcsec@gmail.com
END:VEVENT
BEGIN:VEVENT
DTSTART;TZID=America/Vancouver:20230210T180000
DTEND;TZID=America/Vancouver:20230210T200000
DTSTAMP:20260422T145519
CREATED:20230207T081442Z
LAST-MODIFIED:20230207T081442Z
UID:13363-1676052000-1676059200@www.abbotsfordflyingclub.ca
SUMMARY:Valentine's Day TGIF- All members/guests welcome.
DESCRIPTION:
URL:https://www.abbotsfordflyingclub.ca/event/valentines-day-tgif-all-members-guests-welcome/
LOCATION:AFC Clubhouse\, 30540 Approach Drive\, Abbotsford\, BC\, V2T 6H5
CATEGORIES:Socials
END:VEVENT
BEGIN:VEVENT
DTSTART;TZID=America/Vancouver:20230211T080000
DTEND;TZID=America/Vancouver:20230211T160000
DTSTAMP:20260422T145519
CREATED:20221007T175552Z
LAST-MODIFIED:20221007T180345Z
UID:13180-1676102400-1676131200@www.abbotsfordflyingclub.ca
SUMMARY:CASARA
DESCRIPTION:
URL:https://www.abbotsfordflyingclub.ca/event/ron-monty-memorial-private-event/
LOCATION:AFC Meeting Room\, 30540 Approach Drive\, Abbotsford\, BC\, V2T 6H5\, Canada
ORGANIZER;CN="AFC%20Secretary":MAILTO:afcsec@gmail.com
END:VEVENT
BEGIN:VEVENT
DTSTART;TZID=America/Vancouver:20230211T100000
DTEND;TZID=America/Vancouver:20230211T120000
DTSTAMP:20260422T145519
CREATED:20230103T053735Z
LAST-MODIFIED:20230103T054339Z
UID:13305-1676109600-1676116800@www.abbotsfordflyingclub.ca
SUMMARY:Seminar (Virtual):  Airport Markings
DESCRIPTION:Details TBA.
URL:https://www.abbotsfordflyingclub.ca/event/seminar-airport-markings-virtual/
LOCATION:Zoom Online Meeting
CATEGORIES:Education & Training,IMC/ VMC Club
END:VEVENT
BEGIN:VEVENT
DTSTART;TZID=America/Vancouver:20230218T130000
DTEND;TZID=America/Vancouver:20230218T170000
DTSTAMP:20260422T145519
CREATED:20221007T192326Z
LAST-MODIFIED:20221007T192618Z
UID:13191-1676725200-1676739600@www.abbotsfordflyingclub.ca
SUMMARY:Ron Montie Memorial - Private Event
DESCRIPTION:Tanis Weins\ntanis.weins@cummins.com
URL:https://www.abbotsfordflyingclub.ca/event/ron-montie-memorial-private-event/
LOCATION:AFC Clubhouse and Patio\, 30540 Approach Drive\, Abbotsford\, BC\, V2T 6H5\, Canada
ORGANIZER;CN="AFC%20Secretary":MAILTO:afcsec@gmail.com
END:VEVENT
BEGIN:VEVENT
DTSTART;TZID=America/Vancouver:20230222T190000
DTEND;TZID=America/Vancouver:20230222T210000
DTSTAMP:20260422T145519
CREATED:20230207T081907Z
LAST-MODIFIED:20230207T081907Z
UID:13367-1677092400-1677099600@www.abbotsfordflyingclub.ca
SUMMARY:Board Meeting
DESCRIPTION:
URL:https://www.abbotsfordflyingclub.ca/event/board-meeting-29/
LOCATION:Zoom Teleconference
CATEGORIES:Board Meeting
ORGANIZER;CN="AFC%20Secretary":MAILTO:afcsec@gmail.com
END:VEVENT
BEGIN:VEVENT
DTSTART;TZID=America/Vancouver:20230225T080000
DTEND;TZID=America/Vancouver:20230225T130000
DTSTAMP:20260422T145519
CREATED:20230104T060852Z
LAST-MODIFIED:20230104T060852Z
UID:13320-1677312000-1677330000@www.abbotsfordflyingclub.ca
SUMMARY:St Johns Ambulance Dog Therapy Meeting - Private event
DESCRIPTION:
URL:https://www.abbotsfordflyingclub.ca/event/st-johns-ambulance-dog-therapy-meeting-private-event/
LOCATION:AFC Meeting Room\, 30540 Approach Drive\, Abbotsford\, BC\, V2T 6H5\, Canada
CATEGORIES:Private Member Event
END:VEVENT
BEGIN:VEVENT
DTSTART;TZID=America/Vancouver:20230226T150000
DTEND;TZID=America/Vancouver:20230226T180000
DTSTAMP:20260422T145519
CREATED:20230103T051737Z
LAST-MODIFIED:20230103T051737Z
UID:13296-1677423600-1677434400@www.abbotsfordflyingclub.ca
SUMMARY:May Day Choir Practice – Private Event
DESCRIPTION:
URL:https://www.abbotsfordflyingclub.ca/event/may-day-choir-practice-private-event-17/
LOCATION:AFC Clubhouse\, 30540 Approach Drive\, Abbotsford\, BC\, V2T 6H5
CATEGORIES:Private Member Event
END:VEVENT
BEGIN:VEVENT
DTSTART;TZID=America/Vancouver:20230308T193000
DTEND;TZID=America/Vancouver:20230308T213000
DTSTAMP:20260422T145519
CREATED:20230207T081744Z
LAST-MODIFIED:20230207T081744Z
UID:13365-1678303800-1678311000@www.abbotsfordflyingclub.ca
SUMMARY:General Meeting 7:30pm via Zoom
DESCRIPTION:
URL:https://www.abbotsfordflyingclub.ca/event/general-meeting-730pm-via-zoom-3/
LOCATION:Zoom Teleconference
CATEGORIES:Meetings
ORGANIZER;CN="AFC%20Board":MAILTO:afcsec@gmail.com
END:VEVENT
BEGIN:VEVENT
DTSTART;TZID=America/Vancouver:20230311T100000
DTEND;TZID=America/Vancouver:20230311T120000
DTSTAMP:20260422T145519
CREATED:20230103T053912Z
LAST-MODIFIED:20230103T053912Z
UID:13307-1678528800-1678536000@www.abbotsfordflyingclub.ca
SUMMARY:Seminar:  Cost of aircraft ownership
DESCRIPTION:Details TBA
URL:https://www.abbotsfordflyingclub.ca/event/seminar-cost-of-aircraft-ownership/
LOCATION:BC
CATEGORIES:Education & Training,IMC/ VMC Club
END:VEVENT
BEGIN:VEVENT
DTSTART;TZID=America/Vancouver:20230312T150000
DTEND;TZID=America/Vancouver:20230312T180000
DTSTAMP:20260422T145519
CREATED:20230205T041621Z
LAST-MODIFIED:20230205T042057Z
UID:13353-1678633200-1678644000@www.abbotsfordflyingclub.ca
SUMMARY:Mayday Choir Practice - Private Event
DESCRIPTION:
URL:https://www.abbotsfordflyingclub.ca/event/mayday-choir-practice-private-event/
LOCATION:AFC Clubhouse\, 30540 Approach Drive\, Abbotsford\, BC\, V2T 6H5
CATEGORIES:Private Member Event
END:VEVENT
BEGIN:VEVENT
DTSTART;TZID=America/Vancouver:20230317T180000
DTEND;TZID=America/Vancouver:20230317T200000
DTSTAMP:20260422T145519
CREATED:20230207T081236Z
LAST-MODIFIED:20230207T081236Z
UID:13361-1679076000-1679083200@www.abbotsfordflyingclub.ca
SUMMARY:St. Patrick's Day TGIF - All members/guests welcome.
DESCRIPTION:
URL:https://www.abbotsfordflyingclub.ca/event/st-patricks-day-tgif-all-members-guests-welcome/
LOCATION:AFC Clubhouse\, 30540 Approach Drive\, Abbotsford\, BC\, V2T 6H5
CATEGORIES:Socials
END:VEVENT
BEGIN:VEVENT
DTSTART;TZID=America/Vancouver:20230319T150000
DTEND;TZID=America/Vancouver:20230319T180000
DTSTAMP:20260422T145519
CREATED:20230205T041713Z
LAST-MODIFIED:20230205T041927Z
UID:13355-1679238000-1679248800@www.abbotsfordflyingclub.ca
SUMMARY:Mayday Choir Practice - Private Event
DESCRIPTION:
URL:https://www.abbotsfordflyingclub.ca/event/mayday-choir-practice-private-event-2/
LOCATION:AFC Clubhouse\, 30540 Approach Drive\, Abbotsford\, BC\, V2T 6H5
CATEGORIES:Private Member Event
END:VEVENT
BEGIN:VEVENT
DTSTART;TZID=America/Vancouver:20230322T190000
DTEND;TZID=America/Vancouver:20230322T210000
DTSTAMP:20260422T145519
CREATED:20230207T082001Z
LAST-MODIFIED:20230207T082001Z
UID:13369-1679511600-1679518800@www.abbotsfordflyingclub.ca
SUMMARY:Board Meeting
DESCRIPTION:
URL:https://www.abbotsfordflyingclub.ca/event/board-meeting-30/
LOCATION:Zoom Teleconference
CATEGORIES:Board Meeting
ORGANIZER;CN="AFC%20Secretary":MAILTO:afcsec@gmail.com
END:VEVENT
BEGIN:VEVENT
DTSTART;TZID=America/Vancouver:20230326T150000
DTEND;TZID=America/Vancouver:20230326T180000
DTSTAMP:20260422T145519
CREATED:20230205T041819Z
LAST-MODIFIED:20230205T041819Z
UID:13357-1679842800-1679853600@www.abbotsfordflyingclub.ca
SUMMARY:Mayday Choir Practice - Private Event
DESCRIPTION:
URL:https://www.abbotsfordflyingclub.ca/event/mayday-choir-practice-private-event-3/
LOCATION:AFC Clubhouse\, 30540 Approach Drive\, Abbotsford\, BC\, V2T 6H5
CATEGORIES:Private Member Event
END:VEVENT
BEGIN:VEVENT
DTSTART;TZID=America/Vancouver:20230402T150000
DTEND;TZID=America/Vancouver:20230402T180000
DTSTAMP:20260422T145519
CREATED:20230303T052932Z
LAST-MODIFIED:20230303T053131Z
UID:13441-1680447600-1680458400@www.abbotsfordflyingclub.ca
SUMMARY:MayDay Club Choir Practice - Private Event
DESCRIPTION:
URL:https://www.abbotsfordflyingclub.ca/event/mayday-club-choir-practice/
LOCATION:AFC Clubhouse\, 30540 Approach Drive\, Abbotsford\, BC\, V2T 6H5
CATEGORIES:Private Member Event
END:VEVENT
END:VCALENDAR