BEGIN:VCALENDAR
VERSION:2.0
PRODID:-//Abbotsford Flying Club - ECPv6.0.0.1//NONSGML v1.0//EN
CALSCALE:GREGORIAN
METHOD:PUBLISH
X-ORIGINAL-URL:https://www.abbotsfordflyingclub.ca
X-WR-CALDESC:Events for Abbotsford Flying Club
REFRESH-INTERVAL;VALUE=DURATION:PT1H
X-Robots-Tag:noindex
X-PUBLISHED-TTL:PT1H
BEGIN:VTIMEZONE
TZID:America/Vancouver
BEGIN:DAYLIGHT
TZOFFSETFROM:-0800
TZOFFSETTO:-0700
TZNAME:PDT
DTSTART:20230312T100000
END:DAYLIGHT
BEGIN:STANDARD
TZOFFSETFROM:-0700
TZOFFSETTO:-0800
TZNAME:PST
DTSTART:20231105T090000
END:STANDARD
BEGIN:DAYLIGHT
TZOFFSETFROM:-0800
TZOFFSETTO:-0700
TZNAME:PDT
DTSTART:20240310T100000
END:DAYLIGHT
BEGIN:STANDARD
TZOFFSETFROM:-0700
TZOFFSETTO:-0800
TZNAME:PST
DTSTART:20241103T090000
END:STANDARD
END:VTIMEZONE
BEGIN:VEVENT
DTSTART;TZID=America/Vancouver:20231115T133000
DTEND;TZID=America/Vancouver:20231115T153000
DTSTAMP:20260422T145726
CREATED:20231115T061030Z
LAST-MODIFIED:20231115T061030Z
UID:14103-1700055000-1700062200@www.abbotsfordflyingclub.ca
SUMMARY:Brett Rueff Flight test
DESCRIPTION:
URL:https://www.abbotsfordflyingclub.ca/event/brett-rueff-flight-test/
LOCATION:AFC Meeting Room\, 30540 Approach Drive\, Abbotsford\, BC\, V2T 6H5\, Canada
CATEGORIES:Education & Training,Private Member Event
END:VEVENT
BEGIN:VEVENT
DTSTART;TZID=America/Vancouver:20231122T190000
DTEND;TZID=America/Vancouver:20231122T210000
DTSTAMP:20260422T145726
CREATED:20231027T062721Z
LAST-MODIFIED:20231027T062721Z
UID:14060-1700679600-1700686800@www.abbotsfordflyingclub.ca
SUMMARY:Board Meeting
DESCRIPTION:
URL:https://www.abbotsfordflyingclub.ca/event/board-meeting-41/
LOCATION:Zoom Online Meeting
CATEGORIES:Board Meeting
END:VEVENT
BEGIN:VEVENT
DTSTART;TZID=America/Vancouver:20231124T180000
DTEND;TZID=America/Vancouver:20231124T200000
DTSTAMP:20260422T145726
CREATED:20231124T083919Z
LAST-MODIFIED:20231124T083919Z
UID:14111-1700848800-1700856000@www.abbotsfordflyingclub.ca
SUMMARY:TGIF Fridays at the clubhouse.  6-8pm.  Guests welcome!
DESCRIPTION:
URL:https://www.abbotsfordflyingclub.ca/event/tgif-fridays-at-the-clubhouse-6-8pm-guests-welcome/
LOCATION:AFC Lounge\, 30540 Approach Drive\, Abbotsford\, BC\, V2T 6H5\, Canada
CATEGORIES:Socials
END:VEVENT
BEGIN:VEVENT
DTSTART;TZID=America/Vancouver:20231126T083000
DTEND;TZID=America/Vancouver:20231126T110000
DTSTAMP:20260422T145726
CREATED:20231124T085415Z
LAST-MODIFIED:20231124T085415Z
UID:14130-1700987400-1700996400@www.abbotsfordflyingclub.ca
SUMMARY:Sunday Morning Breakfast.  Meet at clubhouse 8:30am
DESCRIPTION:If the weather is not flyable\, we will drive to a local restaurant.
URL:https://www.abbotsfordflyingclub.ca/event/sunday-morning-breakfast-meet-at-clubhouse-830am/
LOCATION:Fly-out
CATEGORIES:Flyouts & Fly-Ins,Socials
END:VEVENT
BEGIN:VEVENT
DTSTART;TZID=America/Vancouver:20231201T180000
DTEND;TZID=America/Vancouver:20231201T200000
DTSTAMP:20260422T145726
CREATED:20231124T084034Z
LAST-MODIFIED:20231124T084034Z
UID:14113-1701453600-1701460800@www.abbotsfordflyingclub.ca
SUMMARY:TGIF Fridays at the clubhouse.  6-8pm.  Guests welcome!
DESCRIPTION:
URL:https://www.abbotsfordflyingclub.ca/event/tgif-fridays-at-the-clubhouse-6-8pm-guests-welcome-2/
LOCATION:BC
CATEGORIES:Socials
END:VEVENT
BEGIN:VEVENT
DTSTART;TZID=America/Vancouver:20231203T083000
DTEND;TZID=America/Vancouver:20231203T110000
DTSTAMP:20260422T145726
CREATED:20231124T085632Z
LAST-MODIFIED:20231124T085632Z
UID:14132-1701592200-1701601200@www.abbotsfordflyingclub.ca
SUMMARY:Sunday Morning Breakfast.  Meet at clubhouse 8:30am
DESCRIPTION:If the weather is not flyable\, we will drive to a local restaurant.
URL:https://www.abbotsfordflyingclub.ca/event/sunday-morning-breakfast-meet-at-clubhouse-830am-2/
LOCATION:Fly-out
CATEGORIES:Flyouts & Fly-Ins,Socials
END:VEVENT
BEGIN:VEVENT
DTSTART;TZID=America/Vancouver:20231208T180000
DTEND;TZID=America/Vancouver:20231208T200000
DTSTAMP:20260422T145726
CREATED:20231124T084145Z
LAST-MODIFIED:20231124T084145Z
UID:14116-1702058400-1702065600@www.abbotsfordflyingclub.ca
SUMMARY:TGIF Fridays at the clubhouse.  6-8pm.  Guests welcome!
DESCRIPTION:
URL:https://www.abbotsfordflyingclub.ca/event/tgif-fridays-at-the-clubhouse-6-8pm-guests-welcome-3/
LOCATION:AFC Lounge\, 30540 Approach Drive\, Abbotsford\, BC\, V2T 6H5\, Canada
CATEGORIES:Socials
END:VEVENT
BEGIN:VEVENT
DTSTART;TZID=America/Vancouver:20231209T080000
DTEND;TZID=America/Vancouver:20231209T150000
DTSTAMP:20260422T145726
CREATED:20231105T032448Z
LAST-MODIFIED:20231105T032448Z
UID:14067-1702108800-1702134000@www.abbotsfordflyingclub.ca
SUMMARY:CASARA Training Session
DESCRIPTION:
URL:https://www.abbotsfordflyingclub.ca/event/casara-training-session-18/
LOCATION:AFC Meeting Room\, 30540 Approach Drive\, Abbotsford\, BC\, V2T 6H5\, Canada
CATEGORIES:CASARA
END:VEVENT
BEGIN:VEVENT
DTSTART;TZID=America/Vancouver:20231213T193000
DTEND;TZID=America/Vancouver:20231213T213000
DTSTAMP:20260422T145726
CREATED:20231124T083006Z
LAST-MODIFIED:20231124T083006Z
UID:14107-1702495800-1702503000@www.abbotsfordflyingclub.ca
SUMMARY:General Meeting via Zoom 7:30pm
DESCRIPTION:December’s General meeting will be held via Zoom.  Watch for an invitation email earlier in the day for the zoom login code\, agenda etc. \nQuests are welcome.  Contact secretary@abbotsfrdflyingclub.ca to be included on the invitation email list.
URL:https://www.abbotsfordflyingclub.ca/event/general-meeting-via-zoom-730pm-4/
LOCATION:Zoom Online Meeting
CATEGORIES:Meetings
END:VEVENT
BEGIN:VEVENT
DTSTART;TZID=America/Vancouver:20231215T180000
DTEND;TZID=America/Vancouver:20231215T200000
DTSTAMP:20260422T145726
CREATED:20231124T084314Z
LAST-MODIFIED:20231124T084438Z
UID:14118-1702663200-1702670400@www.abbotsfordflyingclub.ca
SUMMARY:TGIF Fridays at the clubhouse.  6-8pm.  Guests welcome!
DESCRIPTION:
URL:https://www.abbotsfordflyingclub.ca/event/tgif-fridays-at-the-clubhouse-6-8pm-guests-welcome-4/
LOCATION:AFC Lounge\, 30540 Approach Drive\, Abbotsford\, BC\, V2T 6H5\, Canada
CATEGORIES:Socials
END:VEVENT
BEGIN:VEVENT
DTSTART;TZID=America/Vancouver:20231217T083000
DTEND;TZID=America/Vancouver:20231217T110000
DTSTAMP:20260422T145726
CREATED:20231124T090204Z
LAST-MODIFIED:20231124T090204Z
UID:14134-1702801800-1702810800@www.abbotsfordflyingclub.ca
SUMMARY:Sunday Morning Breakfast.  Meet at clubhouse 8:30am
DESCRIPTION:If the weather is not flyable\, we drive to a local restaurant.
URL:https://www.abbotsfordflyingclub.ca/event/sunday-morning-breakfast-meet-at-clubhouse-830am-3/
LOCATION:Fly-out
CATEGORIES:Flyouts & Fly-Ins,Socials
END:VEVENT
BEGIN:VEVENT
DTSTART;TZID=America/Vancouver:20231220T190000
DTEND;TZID=America/Vancouver:20231220T210000
DTSTAMP:20260422T145726
CREATED:20231124T083313Z
LAST-MODIFIED:20231124T083459Z
UID:14109-1703098800-1703106000@www.abbotsfordflyingclub.ca
SUMMARY:Board Meeting 7pm via Zoom
DESCRIPTION:This month’s Board meeting will be held one week earlier on Dec 20 at 7pm to avoid falling on the holidays.
URL:https://www.abbotsfordflyingclub.ca/event/board-meeting-7pm-via-zoom-2/
LOCATION:Zoom Online Meeting
CATEGORIES:Board Meeting
END:VEVENT
BEGIN:VEVENT
DTSTART;TZID=America/Vancouver:20231222T180000
DTEND;TZID=America/Vancouver:20231222T200000
DTSTAMP:20260422T145726
CREATED:20231124T084648Z
LAST-MODIFIED:20231215T062633Z
UID:14120-1703268000-1703275200@www.abbotsfordflyingclub.ca
SUMMARY:TGIF Christmas at the clubhouse.  6-8pm.  Guests welcome!
DESCRIPTION:Don your best ugly Christmas Sweater and come on out for an evening of relaxation\, stories\, camaraderie and games.  If able\, bring a dessert or favourite snacks to share.
URL:https://www.abbotsfordflyingclub.ca/event/tgif-fridays-at-the-clubhouse-6-8pm-guests-welcome-5/
LOCATION:AFC Lounge\, 30540 Approach Drive\, Abbotsford\, BC\, V2T 6H5\, Canada
CATEGORIES:Socials
END:VEVENT
BEGIN:VEVENT
DTSTART;TZID=America/Vancouver:20231225T140000
DTEND;TZID=America/Vancouver:20231225T210000
DTSTAMP:20260422T145726
CREATED:20231222T051404Z
LAST-MODIFIED:20231222T051404Z
UID:14155-1703512800-1703538000@www.abbotsfordflyingclub.ca
SUMMARY:Al Hassan - Private Event
DESCRIPTION:
URL:https://www.abbotsfordflyingclub.ca/event/al-hassan-private-event-3/
LOCATION:AFC Clubhouse and Patio\, 30540 Approach Drive\, Abbotsford\, BC\, V2T 6H5\, Canada
CATEGORIES:Private Member Event
END:VEVENT
BEGIN:VEVENT
DTSTART;TZID=America/Vancouver:20231226T110000
DTEND;TZID=America/Vancouver:20231226T200000
DTSTAMP:20260422T145726
CREATED:20230318T071356Z
LAST-MODIFIED:20230318T071356Z
UID:13455-1703588400-1703620800@www.abbotsfordflyingclub.ca
SUMMARY:Dan Renaud - Private Family Event
DESCRIPTION:
URL:https://www.abbotsfordflyingclub.ca/event/dan-renaud-private-family-event/
LOCATION:AFC Clubhouse\, 30540 Approach Drive\, Abbotsford\, BC\, V2T 6H5
CATEGORIES:Private Member Event
END:VEVENT
BEGIN:VEVENT
DTSTART;TZID=America/Vancouver:20231229T180000
DTEND;TZID=America/Vancouver:20231229T220000
DTSTAMP:20260422T145726
CREATED:20231215T063034Z
LAST-MODIFIED:20231222T060944Z
UID:14153-1703872800-1703887200@www.abbotsfordflyingclub.ca
SUMMARY:TGIF New Year Dinner Party - RSVP required
DESCRIPTION:Mark your calendars for a return of the New Year Dinner Party to be held Friday December 29 at the clubhouse (Friday night\, NOT New Years EVE).  Steak dinner is the menu\, $25/plate.  Please RSVP by the end of Dec 27 to secretary@abbotsfordflyingclub.ca so we can get a head count.  Space is limited so don’t delay.  Payment details TBA by email to registered attendees.
URL:https://www.abbotsfordflyingclub.ca/event/tgif-new-year-dinner-party-rsvp-required/
LOCATION:AFC Clubhouse\, 30540 Approach Drive\, Abbotsford\, BC\, V2T 6H5
CATEGORIES:Socials
END:VEVENT
BEGIN:VEVENT
DTSTART;TZID=America/Vancouver:20240105T180000
DTEND;TZID=America/Vancouver:20240105T200000
DTSTAMP:20260422T145726
CREATED:20231124T084734Z
LAST-MODIFIED:20231124T084734Z
UID:14123-1704477600-1704484800@www.abbotsfordflyingclub.ca
SUMMARY:TGIF Fridays at the clubhouse.  6-8pm.  Guests welcome!
DESCRIPTION:
URL:https://www.abbotsfordflyingclub.ca/event/tgif-fridays-at-the-clubhouse-6-8pm-guests-welcome-6/
LOCATION:BC
CATEGORIES:Socials
END:VEVENT
BEGIN:VEVENT
DTSTART;TZID=America/Vancouver:20240107T083000
DTEND;TZID=America/Vancouver:20240107T110000
DTSTAMP:20260422T145726
CREATED:20231124T090423Z
LAST-MODIFIED:20231124T090423Z
UID:14136-1704616200-1704625200@www.abbotsfordflyingclub.ca
SUMMARY:Sunday Morning Breakfast.  Meet at clubhouse 8:30am
DESCRIPTION:If the weather is not flyable\, we will drive to a local restaurant.
URL:https://www.abbotsfordflyingclub.ca/event/sunday-morning-breakfast-meet-at-clubhouse-830am-4/
LOCATION:BC
CATEGORIES:Flyouts & Fly-Ins,Socials
END:VEVENT
BEGIN:VEVENT
DTSTART;TZID=America/Vancouver:20240110T193000
DTEND;TZID=America/Vancouver:20240110T213000
DTSTAMP:20260422T145726
CREATED:20231227T074057Z
LAST-MODIFIED:20231227T074057Z
UID:14159-1704915000-1704922200@www.abbotsfordflyingclub.ca
SUMMARY:General Meeting (Zoom and in-person\, Hybrid)
DESCRIPTION:
URL:https://www.abbotsfordflyingclub.ca/event/general-meeting-zoom-and-in-person-hybrid/
LOCATION:AFC Clubhouse\, 30540 Approach Drive\, Abbotsford\, BC\, V2T 6H5\, Canada
CATEGORIES:Meetings
END:VEVENT
BEGIN:VEVENT
DTSTART;TZID=America/Vancouver:20240112T180000
DTEND;TZID=America/Vancouver:20240112T200000
DTSTAMP:20260422T145726
CREATED:20231124T084822Z
LAST-MODIFIED:20231124T084822Z
UID:14125-1705082400-1705089600@www.abbotsfordflyingclub.ca
SUMMARY:TGIF Fridays at the clubhouse.  6-8pm.  Guests welcome!
DESCRIPTION:
URL:https://www.abbotsfordflyingclub.ca/event/tgif-fridays-at-the-clubhouse-6-8pm-guests-welcome-7/
LOCATION:AFC Lounge\, 30540 Approach Drive\, Abbotsford\, BC\, V2T 6H5\, Canada
CATEGORIES:Socials
END:VEVENT
BEGIN:VEVENT
DTSTART;TZID=America/Vancouver:20240113T080000
DTEND;TZID=America/Vancouver:20240113T150000
DTSTAMP:20260422T145726
CREATED:20231105T032532Z
LAST-MODIFIED:20231105T032532Z
UID:14070-1705132800-1705158000@www.abbotsfordflyingclub.ca
SUMMARY:CASARA Training Session
DESCRIPTION:
URL:https://www.abbotsfordflyingclub.ca/event/casara-training-session-19/
LOCATION:AFC Meeting Room\, 30540 Approach Drive\, Abbotsford\, BC\, V2T 6H5\, Canada
CATEGORIES:CASARA
END:VEVENT
BEGIN:VEVENT
DTSTART;TZID=America/Vancouver:20240114T083000
DTEND;TZID=America/Vancouver:20240114T110000
DTSTAMP:20260422T145726
CREATED:20231124T090531Z
LAST-MODIFIED:20231124T090531Z
UID:14138-1705221000-1705230000@www.abbotsfordflyingclub.ca
SUMMARY:Sunday Morning Breakfast.  Meet at clubhouse 8:30am
DESCRIPTION:If the weather is not flyable\, we will drive to a local restaurant.
URL:https://www.abbotsfordflyingclub.ca/event/sunday-morning-breakfast-meet-at-clubhouse-830am-5/
LOCATION:Fly-out
CATEGORIES:Flyouts & Fly-Ins,Socials
END:VEVENT
BEGIN:VEVENT
DTSTART;TZID=America/Vancouver:20240119T180000
DTEND;TZID=America/Vancouver:20240119T200000
DTSTAMP:20260422T145726
CREATED:20231124T084907Z
LAST-MODIFIED:20231124T084907Z
UID:14127-1705687200-1705694400@www.abbotsfordflyingclub.ca
SUMMARY:TGIF Fridays at the clubhouse.  6-8pm.  Guests welcome!
DESCRIPTION:
URL:https://www.abbotsfordflyingclub.ca/event/tgif-fridays-at-the-clubhouse-6-8pm-guests-welcome-8/
LOCATION:AFC Lounge\, 30540 Approach Drive\, Abbotsford\, BC\, V2T 6H5\, Canada
CATEGORIES:Socials
END:VEVENT
BEGIN:VEVENT
DTSTART;TZID=America/Vancouver:20240121T083000
DTEND;TZID=America/Vancouver:20240121T110000
DTSTAMP:20260422T145726
CREATED:20231124T092404Z
LAST-MODIFIED:20231124T092404Z
UID:14141-1705825800-1705834800@www.abbotsfordflyingclub.ca
SUMMARY:Sunday Morning Breakfast.  Meet at clubhouse 8:30am
DESCRIPTION:If the weather is not flyable\, we will drive to a local restaurant.
URL:https://www.abbotsfordflyingclub.ca/event/sunday-morning-breakfast-meet-at-clubhouse-830am-6/
LOCATION:Fly-out
CATEGORIES:Flyouts & Fly-Ins,Socials
END:VEVENT
BEGIN:VEVENT
DTSTART;TZID=America/Vancouver:20240124T190000
DTEND;TZID=America/Vancouver:20240124T210000
DTSTAMP:20260422T145726
CREATED:20231227T074314Z
LAST-MODIFIED:20231227T074314Z
UID:14161-1706122800-1706130000@www.abbotsfordflyingclub.ca
SUMMARY:Board meeting (Hybrid)
DESCRIPTION:
URL:https://www.abbotsfordflyingclub.ca/event/board-meeting-hybrid/
LOCATION:AFC Clubhouse\, 30540 Approach Drive\, Abbotsford\, BC\, V2T 6H5
CATEGORIES:Board Meeting
END:VEVENT
BEGIN:VEVENT
DTSTART;TZID=America/Vancouver:20240126T183000
DTEND;TZID=America/Vancouver:20240126T213000
DTSTAMP:20260422T145726
CREATED:20240127T112811Z
LAST-MODIFIED:20240127T113226Z
UID:14201-1706293800-1706304600@www.abbotsfordflyingclub.ca
SUMMARY:TGIF at the Clubhouse.  Guests welcome.
DESCRIPTION:Spend the evening at the clubhouse to relax at the fireplace\, play some pool\, a game of darts or just listen to the stories while enjoying a beverage.  Bring your own desert to share if you like.  Guests welcome.
URL:https://www.abbotsfordflyingclub.ca/event/tgif-at-the-clubhouse-guests-welcome/
LOCATION:AFC Lounge\, 30540 Apporach Drive\, Abbotsford\, BC\, V2T 6H5\, Canada
CATEGORIES:Socials
END:VEVENT
BEGIN:VEVENT
DTSTART;TZID=America/Vancouver:20240128T083000
DTEND;TZID=America/Vancouver:20240128T110000
DTSTAMP:20260422T145726
CREATED:20231124T092532Z
LAST-MODIFIED:20231124T092532Z
UID:14143-1706430600-1706439600@www.abbotsfordflyingclub.ca
SUMMARY:Sunday Morning Breakfast.  Meet at clubhouse 8:30am
DESCRIPTION:If the weather is not flyable\, we will drive to a local restaurant.
URL:https://www.abbotsfordflyingclub.ca/event/sunday-morning-breakfast-meet-at-clubhouse-830am-7/
LOCATION:Fly-out
CATEGORIES:Flyouts & Fly-Ins,Socials
END:VEVENT
BEGIN:VEVENT
DTSTART;TZID=America/Vancouver:20240202T183000
DTEND;TZID=America/Vancouver:20240202T213000
DTSTAMP:20260422T145726
CREATED:20240127T112415Z
LAST-MODIFIED:20240127T112925Z
UID:14197-1706898600-1706909400@www.abbotsfordflyingclub.ca
SUMMARY:TGIF at the clubhouse  Guests welcome!
DESCRIPTION:Spend the evening at the clubhouse to relax at the fireplace\, play some pool\, a game of darts or just listen to the stories while enjoying a beverage.  Bring your own desert to share if you like.  Guests welcome.
URL:https://www.abbotsfordflyingclub.ca/event/tgif-at-the-clubhouse/
LOCATION:AFC Lounge\, 30540 Apporach Drive\, Abbotsford\, BC\, V2T 6H5\, Canada
CATEGORIES:Socials
END:VEVENT
BEGIN:VEVENT
DTSTART;TZID=America/Vancouver:20240209T183000
DTEND;TZID=America/Vancouver:20240209T213000
DTSTAMP:20260422T145726
CREATED:20240127T112506Z
LAST-MODIFIED:20240127T113329Z
UID:14199-1707503400-1707514200@www.abbotsfordflyingclub.ca
SUMMARY:TGIF at the Clubhouse Guests welcome!
DESCRIPTION:Spend the evening at the clubhouse to relax at the fireplace\, play some pool\, a game of darts or just listen to the stories while enjoying a beverage.  Bring your own desert to share if you like.  Guests welcome.
URL:https://www.abbotsfordflyingclub.ca/event/tgif-at-the-clubhouse-2/
LOCATION:AFC Lounge\, 30540 Apporach Drive\, Abbotsford\, BC\, V2T 6H5\, Canada
CATEGORIES:Socials
END:VEVENT
BEGIN:VEVENT
DTSTART;TZID=America/Vancouver:20240210T080000
DTEND;TZID=America/Vancouver:20240210T150000
DTSTAMP:20260422T145726
CREATED:20231105T032607Z
LAST-MODIFIED:20231105T032607Z
UID:14072-1707552000-1707577200@www.abbotsfordflyingclub.ca
SUMMARY:CASARA Training Session
DESCRIPTION:
URL:https://www.abbotsfordflyingclub.ca/event/casara-training-session-20/
LOCATION:AFC Meeting Room\, 30540 Approach Drive\, Abbotsford\, BC\, V2T 6H5\, Canada
CATEGORIES:CASARA
END:VEVENT
END:VCALENDAR