BEGIN:VCALENDAR
VERSION:2.0
PRODID:-//Abbotsford Flying Club - ECPv6.0.0.1//NONSGML v1.0//EN
CALSCALE:GREGORIAN
METHOD:PUBLISH
X-WR-CALNAME:Abbotsford Flying Club
X-ORIGINAL-URL:https://www.abbotsfordflyingclub.ca
X-WR-CALDESC:Events for Abbotsford Flying Club
REFRESH-INTERVAL;VALUE=DURATION:PT1H
X-Robots-Tag:noindex
X-PUBLISHED-TTL:PT1H
BEGIN:VTIMEZONE
TZID:America/Vancouver
BEGIN:DAYLIGHT
TZOFFSETFROM:-0800
TZOFFSETTO:-0700
TZNAME:PDT
DTSTART:20220313T100000
END:DAYLIGHT
BEGIN:STANDARD
TZOFFSETFROM:-0700
TZOFFSETTO:-0800
TZNAME:PST
DTSTART:20221106T090000
END:STANDARD
END:VTIMEZONE
BEGIN:VEVENT
DTSTART;TZID=America/Vancouver:20220917T090000
DTEND;TZID=America/Vancouver:20220917T130000
DTSTAMP:20260422T152123
CREATED:20220620T230738Z
LAST-MODIFIED:20220620T231421Z
UID:12879-1663405200-1663419600@www.abbotsfordflyingclub.ca
SUMMARY:St Johns Ambulance - Dog Therapy Training
DESCRIPTION:
URL:https://www.abbotsfordflyingclub.ca/event/st-johns-ambulance-private-event/
LOCATION:AFC Meeting Room\, 30540 Approach Drive\, Abbotsford\, BC\, V2T 6H5\, Canada
CATEGORIES:Community
END:VEVENT
BEGIN:VEVENT
DTSTART;TZID=America/Vancouver:20220916T180000
DTEND;TZID=America/Vancouver:20220916T200000
DTSTAMP:20260422T152123
CREATED:20220906T080323Z
LAST-MODIFIED:20220906T080323Z
UID:13058-1663351200-1663358400@www.abbotsfordflyingclub.ca
SUMMARY:TGIF Friday
DESCRIPTION:Bring dinner and your spouse\, and relax at the airport.  On the back lawn if the evening weather is nice\, otherwise inside around the fireplace\, pool table\, and the big screen.
URL:https://www.abbotsfordflyingclub.ca/event/tgif-friday-2/
LOCATION:AFC Lounge and Patio\, 30540 Approach Drive\, Abbotsford\, BC\, V2T 6H5\, Canada
CATEGORIES:Socials
END:VEVENT
BEGIN:VEVENT
DTSTART;TZID=America/Vancouver:20220914T193000
DTEND;TZID=America/Vancouver:20220914T220000
DTSTAMP:20260422T152124
CREATED:20220318T091940Z
LAST-MODIFIED:20220906T074003Z
UID:12715-1663183800-1663192800@www.abbotsfordflyingclub.ca
SUMMARY:General Meeting via Zoom
DESCRIPTION:Watch for an email containing the Zoom invitation and agenda.
URL:https://www.abbotsfordflyingclub.ca/event/general-meeting-35/
LOCATION:BC
CATEGORIES:Community,Meetings,Socials
ORGANIZER;CN="AFC%20Board":MAILTO:afcsec@gmail.com
END:VEVENT
BEGIN:VEVENT
DTSTART;TZID=America/Vancouver:20220914T120000
DTEND;TZID=America/Vancouver:20220914T130000
DTSTAMP:20260422T152124
CREATED:20220906T082232Z
LAST-MODIFIED:20220906T082232Z
UID:13091-1663156800-1663160400@www.abbotsfordflyingclub.ca
SUMMARY:Dutch Lunch
DESCRIPTION:Bring a bag lunch for an informal lunch with fellow members in the lounge.
URL:https://www.abbotsfordflyingclub.ca/event/dutch-lunch-2/
LOCATION:AFC Lounge and Patio\, 30540 Approach Drive\, Abbotsford\, BC\, V2T 6H5\, Canada
CATEGORIES:Socials
END:VEVENT
BEGIN:VEVENT
DTSTART;TZID=America/Vancouver:20220911T150000
DTEND;TZID=America/Vancouver:20220911T180000
DTSTAMP:20260422T152124
CREATED:20220906T073045Z
LAST-MODIFIED:20220906T073045Z
UID:13021-1662908400-1662919200@www.abbotsfordflyingclub.ca
SUMMARY:May Day Choir Practice - Private Event
DESCRIPTION:
URL:https://www.abbotsfordflyingclub.ca/event/may-day-choir-practice-private-event-11/
LOCATION:AFC Meeting Room\, 30540 Approach Drive\, Abbotsford\, BC\, V2T 6H5\, Canada
CATEGORIES:Private Member Event
END:VEVENT
BEGIN:VEVENT
DTSTART;TZID=America/Vancouver:20220911T100000
DTEND;TZID=America/Vancouver:20220911T140000
DTSTAMP:20260422T152124
CREATED:20220830T093601Z
LAST-MODIFIED:20220906T081758Z
UID:12955-1662890400-1662904800@www.abbotsfordflyingclub.ca
SUMMARY:Wings and Wheels 10am start
DESCRIPTION:Come out and bring your wings and/or wheels and family for lunch on the back lawn of the clubhouse. Hotdogs and smokies will be available for purchase\, soft drinks and ice cream too. \nBring your favorite yard games or your favorite chair as this may be the last back yard gathering of the season. \nSept 11\, 10am start. \nHope to see you there. \nPS We could use a few more volunteers for various jobs.  Meet at 9am.
URL:https://www.abbotsfordflyingclub.ca/event/wings-and-wheels-3/
LOCATION:AFC Clubhouse\, 30540 Approach Drive\, Abbotsford\, BC\, V2T 6H5
CATEGORIES:Flyouts & Fly-Ins
ORGANIZER;CN="AFC%20Board":MAILTO:afcsec@gmail.com
END:VEVENT
BEGIN:VEVENT
DTSTART;TZID=America/Vancouver:20220910T080000
DTEND;TZID=America/Vancouver:20220910T160000
DTSTAMP:20260422T152124
CREATED:20220304T104605Z
LAST-MODIFIED:20220620T231250Z
UID:12657-1662796800-1662825600@www.abbotsfordflyingclub.ca
SUMMARY:CASARA Training Session
DESCRIPTION:
URL:https://www.abbotsfordflyingclub.ca/event/casara-training-session-6/
LOCATION:AFC Meeting Room\, 30540 Approach Drive\, Abbotsford\, BC\, V2T 6H5\, Canada
CATEGORIES:CASARA,Community
ORGANIZER;CN="Dennis%20Nevett%20%28CASARA%29":MAILTO:yxxcasara@telus.net
END:VEVENT
BEGIN:VEVENT
DTSTART;TZID=America/Vancouver:20220909T180000
DTEND;TZID=America/Vancouver:20220909T200000
DTSTAMP:20260422T152124
CREATED:20220906T080225Z
LAST-MODIFIED:20220906T080225Z
UID:13056-1662746400-1662753600@www.abbotsfordflyingclub.ca
SUMMARY:TGIF Friday
DESCRIPTION:Bring dinner and your spouse\, and relax at the airport.  On the back lawn if the evening weather is nice\, otherwise inside around the fireplace\, pool table\, and the big screen.
URL:https://www.abbotsfordflyingclub.ca/event/tgif-friday/
LOCATION:AFC Lounge and Patio\, 30540 Approach Drive\, Abbotsford\, BC\, V2T 6H5\, Canada
CATEGORIES:Socials
END:VEVENT
BEGIN:VEVENT
DTSTART;TZID=America/Vancouver:20220907T120000
DTEND;TZID=America/Vancouver:20220907T130000
DTSTAMP:20260422T152124
CREATED:20220906T082142Z
LAST-MODIFIED:20220906T082334Z
UID:13089-1662552000-1662555600@www.abbotsfordflyingclub.ca
SUMMARY:Dutch Lunch
DESCRIPTION:Bring a bag lunch for an informal lunch with fellow members in the lounge.
URL:https://www.abbotsfordflyingclub.ca/event/dutch-lunch/
LOCATION:AFC Lounge and Patio\, 30540 Approach Drive\, Abbotsford\, BC\, V2T 6H5\, Canada
CATEGORIES:Socials
END:VEVENT
BEGIN:VEVENT
DTSTART;TZID=America/Vancouver:20220905T130000
DTEND;TZID=America/Vancouver:20220905T220000
DTSTAMP:20260422T152124
CREATED:20220830T093043Z
LAST-MODIFIED:20220830T093043Z
UID:12952-1662382800-1662415200@www.abbotsfordflyingclub.ca
SUMMARY:Laurens’ Birthday Party - Private event
DESCRIPTION:
URL:https://www.abbotsfordflyingclub.ca/event/laurens-birthday-party-private-event/
LOCATION:AFC Lounge and Patio\, 30540 Approach Drive\, Abbotsford\, BC\, V2T 6H5\, Canada
END:VEVENT
BEGIN:VEVENT
DTSTART;TZID=America/Vancouver:20220904T120000
DTEND;TZID=America/Vancouver:20220904T200000
DTSTAMP:20260422T152124
CREATED:20220805T160328Z
LAST-MODIFIED:20220805T160328Z
UID:12941-1662292800-1662321600@www.abbotsfordflyingclub.ca
SUMMARY:Paul Monchamp - Private Event
DESCRIPTION:
URL:https://www.abbotsfordflyingclub.ca/event/paul-monchamp-private-event/
LOCATION:AFC Lounge and Patio\, 30540 Approach Drive\, Abbotsford\, BC\, V2T 6H5\, Canada
END:VEVENT
BEGIN:VEVENT
DTSTART;TZID=America/Vancouver:20220824T190000
DTEND;TZID=America/Vancouver:20220824T220000
DTSTAMP:20260422T152124
CREATED:20220320T100415Z
LAST-MODIFIED:20220620T231250Z
UID:12726-1661367600-1661378400@www.abbotsfordflyingclub.ca
SUMMARY:Board Meeting
DESCRIPTION:
URL:https://www.abbotsfordflyingclub.ca/event/board-meeting-32/
LOCATION:Zoom Teleconference
CATEGORIES:Board Meeting,Community,Meetings
ORGANIZER;CN="AFC%20Board":MAILTO:afcsec@gmail.com
END:VEVENT
BEGIN:VEVENT
DTSTART;TZID=America/Vancouver:20220807T080000
DTEND;TZID=America/Vancouver:20220807T170000
DTSTAMP:20260422T152124
CREATED:20220304T105002Z
LAST-MODIFIED:20220620T231250Z
UID:12665-1659859200-1659891600@www.abbotsfordflyingclub.ca
SUMMARY:ABBOTSFORD INTERNATIONAL AIRSHOW
DESCRIPTION:
URL:https://www.abbotsfordflyingclub.ca/event/abbotsford-international-airshow-3/
LOCATION:AFC Clubhouse and Patio\, 30540 Approach Drive\, Abbotsford\, BC\, V2T 6H5\, Canada
CATEGORIES:Community
ORGANIZER;CN="AFC%20Board":MAILTO:afcsec@gmail.com
END:VEVENT
BEGIN:VEVENT
DTSTART;VALUE=DATE:20220806
DTEND;VALUE=DATE:20220807
DTSTAMP:20260422T152124
CREATED:20220304T104728Z
LAST-MODIFIED:20220620T231250Z
UID:12661-1659744000-1659830399@www.abbotsfordflyingclub.ca
SUMMARY:ABBOTSFORD INTERNATIONAL AIRSHOW
DESCRIPTION:
URL:https://www.abbotsfordflyingclub.ca/event/casara-training-session-8/
LOCATION:AFC Clubhouse and Patio\, 30540 Approach Drive\, Abbotsford\, BC\, V2T 6H5\, Canada
CATEGORIES:CASARA,Community
ORGANIZER;CN="AFC%20Board":MAILTO:afcsec@gmail.com
END:VEVENT
BEGIN:VEVENT
DTSTART;VALUE=DATE:20220805
DTEND;VALUE=DATE:20220806
DTSTAMP:20260422T152124
CREATED:20220304T105046Z
LAST-MODIFIED:20220620T231250Z
UID:12667-1659657600-1659743999@www.abbotsfordflyingclub.ca
SUMMARY:ABBOTSFORD INTERNATIONAL AIRSHOW
DESCRIPTION:
URL:https://www.abbotsfordflyingclub.ca/event/abbotsford-international-airshow-4/
LOCATION:AFC Clubhouse and Patio\, 30540 Approach Drive\, Abbotsford\, BC\, V2T 6H5\, Canada
CATEGORIES:Community
ORGANIZER;CN="AFC%20Board":MAILTO:afcsec@gmail.com
END:VEVENT
BEGIN:VEVENT
DTSTART;TZID=America/Vancouver:20220727T190000
DTEND;TZID=America/Vancouver:20220727T220000
DTSTAMP:20260422T152124
CREATED:20220320T100320Z
LAST-MODIFIED:20220620T231250Z
UID:12724-1658948400-1658959200@www.abbotsfordflyingclub.ca
SUMMARY:Board Meeting
DESCRIPTION:
URL:https://www.abbotsfordflyingclub.ca/event/board-meeting-31/
LOCATION:Zoom Teleconference
CATEGORIES:Board Meeting,Community,Meetings
ORGANIZER;CN="AFC%20Board":MAILTO:afcsec@gmail.com
END:VEVENT
BEGIN:VEVENT
DTSTART;TZID=America/Vancouver:20220727T100000
DTEND;TZID=America/Vancouver:20220727T120000
DTSTAMP:20260422T152124
CREATED:20220718T231754Z
LAST-MODIFIED:20220718T231754Z
UID:12933-1658916000-1658923200@www.abbotsfordflyingclub.ca
SUMMARY:Airshow planning meeting - private event.
DESCRIPTION:Jim Reith
URL:https://www.abbotsfordflyingclub.ca/event/airshow-planning-meeting-private-event/
LOCATION:AFC Meeting Room\, 30540 Approach Drive\, Abbotsford\, BC\, V2T 6H5\, Canada
CATEGORIES:Meetings
ORGANIZER;CN="Jim%20Reith":MAILTO:jsreith@abbotsfordairshow.com
END:VEVENT
BEGIN:VEVENT
DTSTART;TZID=America/Vancouver:20220713T213000
DTEND;TZID=America/Vancouver:20220713T220000
DTSTAMP:20260422T152124
CREATED:20220318T091837Z
LAST-MODIFIED:20220620T231250Z
UID:12713-1657747800-1657749600@www.abbotsfordflyingclub.ca
SUMMARY:General Meeting via Zoom
DESCRIPTION:
URL:https://www.abbotsfordflyingclub.ca/event/general-meeting-34/
LOCATION:BC
CATEGORIES:Community,Meetings,Socials
ORGANIZER;CN="AFC%20Board":MAILTO:afcsec@gmail.com
END:VEVENT
BEGIN:VEVENT
DTSTART;TZID=America/Vancouver:20220710T100000
DTEND;TZID=America/Vancouver:20220710T140000
DTSTAMP:20260422T152124
CREATED:20220623T043209Z
LAST-MODIFIED:20220628T082800Z
UID:12908-1657447200-1657461600@www.abbotsfordflyingclub.ca
SUMMARY:Ice Cream Social on the AFC back lawn.  Cars and Aircraft welcome.
DESCRIPTION:The Central Fraser Valley and the Golden Ears chapters of the Vintage Car Club of Canada will join us and local aircraft for an “Ice Cream Social” on the back lawn of the AFC.  Please mark your calendars\, bring your aircraft out\, invite your aircraft and vintage car friends for ice cream and refreshments on the lawn.  10am-2pm.   \nAlso\, we need a few more club members to volunteer some time before\, during and after for setup\, supervision and clean up.  Contact Bevan. 604-854-0241.
URL:https://www.abbotsfordflyingclub.ca/event/ice-cream-social-on-the-afc-back-lawn-cars-and-aircraft-welcome/
LOCATION:AFC Clubhouse and Patio\, 30540 Approach Drive\, Abbotsford\, BC\, V2T 6H5\, Canada
CATEGORIES:Flyouts & Fly-Ins
ORGANIZER;CN="AFC%20Board":MAILTO:afcsec@gmail.com
END:VEVENT
BEGIN:VEVENT
DTSTART;TZID=America/Vancouver:20220709T080000
DTEND;TZID=America/Vancouver:20220709T160000
DTSTAMP:20260422T152124
CREATED:20220304T104507Z
LAST-MODIFIED:20220620T231250Z
UID:12655-1657353600-1657382400@www.abbotsfordflyingclub.ca
SUMMARY:CASARA Training Session
DESCRIPTION:
URL:https://www.abbotsfordflyingclub.ca/event/casara-training-session-5/
LOCATION:AFC Meeting Room\, 30540 Approach Drive\, Abbotsford\, BC\, V2T 6H5\, Canada
CATEGORIES:CASARA,Community
ORGANIZER;CN="Dennis%20Nevett%20%28CASARA%29":MAILTO:yxxcasara@telus.net
END:VEVENT
BEGIN:VEVENT
DTSTART;TZID=America/Vancouver:20220629T150000
DTEND;TZID=America/Vancouver:20220629T220000
DTSTAMP:20260422T152124
CREATED:20220519T203705Z
LAST-MODIFIED:20220620T231250Z
UID:12844-1656514800-1656540000@www.abbotsfordflyingclub.ca
SUMMARY:Ken Hildebrandt Private Event
DESCRIPTION:G7 BBQ/party
URL:https://www.abbotsfordflyingclub.ca/event/ken-hildebrandt-private-event/
LOCATION:AFC Clubhouse and Patio\, 30540 Approach Drive\, Abbotsford\, BC\, V2T 6H5\, Canada
CATEGORIES:Community,Private Member Event
END:VEVENT
BEGIN:VEVENT
DTSTART;TZID=America/Vancouver:20220626T150000
DTEND;TZID=America/Vancouver:20220626T180000
DTSTAMP:20260422T152124
CREATED:20220318T090120Z
LAST-MODIFIED:20220620T231250Z
UID:12702-1656255600-1656266400@www.abbotsfordflyingclub.ca
SUMMARY:Mayday Club Youth Choir Practice - Private Event
DESCRIPTION:
URL:https://www.abbotsfordflyingclub.ca/event/mayday-club-youth-choir-practice-private-event-8/
LOCATION:AFC Clubhouse\, 30540 Approach Drive\, Abbotsford\, BC\, V2T 6H5
CATEGORIES:Community,Private Member Event
END:VEVENT
BEGIN:VEVENT
DTSTART;TZID=America/Vancouver:20220622T190000
DTEND;TZID=America/Vancouver:20220622T220000
DTSTAMP:20260422T152124
CREATED:20220320T100717Z
LAST-MODIFIED:20220620T231250Z
UID:12730-1655924400-1655935200@www.abbotsfordflyingclub.ca
SUMMARY:Board Meeting
DESCRIPTION:
URL:https://www.abbotsfordflyingclub.ca/event/board-meeting-34/
LOCATION:Zoom Teleconference
CATEGORIES:Board Meeting,Community,Meetings
ORGANIZER;CN="AFC%20Board":MAILTO:afcsec@gmail.com
END:VEVENT
BEGIN:VEVENT
DTSTART;TZID=America/Vancouver:20220618T120000
DTEND;TZID=America/Vancouver:20220618T200000
DTSTAMP:20260422T152124
CREATED:20220211T054110Z
LAST-MODIFIED:20220620T231250Z
UID:12626-1655553600-1655582400@www.abbotsfordflyingclub.ca
SUMMARY:Wayne Cave - Private Event
DESCRIPTION:
URL:https://www.abbotsfordflyingclub.ca/event/wayne-cave-private-event-2/
LOCATION:AFC Lounge and Patio\, 30540 Approach Drive\, Abbotsford\, BC\, V2T 6H5\, Canada
CATEGORIES:Community,Private Member Event
END:VEVENT
BEGIN:VEVENT
DTSTART;TZID=America/Vancouver:20220612T150000
DTEND;TZID=America/Vancouver:20220612T180000
DTSTAMP:20260422T152124
CREATED:20220318T090025Z
LAST-MODIFIED:20220620T231250Z
UID:12700-1655046000-1655056800@www.abbotsfordflyingclub.ca
SUMMARY:Mayday Club Youth Choir Practice - Private Event
DESCRIPTION:
URL:https://www.abbotsfordflyingclub.ca/event/mayday-club-youth-choir-practice-private-event-7/
LOCATION:AFC Clubhouse\, 30540 Approach Drive\, Abbotsford\, BC\, V2T 6H5
CATEGORIES:Community,Private Member Event
END:VEVENT
BEGIN:VEVENT
DTSTART;TZID=America/Vancouver:20220611T080000
DTEND;TZID=America/Vancouver:20220611T160000
DTSTAMP:20260422T152124
CREATED:20220304T104425Z
LAST-MODIFIED:20220620T231250Z
UID:12653-1654934400-1654963200@www.abbotsfordflyingclub.ca
SUMMARY:CASARA Training Session
DESCRIPTION:
URL:https://www.abbotsfordflyingclub.ca/event/casara-training-session-4/
LOCATION:AFC Meeting Room\, 30540 Approach Drive\, Abbotsford\, BC\, V2T 6H5\, Canada
CATEGORIES:CASARA,Community
ORGANIZER;CN="Dennis%20Nevett%20%28CASARA%29":MAILTO:yxxcasara@telus.net
END:VEVENT
BEGIN:VEVENT
DTSTART;TZID=America/Vancouver:20220608T193000
DTEND;TZID=America/Vancouver:20220608T220000
DTSTAMP:20260422T152124
CREATED:20220318T091724Z
LAST-MODIFIED:20220606T090510Z
UID:12711-1654716600-1654725600@www.abbotsfordflyingclub.ca
SUMMARY:General Meeting
DESCRIPTION:This will be a Zoom meeting.
URL:https://www.abbotsfordflyingclub.ca/event/general-meeting-33/
LOCATION:BC
CATEGORIES:Meetings,Socials
ORGANIZER;CN="AFC%20Board":MAILTO:afcsec@gmail.com
END:VEVENT
BEGIN:VEVENT
DTSTART;TZID=America/Vancouver:20220605T150000
DTEND;TZID=America/Vancouver:20220605T180000
DTSTAMP:20260422T152124
CREATED:20220318T085938Z
LAST-MODIFIED:20220318T085938Z
UID:12698-1654441200-1654452000@www.abbotsfordflyingclub.ca
SUMMARY:Mayday Club Youth Choir Practice - Private Event
DESCRIPTION:
URL:https://www.abbotsfordflyingclub.ca/event/mayday-club-youth-choir-practice-private-event-6/
LOCATION:AFC Clubhouse\, 30540 Approach Drive\, Abbotsford\, BC\, V2T 6H5
CATEGORIES:Private Member Event
END:VEVENT
BEGIN:VEVENT
DTSTART;TZID=America/Vancouver:20220602T190000
DTEND;TZID=America/Vancouver:20220602T220000
DTSTAMP:20260422T152124
CREATED:20220519T074611Z
LAST-MODIFIED:20220519T074611Z
UID:12838-1654196400-1654207200@www.abbotsfordflyingclub.ca
SUMMARY:AFC Board Meeting 7pm via Zoom
DESCRIPTION:
URL:https://www.abbotsfordflyingclub.ca/event/afc-board-meeting-7pm-via-zoom/
LOCATION:Zoom Online Meeting
CATEGORIES:Meetings
ORGANIZER;CN="AFC%20Board":MAILTO:afcsec@gmail.com
END:VEVENT
BEGIN:VEVENT
DTSTART;TZID=America/Vancouver:20220529T150000
DTEND;TZID=America/Vancouver:20220529T180000
DTSTAMP:20260422T152125
CREATED:20220318T085837Z
LAST-MODIFIED:20220318T085837Z
UID:12696-1653836400-1653847200@www.abbotsfordflyingclub.ca
SUMMARY:Mayday Club Youth Choir Practice - Private Event
DESCRIPTION:
URL:https://www.abbotsfordflyingclub.ca/event/mayday-club-youth-choir-practice-private-event-5/
LOCATION:AFC Clubhouse\, 30540 Approach Drive\, Abbotsford\, BC\, V2T 6H5
CATEGORIES:Private Member Event
END:VEVENT
END:VCALENDAR