BEGIN:VCALENDAR
VERSION:2.0
PRODID:-//Abbotsford Flying Club - ECPv6.0.0.1//NONSGML v1.0//EN
CALSCALE:GREGORIAN
METHOD:PUBLISH
X-ORIGINAL-URL:https://www.abbotsfordflyingclub.ca
X-WR-CALDESC:Events for Abbotsford Flying Club
REFRESH-INTERVAL;VALUE=DURATION:PT1H
X-Robots-Tag:noindex
X-PUBLISHED-TTL:PT1H
BEGIN:VTIMEZONE
TZID:America/Vancouver
BEGIN:DAYLIGHT
TZOFFSETFROM:-0800
TZOFFSETTO:-0700
TZNAME:PDT
DTSTART:20240310T100000
END:DAYLIGHT
BEGIN:STANDARD
TZOFFSETFROM:-0700
TZOFFSETTO:-0800
TZNAME:PST
DTSTART:20241103T090000
END:STANDARD
END:VTIMEZONE
BEGIN:VEVENT
DTSTART;TZID=America/Vancouver:20240221T183000
DTEND;TZID=America/Vancouver:20240221T213000
DTSTAMP:20260422T201223
CREATED:20240127T113017Z
LAST-MODIFIED:20240127T113017Z
UID:14204-1708540200-1708551000@www.abbotsfordflyingclub.ca
SUMMARY:TGIF at the clubhouse.  Guests welcome!
DESCRIPTION:Spend the evening at the clubhouse to relax at the fireplace\, play some pool\, a game of darts or just listen to the stories while enjoying a beverage.  Bring your own desert to share if you like.  Guests welcome.
URL:https://www.abbotsfordflyingclub.ca/event/tgif-at-the-clubhouse-guests-welcome-2/
LOCATION:BC
CATEGORIES:Socials
END:VEVENT
BEGIN:VEVENT
DTSTART;TZID=America/Vancouver:20240221T193000
DTEND;TZID=America/Vancouver:20240221T213000
DTSTAMP:20260422T201223
CREATED:20240127T111736Z
LAST-MODIFIED:20240127T112143Z
UID:14190-1708543800-1708551000@www.abbotsfordflyingclub.ca
SUMMARY:General Meeting 7:30pm
DESCRIPTION:Please note\, this meeting has been pushed to Feb 21 due to the regular date falling on Valentines day.  We gotta do what we can to keep the significant other happy.  🙂 \nA zoom link will be emailed to all members and guests on the day of the meeting so its not too deep in your inbox. \nIf you’re a member and haven’t been receiving email\, please notify secretary@abbotsfordflyingclub.ca
URL:https://www.abbotsfordflyingclub.ca/event/general-meeting-730pm-3/
LOCATION:Hybrid (In-person at the clubhouse or Zoom)
CATEGORIES:Meetings
END:VEVENT
BEGIN:VEVENT
DTSTART;TZID=America/Vancouver:20240228T183000
DTEND;TZID=America/Vancouver:20240228T213000
DTSTAMP:20260422T201223
CREATED:20240127T113109Z
LAST-MODIFIED:20240127T113109Z
UID:14206-1709145000-1709155800@www.abbotsfordflyingclub.ca
SUMMARY:TGIF at the clubhouse.  Guests welcome!
DESCRIPTION:Spend the evening at the clubhouse to relax at the fireplace\, play some pool\, a game of darts or just listen to the stories while enjoying a beverage.  Bring your own desert to share if you like.  Guests welcome.
URL:https://www.abbotsfordflyingclub.ca/event/tgif-at-the-clubhouse-guests-welcome-3/
LOCATION:AFC Lounge\, 30540 Apporach Drive\, Abbotsford\, BC\, V2T 6H5\, Canada
CATEGORIES:Socials
END:VEVENT
BEGIN:VEVENT
DTSTART;TZID=America/Vancouver:20240309T080000
DTEND;TZID=America/Vancouver:20240309T170000
DTSTAMP:20260422T201223
CREATED:20231105T032713Z
LAST-MODIFIED:20231105T032713Z
UID:14074-1709971200-1710003600@www.abbotsfordflyingclub.ca
SUMMARY:CASARA Training Session
DESCRIPTION:
URL:https://www.abbotsfordflyingclub.ca/event/casara-training-session-21/
LOCATION:AFC Meeting Room\, 30540 Approach Drive\, Abbotsford\, BC\, V2T 6H5\, Canada
CATEGORIES:CASARA
END:VEVENT
BEGIN:VEVENT
DTSTART;TZID=America/Vancouver:20240313T193000
DTEND;TZID=America/Vancouver:20240313T193000
DTSTAMP:20260422T201223
CREATED:20240127T111904Z
LAST-MODIFIED:20240127T111904Z
UID:14193-1710358200-1710358200@www.abbotsfordflyingclub.ca
SUMMARY:General Meeting @ 7:30pm
DESCRIPTION:A zoom link will be emailed to all members and guests on the day of the meeting so its not too deep in your inbox. \nIf you’re a member and haven’t been receiving email\, please notify secretary@abbotsfordflyingclub.ca
URL:https://www.abbotsfordflyingclub.ca/event/general-meeting-730pm-4/
LOCATION:Hybrid (In-person at the clubhouse or Zoom)
CATEGORIES:Meetings
END:VEVENT
BEGIN:VEVENT
DTSTART;TZID=America/Vancouver:20240327T190000
DTEND;TZID=America/Vancouver:20240327T210000
DTSTAMP:20260422T201223
CREATED:20240528T090316Z
LAST-MODIFIED:20240528T090316Z
UID:14298-1711566000-1711573200@www.abbotsfordflyingclub.ca
SUMMARY:Board Meeting
DESCRIPTION:
URL:https://www.abbotsfordflyingclub.ca/event/board-meeting-49/
LOCATION:Zoom Online Meeting
CATEGORIES:Board Meeting
END:VEVENT
BEGIN:VEVENT
DTSTART;TZID=America/Vancouver:20240406T110000
DTEND;TZID=America/Vancouver:20240406T120000
DTSTAMP:20260422T201223
CREATED:20240329T065051Z
LAST-MODIFIED:20240329T065051Z
UID:14226-1712401200-1712404800@www.abbotsfordflyingclub.ca
SUMMARY:YXX Airspace changes discussion.  11am-noon
DESCRIPTION:There will be a briefing at the clubhouse to discuss and answer questions about the local airspace changes now in effect\, arrival/departure routes etc.  The briefing will start around 11am until noon.
URL:https://www.abbotsfordflyingclub.ca/event/yxx-airspace-changes-discussion-11am-noon/
LOCATION:AFC Meeting Room\, 30540 Approach Drive\, Abbotsford\, BC\, V2T 6H5\, Canada
CATEGORIES:Education & Training
END:VEVENT
BEGIN:VEVENT
DTSTART;TZID=America/Vancouver:20240410T193000
DTEND;TZID=America/Vancouver:20240410T213000
DTSTAMP:20260422T201223
CREATED:20240127T112007Z
LAST-MODIFIED:20240329T073053Z
UID:14195-1712777400-1712784600@www.abbotsfordflyingclub.ca
SUMMARY:General Meeting @ 7:30pm (Hybrid)
DESCRIPTION:If you’re a member and haven’t been receiving emailed invitations\, please notify secretary@abbotsfordflyingclub.ca
URL:https://www.abbotsfordflyingclub.ca/event/general-meeting-730pm-5/
LOCATION:BC
CATEGORIES:Meetings
END:VEVENT
BEGIN:VEVENT
DTSTART;TZID=America/Vancouver:20240413T080000
DTEND;TZID=America/Vancouver:20240413T150000
DTSTAMP:20260422T201223
CREATED:20231105T032751Z
LAST-MODIFIED:20231105T032751Z
UID:14076-1712995200-1713020400@www.abbotsfordflyingclub.ca
SUMMARY:CASARA Training Session
DESCRIPTION:
URL:https://www.abbotsfordflyingclub.ca/event/casara-training-session-22/
LOCATION:AFC Meeting Room\, 30540 Approach Drive\, Abbotsford\, BC\, V2T 6H5\, Canada
END:VEVENT
BEGIN:VEVENT
DTSTART;TZID=America/Vancouver:20240420T100000
DTEND;TZID=America/Vancouver:20240420T120000
DTSTAMP:20260422T201223
CREATED:20240329T072622Z
LAST-MODIFIED:20240410T220119Z
UID:14234-1713607200-1713614400@www.abbotsfordflyingclub.ca
SUMMARY:Round Table discussion:  Strategic Planning (Membership)
DESCRIPTION:There will be a round table discussion meeting where AFC members can meet with the Strategic Planning committee and add their input regarding longer term plans at the AFC.  This session is focused on Membership.  Contact Devin for more information.
URL:https://www.abbotsfordflyingclub.ca/event/round-table-discussion-strategic-planning-tentative/
LOCATION:AFC Meeting Room\, 30540 Approach Drive\, Abbotsford\, BC\, V2T 6H5\, Canada
END:VEVENT
BEGIN:VEVENT
DTSTART;TZID=America/Vancouver:20240424T190000
DTEND;TZID=America/Vancouver:20240424T210000
DTSTAMP:20260422T201223
CREATED:20240329T065612Z
LAST-MODIFIED:20240329T065612Z
UID:14228-1713985200-1713992400@www.abbotsfordflyingclub.ca
SUMMARY:Board Meeting
DESCRIPTION:
URL:https://www.abbotsfordflyingclub.ca/event/board-meeting-42/
LOCATION:Zoom Online Meeting
CATEGORIES:Board Meeting
END:VEVENT
BEGIN:VEVENT
DTSTART;TZID=America/Vancouver:20240426T180000
DTEND;TZID=America/Vancouver:20240426T210000
DTSTAMP:20260422T201223
CREATED:20240329T071329Z
LAST-MODIFIED:20240329T071329Z
UID:14232-1714154400-1714165200@www.abbotsfordflyingclub.ca
SUMMARY:Saint George TGIF in the lounge
DESCRIPTION:Join us in the AFC lounge for a Saint George themed TGIF.
URL:https://www.abbotsfordflyingclub.ca/event/saint-george-tgif-in-the-lounge/
LOCATION:AFC Lounge\, 30540 Approach Drive\, Abbotsford\, BC\, V2T 6H5\, Canada
CATEGORIES:Socials
END:VEVENT
BEGIN:VEVENT
DTSTART;TZID=America/Vancouver:20240503T180000
DTEND;TZID=America/Vancouver:20240503T210000
DTSTAMP:20260422T201223
CREATED:20240329T071025Z
LAST-MODIFIED:20240329T071025Z
UID:14230-1714759200-1714770000@www.abbotsfordflyingclub.ca
SUMMARY:Cinco De Mayo TGIF 6-9pm
DESCRIPTION:Donn your best Mexican attire and join us in the AFC lounge for a Cinco De Mayo themed TGIF.
URL:https://www.abbotsfordflyingclub.ca/event/cinco-de-mayo-tgif-6-9pm/
LOCATION:AFC Lounge\, 30540 Approach Drive\, Abbotsford\, BC\, V2T 6H5\, Canada
CATEGORIES:Socials
END:VEVENT
BEGIN:VEVENT
DTSTART;TZID=America/Vancouver:20240508T193000
DTEND;TZID=America/Vancouver:20240508T213000
DTSTAMP:20260422T201223
CREATED:20240528T090237Z
LAST-MODIFIED:20240528T090237Z
UID:14296-1715196600-1715203800@www.abbotsfordflyingclub.ca
SUMMARY:General Meeting
DESCRIPTION:
URL:https://www.abbotsfordflyingclub.ca/event/general-meeting-37/
LOCATION:Hybrid (In-person at the clubhouse or Zoom)
CATEGORIES:Meetings
END:VEVENT
BEGIN:VEVENT
DTSTART;TZID=America/Vancouver:20240511T080000
DTEND;TZID=America/Vancouver:20240511T150000
DTSTAMP:20260422T201223
CREATED:20231105T032833Z
LAST-MODIFIED:20231105T032833Z
UID:14078-1715414400-1715439600@www.abbotsfordflyingclub.ca
SUMMARY:CASARA Training Session
DESCRIPTION:
URL:https://www.abbotsfordflyingclub.ca/event/casara-training-session-23/
LOCATION:AFC Meeting Room\, 30540 Approach Drive\, Abbotsford\, BC\, V2T 6H5\, Canada
CATEGORIES:CASARA
END:VEVENT
BEGIN:VEVENT
DTSTART;TZID=America/Vancouver:20240511T100000
DTEND;TZID=America/Vancouver:20240511T120000
DTSTAMP:20260422T201223
CREATED:20240528T082551Z
LAST-MODIFIED:20240528T083856Z
UID:14266-1715421600-1715428800@www.abbotsfordflyingclub.ca
SUMMARY:Strategic Planning Committee member input meeting
DESCRIPTION:The Strategic Planning Committee will host a member input meeting (one in a series).  This one is to discuss the AFC’s aircraft.  Bring or email your ideas.
URL:https://www.abbotsfordflyingclub.ca/event/strategic-planning-committee-member-input-meeting/
LOCATION:AFC Lounge\, 30540 Approach Drive\, Abbotsford\, BC\, V2T 6H5\, Canada
CATEGORIES:Meetings
END:VEVENT
BEGIN:VEVENT
DTSTART;TZID=America/Vancouver:20240522T190000
DTEND;TZID=America/Vancouver:20240522T210000
DTSTAMP:20260422T201223
CREATED:20240528T084634Z
LAST-MODIFIED:20240528T084634Z
UID:14278-1716404400-1716411600@www.abbotsfordflyingclub.ca
SUMMARY:Board Meeting
DESCRIPTION:
URL:https://www.abbotsfordflyingclub.ca/event/board-meeting-43/
LOCATION:Zoom Online Meeting
CATEGORIES:Board Meeting
END:VEVENT
BEGIN:VEVENT
DTSTART;TZID=America/Vancouver:20240601T100000
DTEND;TZID=America/Vancouver:20240601T120000
DTSTAMP:20260422T201223
CREATED:20240528T082834Z
LAST-MODIFIED:20240528T084002Z
UID:14268-1717236000-1717243200@www.abbotsfordflyingclub.ca
SUMMARY:Strategic Planning Committee member input meeting (Clubhouse)
DESCRIPTION:The Strategic Planning Committee will host a member input meeting (one in a series).  This one is to discuss the AFC’s clubhouse.  Bring or email your ideas.
URL:https://www.abbotsfordflyingclub.ca/event/strategic-planning-committee-member-input-meeting-clubhouse/
LOCATION:AFC Lounge\, 30540 Approach Drive\, Abbotsford\, BC\, V2T 6H5\, Canada
CATEGORIES:Meetings
END:VEVENT
BEGIN:VEVENT
DTSTART;TZID=America/Vancouver:20240608T080000
DTEND;TZID=America/Vancouver:20240608T150000
DTSTAMP:20260422T201223
CREATED:20231105T032927Z
LAST-MODIFIED:20231105T032927Z
UID:14080-1717833600-1717858800@www.abbotsfordflyingclub.ca
SUMMARY:CASARA Training Session
DESCRIPTION:
URL:https://www.abbotsfordflyingclub.ca/event/casara-training-session-24/
LOCATION:AFC Meeting Room\, 30540 Approach Drive\, Abbotsford\, BC\, V2T 6H5\, Canada
CATEGORIES:CASARA
END:VEVENT
BEGIN:VEVENT
DTSTART;TZID=America/Vancouver:20240608T093000
DTEND;TZID=America/Vancouver:20240608T120000
DTSTAMP:20260422T201223
CREATED:20240528T083650Z
LAST-MODIFIED:20240528T083650Z
UID:14270-1717839000-1717848000@www.abbotsfordflyingclub.ca
SUMMARY:Mountain Flying\,  An educational session
DESCRIPTION:The Flight Safety Committee will host a Mountain Flying session to help us refresh and acquire some tips about flying in the mountains.  This should be a very informative session and valuable for all local pilots.  Starts at 9:30am
URL:https://www.abbotsfordflyingclub.ca/event/mountain-flying-an-educational-session/
LOCATION:AFC Lounge\, 30540 Approach Drive\, Abbotsford\, BC\, V2T 6H5\, Canada
CATEGORIES:Education & Training,Meetings,Socials
END:VEVENT
BEGIN:VEVENT
DTSTART;TZID=America/Vancouver:20240612T193000
DTEND;TZID=America/Vancouver:20240612T213000
DTSTAMP:20260422T201223
CREATED:20240528T084340Z
LAST-MODIFIED:20240528T084340Z
UID:14274-1718220600-1718227800@www.abbotsfordflyingclub.ca
SUMMARY:General Meeting (Hybrid) Guests welcome
DESCRIPTION:June’s general meeting will be held in-person and offered via zoom (hybrid).  A link will be sent out on the day of the meeting so it’s not too deep in your email list making it easier to find.  Guests welcome.
URL:https://www.abbotsfordflyingclub.ca/event/general-meeting-hybrid-guests-welcome/
LOCATION:AFC Meeting Room\, 30540 Approach Drive\, Abbotsford\, BC\, V2T 6H5\, Canada
CATEGORIES:Meetings
END:VEVENT
BEGIN:VEVENT
DTSTART;TZID=America/Vancouver:20240626T190000
DTEND;TZID=America/Vancouver:20240626T210000
DTSTAMP:20260422T201223
CREATED:20240528T085100Z
LAST-MODIFIED:20240528T085100Z
UID:14284-1719428400-1719435600@www.abbotsfordflyingclub.ca
SUMMARY:Board Meeting
DESCRIPTION:
URL:https://www.abbotsfordflyingclub.ca/event/board-meeting-46/
LOCATION:Zoom Online Meeting
CATEGORIES:Board Meeting
END:VEVENT
BEGIN:VEVENT
DTSTART;TZID=America/Vancouver:20240706T100000
DTEND;TZID=America/Vancouver:20240706T120000
DTSTAMP:20260422T201223
CREATED:20240701T035335Z
LAST-MODIFIED:20240704T073724Z
UID:14313-1720260000-1720267200@www.abbotsfordflyingclub.ca
SUMMARY:Aircraft Wash - Work Bee
DESCRIPTION:Members (especially those currently enjoying the use of the club’s aircraft) are encouraged to come out to help wash the club’s aircraft.  The idea is to get this (once a year event) done before Wings and Wheels and Airshow.  10am – noon. \nIf there’s enough helpers\, we could also sweep out and tidy the hangars while the planes are  out. \nNOTE:  Simultaneously\, there will also be a member’s private event starting around the same time in the clubhouse and on the patio during our aircraft wash – work bee.  Those participating in the work bee should meet at the hangars and avoid going into the clubhouse during the private event.  Thank you.
URL:https://www.abbotsfordflyingclub.ca/event/aircraft-wash-work-bee/
LOCATION:Hangars
CATEGORIES:Socials
END:VEVENT
BEGIN:VEVENT
DTSTART;TZID=America/Vancouver:20240706T110000
DTEND;TZID=America/Vancouver:20240706T170000
DTSTAMP:20260422T201223
CREATED:20240220T010052Z
LAST-MODIFIED:20240220T010052Z
UID:14216-1720263600-1720285200@www.abbotsfordflyingclub.ca
SUMMARY:Randy Kelley Private Member Event
DESCRIPTION:
URL:https://www.abbotsfordflyingclub.ca/event/randy-kelley-private-member-event/
LOCATION:AFC Clubhouse\, 30540 Approach Drive\, Abbotsford\, BC\, V2T 6H5
CATEGORIES:Private Member Event
END:VEVENT
BEGIN:VEVENT
DTSTART;TZID=America/Vancouver:20240710T193000
DTEND;TZID=America/Vancouver:20240710T213000
DTSTAMP:20260422T201224
CREATED:20240528T084512Z
LAST-MODIFIED:20240528T084512Z
UID:14276-1720639800-1720647000@www.abbotsfordflyingclub.ca
SUMMARY:General Meeting
DESCRIPTION:June’s general meeting will be held in-person and may be offered via zoom (hybrid).  A link will be sent out on the day of the meeting so it’s not too deep in your email list making it easier to find.  Guests welcome.
URL:https://www.abbotsfordflyingclub.ca/event/general-meeting-36/
LOCATION:AFC Meeting Room\, 30540 Approach Drive\, Abbotsford\, BC\, V2T 6H5\, Canada
CATEGORIES:Meetings,Socials
END:VEVENT
BEGIN:VEVENT
DTSTART;TZID=America/Vancouver:20240713T100000
DTEND;TZID=America/Vancouver:20240713T120000
DTSTAMP:20260422T201224
CREATED:20240711T193716Z
LAST-MODIFIED:20240711T193716Z
UID:14335-1720864800-1720872000@www.abbotsfordflyingclub.ca
SUMMARY:A fun work bee to prep the clubhouse for Wings n Wheels 10am start
DESCRIPTION:Among other things\, we will need help with the following: \n-Rope fencing around part of the back yard. \n-Some lawn mowing \n-Cleaning outdoor tables\, chairs\, patio and beverage tubs \n-lounge tidy up \n 
URL:https://www.abbotsfordflyingclub.ca/event/a-fun-work-bee-to-prep-the-clubhouse-for-wings-n-wheels-10am-start/
LOCATION:AFC Clubhouse and Patio\, 30540 Approach Drive\, Abbotsford\, BC\, V2T 6H5\, Canada
CATEGORIES:Socials
END:VEVENT
BEGIN:VEVENT
DTSTART;TZID=America/Vancouver:20240714T110000
DTEND;TZID=America/Vancouver:20240714T180000
DTSTAMP:20260422T201224
CREATED:20240528T091122Z
LAST-MODIFIED:20240711T194830Z
UID:14300-1720954800-1720980000@www.abbotsfordflyingclub.ca
SUMMARY:Wings and Wheels (Guests welcome)
DESCRIPTION:Bring your aircraft or classic car/motorbike and the family to the back lawn of the AFC for the day!  Starts around 11am. \nThe local Vintage Car club will be joining us with many cars.  There will be Valve Cover Car racing\, awards for the best car\, motorcycle\, airplane and Valve Cover Race Car.   The Mayor of Abbotsford is expected to be on hand to present the awards at approximately 2pm.  A Judo club demonstration is also planned. \nAFC members and volunteers are needed to help prep on Saturday morning 10am\, and again on Sunday morning starting at 9am.  Teardown and cleanup help is needed on Sunday starting at 4pm.
URL:https://www.abbotsfordflyingclub.ca/event/wings-and-wheels-guests-welcome/
LOCATION:AFC Lounge and Patio\, 30540 Approach Drive\, Abbotsford\, BC\, V2T 6H5\, Canada
CATEGORIES:Socials
END:VEVENT
BEGIN:VEVENT
DTSTART;TZID=America/Vancouver:20240724T190000
DTEND;TZID=America/Vancouver:20240724T210000
DTSTAMP:20260422T201224
CREATED:20240528T084726Z
LAST-MODIFIED:20240528T084726Z
UID:14280-1721847600-1721854800@www.abbotsfordflyingclub.ca
SUMMARY:Board Meeting
DESCRIPTION:
URL:https://www.abbotsfordflyingclub.ca/event/board-meeting-44/
LOCATION:Zoom Online Meeting
CATEGORIES:Board Meeting
END:VEVENT
BEGIN:VEVENT
DTSTART;VALUE=DATE:20240809
DTEND;VALUE=DATE:20240812
DTSTAMP:20260422T201224
CREATED:20240329T073348Z
LAST-MODIFIED:20240529T225913Z
UID:14239-1723161600-1723420799@www.abbotsfordflyingclub.ca
SUMMARY:Abbotsford International Airshow
DESCRIPTION:The AFC in partnership with the local Rotary Club started the airshow back in 1962.  While we don’t produce the show anymore\, we still run a few parts of it including the Campground\, Fly-in parking area and the Broken Prop Restaurant.  Our members also volunteer individually in other various areas. \nAll AFC members are strongly encouraged to participate as a volunteer every August.  Planning and prep work begins well in advance of the show.  Those who volunteer get a lot of enjoyment out of it\, learn a lot about the local aviation community and get to meet other aviation enthusiasts from all over. \nContact any Board member or send an email to secretary@abbotsfordflyingclub.ca to discover ways to get plugged in and involved. \nPilots interested in learning more about flying to the Abbotsford Airshow can find some info here.
URL:https://www.abbotsfordflyingclub.ca/event/abbotsford-international-airshow-6/
LOCATION:Abbotsford Airport CYXX
CATEGORIES:Community,Socials
END:VEVENT
BEGIN:VEVENT
DTSTART;TZID=America/Vancouver:20240828T190000
DTEND;TZID=America/Vancouver:20240828T210000
DTSTAMP:20260422T201224
CREATED:20240528T084818Z
LAST-MODIFIED:20240528T084818Z
UID:14282-1724871600-1724878800@www.abbotsfordflyingclub.ca
SUMMARY:Board Meeting
DESCRIPTION:
URL:https://www.abbotsfordflyingclub.ca/event/board-meeting-45/
LOCATION:Zoom Online Meeting
CATEGORIES:Board Meeting
END:VEVENT
END:VCALENDAR