BEGIN:VCALENDAR
VERSION:2.0
PRODID:-//Abbotsford Flying Club - ECPv6.0.0.1//NONSGML v1.0//EN
CALSCALE:GREGORIAN
METHOD:PUBLISH
X-WR-CALNAME:Abbotsford Flying Club
X-ORIGINAL-URL:https://www.abbotsfordflyingclub.ca
X-WR-CALDESC:Events for Abbotsford Flying Club
REFRESH-INTERVAL;VALUE=DURATION:PT1H
X-Robots-Tag:noindex
X-PUBLISHED-TTL:PT1H
BEGIN:VTIMEZONE
TZID:America/Vancouver
BEGIN:DAYLIGHT
TZOFFSETFROM:-0800
TZOFFSETTO:-0700
TZNAME:PDT
DTSTART:20220313T100000
END:DAYLIGHT
BEGIN:STANDARD
TZOFFSETFROM:-0700
TZOFFSETTO:-0800
TZNAME:PST
DTSTART:20221106T090000
END:STANDARD
END:VTIMEZONE
BEGIN:VEVENT
DTSTART;TZID=America/Vancouver:20220602T190000
DTEND;TZID=America/Vancouver:20220602T220000
DTSTAMP:20260422T234845
CREATED:20220519T074611Z
LAST-MODIFIED:20220519T074611Z
UID:12838-1654196400-1654207200@www.abbotsfordflyingclub.ca
SUMMARY:AFC Board Meeting 7pm via Zoom
DESCRIPTION:
URL:https://www.abbotsfordflyingclub.ca/event/afc-board-meeting-7pm-via-zoom/
LOCATION:Zoom Online Meeting
CATEGORIES:Meetings
ORGANIZER;CN="AFC%20Board":MAILTO:afcsec@gmail.com
END:VEVENT
BEGIN:VEVENT
DTSTART;TZID=America/Vancouver:20220529T150000
DTEND;TZID=America/Vancouver:20220529T180000
DTSTAMP:20260422T234845
CREATED:20220318T085837Z
LAST-MODIFIED:20220318T085837Z
UID:12696-1653836400-1653847200@www.abbotsfordflyingclub.ca
SUMMARY:Mayday Club Youth Choir Practice - Private Event
DESCRIPTION:
URL:https://www.abbotsfordflyingclub.ca/event/mayday-club-youth-choir-practice-private-event-5/
LOCATION:AFC Clubhouse\, 30540 Approach Drive\, Abbotsford\, BC\, V2T 6H5
CATEGORIES:Private Member Event
END:VEVENT
BEGIN:VEVENT
DTSTART;TZID=America/Vancouver:20220527T173000
DTEND;TZID=America/Vancouver:20220527T210000
DTSTAMP:20260422T234845
CREATED:20220422T073948Z
LAST-MODIFIED:20220422T073948Z
UID:12815-1653672600-1653685200@www.abbotsfordflyingclub.ca
SUMMARY:TGIF Social 5:30-9pm
DESCRIPTION:Everybody welcome.  Bring your spouse\, significant other\, dinner\, pool cue for an evening of conversation.
URL:https://www.abbotsfordflyingclub.ca/event/tgif-social-530-9pm-2/
LOCATION:BC
CATEGORIES:Socials
END:VEVENT
BEGIN:VEVENT
DTSTART;TZID=America/Vancouver:20220521T100000
DTEND;TZID=America/Vancouver:20220521T140000
DTSTAMP:20260422T234845
CREATED:20220519T075841Z
LAST-MODIFIED:20220519T075841Z
UID:12842-1653127200-1653141600@www.abbotsfordflyingclub.ca
SUMMARY:AFC Work Party (Clubhouse exterior\, grounds and Hangars cleanup)
DESCRIPTION:
URL:https://www.abbotsfordflyingclub.ca/event/afc-work-party-clubhouse-exterior-grounds-and-hangars-cleanup/
LOCATION:AFC Clubhouse and Patio\, 30540 Approach Drive\, Abbotsford\, BC\, V2T 6H5\, Canada
CATEGORIES:Socials
END:VEVENT
BEGIN:VEVENT
DTSTART;TZID=America/Vancouver:20220520T173000
DTEND;TZID=America/Vancouver:20220520T210000
DTSTAMP:20260422T234845
CREATED:20220422T073340Z
LAST-MODIFIED:20220422T073710Z
UID:12811-1653067800-1653080400@www.abbotsfordflyingclub.ca
SUMMARY:TGIF Social 5:30-9pm
DESCRIPTION:Everybody welcome.  Bring your spouse and dinner for an evening of conversation\, pool and darts etc.
URL:https://www.abbotsfordflyingclub.ca/event/tgif-social-530-pm/
LOCATION:AFC Clubhouse\, 30540 Approach Drive\, Abbotsford\, BC\, V2T 6H5
CATEGORIES:Socials
END:VEVENT
BEGIN:VEVENT
DTSTART;TZID=America/Vancouver:20220515T150000
DTEND;TZID=America/Vancouver:20220515T180000
DTSTAMP:20260422T234845
CREATED:20220318T085749Z
LAST-MODIFIED:20220318T085749Z
UID:12694-1652626800-1652637600@www.abbotsfordflyingclub.ca
SUMMARY:Mayday Club Youth Choir Practice - Private Event
DESCRIPTION:
URL:https://www.abbotsfordflyingclub.ca/event/mayday-club-youth-choir-practice-private-event-4/
LOCATION:AFC Clubhouse\, 30540 Approach Drive\, Abbotsford\, BC\, V2T 6H5
CATEGORIES:Private Member Event
END:VEVENT
BEGIN:VEVENT
DTSTART;TZID=America/Vancouver:20220514T080000
DTEND;TZID=America/Vancouver:20220514T160000
DTSTAMP:20260422T234845
CREATED:20220304T104301Z
LAST-MODIFIED:20220304T104301Z
UID:12651-1652515200-1652544000@www.abbotsfordflyingclub.ca
SUMMARY:CASARA Training Session
DESCRIPTION:
URL:https://www.abbotsfordflyingclub.ca/event/casara-training-session-3/
LOCATION:AFC Meeting Room\, 30540 Approach Drive\, Abbotsford\, BC\, V2T 6H5\, Canada
CATEGORIES:CASARA
ORGANIZER;CN="Dennis%20Nevett%20%28CASARA%29":MAILTO:yxxcasara@telus.net
END:VEVENT
BEGIN:VEVENT
DTSTART;TZID=America/Vancouver:20220513T173000
DTEND;TZID=America/Vancouver:20220513T210000
DTSTAMP:20260422T234845
CREATED:20220422T073050Z
LAST-MODIFIED:20220422T074026Z
UID:12808-1652463000-1652475600@www.abbotsfordflyingclub.ca
SUMMARY:TGIF Social 5:30-9pm
DESCRIPTION:Everybody welcome.  Bring your dinner and your spouse for an evening of conversation\, pool\, darts\,  etc.
URL:https://www.abbotsfordflyingclub.ca/event/tgif-social-530-9pm/
LOCATION:AFC Lounge\, 30540 Approach Drive\, Abbotsford\, BC\, V2T 6H5\, Canada
CATEGORIES:Socials
END:VEVENT
BEGIN:VEVENT
DTSTART;TZID=America/Vancouver:20220511T193000
DTEND;TZID=America/Vancouver:20220511T220000
DTSTAMP:20260422T234845
CREATED:20220318T091020Z
LAST-MODIFIED:20220510T094216Z
UID:12709-1652297400-1652306400@www.abbotsfordflyingclub.ca
SUMMARY:General Meeting via Zoom 7:30pm
DESCRIPTION:This meeting will be a Zoom meeting.\nSpecial Speaker:  “Tower Talk with Trent”\, featuring Trent Stenmark\, Navcan YXX Operations Specialist.
URL:https://www.abbotsfordflyingclub.ca/event/general-meeting-32/
LOCATION:BC
CATEGORIES:Meetings
ORGANIZER;CN="AFC%20Board":MAILTO:afcsec@gmail.com
END:VEVENT
BEGIN:VEVENT
DTSTART;TZID=America/Vancouver:20220506T173000
DTEND;TZID=America/Vancouver:20220506T220000
DTSTAMP:20260422T234845
CREATED:20220422T072025Z
LAST-MODIFIED:20220422T073741Z
UID:12804-1651858200-1651874400@www.abbotsfordflyingclub.ca
SUMMARY:Mother's Day / Cinco De Mayo combo TGIF
DESCRIPTION:Bring the Mother’s in your life\, dinner and your best Mexican attire for an evening of fun for the whole family.
URL:https://www.abbotsfordflyingclub.ca/event/mothers-day-cinco-de-mayo-combo-tgif/
LOCATION:AFC Clubhouse\, 30540 Approach Drive\, Abbotsford\, BC\, V2T 6H5
CATEGORIES:Socials
END:VEVENT
BEGIN:VEVENT
DTSTART;TZID=America/Vancouver:20220501T150000
DTEND;TZID=America/Vancouver:20220501T180000
DTSTAMP:20260422T234845
CREATED:20220318T085704Z
LAST-MODIFIED:20220318T085704Z
UID:12692-1651417200-1651428000@www.abbotsfordflyingclub.ca
SUMMARY:Mayday Club Youth Choir Practice - Private Event
DESCRIPTION:
URL:https://www.abbotsfordflyingclub.ca/event/mayday-club-youth-choir-practice-private-event-3/
LOCATION:AFC Clubhouse\, 30540 Approach Drive\, Abbotsford\, BC\, V2T 6H5
CATEGORIES:Private Member Event
END:VEVENT
BEGIN:VEVENT
DTSTART;TZID=America/Vancouver:20220430T130000
DTEND;TZID=America/Vancouver:20220430T190000
DTSTAMP:20260422T234845
CREATED:20220321T184819Z
LAST-MODIFIED:20220321T184819Z
UID:12737-1651323600-1651345200@www.abbotsfordflyingclub.ca
SUMMARY:Randy Kelley - Private Event
DESCRIPTION:
URL:https://www.abbotsfordflyingclub.ca/event/randy-kelley-private-event/
LOCATION:AFC Clubhouse\, 30540 Approach Drive\, Abbotsford\, BC\, V2T 6H5
CATEGORIES:Private Member Event
ORGANIZER;CN="Randy%20kelley":MAILTO:simranco@telus.net
END:VEVENT
BEGIN:VEVENT
DTSTART;TZID=America/Vancouver:20220427T190000
DTEND;TZID=America/Vancouver:20220427T220000
DTSTAMP:20260422T234845
CREATED:20220320T100801Z
LAST-MODIFIED:20220320T100801Z
UID:12732-1651086000-1651096800@www.abbotsfordflyingclub.ca
SUMMARY:Board Meeting
DESCRIPTION:
URL:https://www.abbotsfordflyingclub.ca/event/board-meeting-35/
LOCATION:Zoom Teleconference
CATEGORIES:Board Meeting,Meetings
ORGANIZER;CN="AFC%20Board":MAILTO:afcsec@gmail.com
END:VEVENT
BEGIN:VEVENT
DTSTART;TZID=America/Vancouver:20220424T150000
DTEND;TZID=America/Vancouver:20220424T180000
DTSTAMP:20260422T234845
CREATED:20220318T085618Z
LAST-MODIFIED:20220318T085618Z
UID:12690-1650812400-1650823200@www.abbotsfordflyingclub.ca
SUMMARY:Mayday Club Youth Choir Practice - Private Event
DESCRIPTION:
URL:https://www.abbotsfordflyingclub.ca/event/mayday-club-youth-choir-practice-private-event-2/
LOCATION:AFC Clubhouse\, 30540 Approach Drive\, Abbotsford\, BC\, V2T 6H5
CATEGORIES:Private Member Event
END:VEVENT
BEGIN:VEVENT
DTSTART;TZID=America/Vancouver:20220423T100000
DTEND;TZID=America/Vancouver:20220423T113000
DTSTAMP:20260422T234845
CREATED:20220423T051537Z
LAST-MODIFIED:20220423T052103Z
UID:12817-1650708000-1650713400@www.abbotsfordflyingclub.ca
SUMMARY:IMC Club @ 10am via Webex
DESCRIPTION:Join us for a Webex discussion about real life flying scenarios\, weather\, maps and charts\, including simulated trips. The subject matter is supplemented by real life stories\, examples and nuggets of knowledge as told by some high time pilots (old\, but not bold) now retired. Come and learn from those that have survived doing what we want do. If you want to listen to the actual guys who’ve gone before us and done it\, and have access to ask them questions\, you will not want to miss these sessions. \nUp coming topics:\n-Lower Mainland Airspace and VTA changes. A simulated trip to Victoria.\n-Mountain flying tips/tricks/gotchas. TBA \n  \nhttps://apa-bya.my.webex.com/apa-bya.my/j.php?MTID=md8f80e8f6cf74d3dd45395775c6231f1
URL:https://www.abbotsfordflyingclub.ca/event/imc-club-5/
LOCATION:WEBEX
CATEGORIES:Education & Training,IMC/ VMC Club
END:VEVENT
BEGIN:VEVENT
DTSTART;TZID=America/Vancouver:20220413T193000
DTEND;TZID=America/Vancouver:20220413T220000
DTSTAMP:20260422T234846
CREATED:20220318T090444Z
LAST-MODIFIED:20220318T090444Z
UID:12705-1649878200-1649887200@www.abbotsfordflyingclub.ca
SUMMARY:General Meeting @ 7:30 via Zoom
DESCRIPTION:Join code \nhttps://us02web.zoom.us/j/82355157631?pwd=UXNBNUJhQnNabEFITEIrV2syOGMvQT09
URL:https://www.abbotsfordflyingclub.ca/event/general-meeting-730-via-zoom/
LOCATION:Zoom Online Meeting
CATEGORIES:Meetings,Socials
ORGANIZER;CN="AFC%20Board":MAILTO:afcsec@gmail.com
END:VEVENT
BEGIN:VEVENT
DTSTART;TZID=America/Vancouver:20220410T150000
DTEND;TZID=America/Vancouver:20220410T180000
DTSTAMP:20260422T234846
CREATED:20220318T085510Z
LAST-MODIFIED:20220318T085510Z
UID:12688-1649602800-1649613600@www.abbotsfordflyingclub.ca
SUMMARY:Mayday Club Youth Choir Practice - Private Event
DESCRIPTION:
URL:https://www.abbotsfordflyingclub.ca/event/mayday-club-youth-choir-practice-private-event/
LOCATION:AFC Clubhouse\, 30540 Approach Drive\, Abbotsford\, BC\, V2T 6H5
CATEGORIES:Private Member Event
END:VEVENT
BEGIN:VEVENT
DTSTART;TZID=America/Vancouver:20220409T100000
DTEND;TZID=America/Vancouver:20220409T130000
DTSTAMP:20260422T234846
CREATED:20220411T064155Z
LAST-MODIFIED:20220411T064320Z
UID:12772-1649498400-1649509200@www.abbotsfordflyingclub.ca
SUMMARY:AFC Clubhouse Work Party\, 10AM Start
DESCRIPTION:Clubhouse cleanup work party starting at 10AM.
URL:https://www.abbotsfordflyingclub.ca/event/afc-clubhouse-work-party-10am-start/
LOCATION:AFC Clubhouse\, 30540 Approach Drive\, Abbotsford\, BC\, V2T 6H5
CATEGORIES:Socials
END:VEVENT
BEGIN:VEVENT
DTSTART;TZID=America/Vancouver:20220409T080000
DTEND;TZID=America/Vancouver:20220409T160000
DTSTAMP:20260422T234846
CREATED:20220304T104208Z
LAST-MODIFIED:20220304T104208Z
UID:12649-1649491200-1649520000@www.abbotsfordflyingclub.ca
SUMMARY:CASARA Training Session
DESCRIPTION:
URL:https://www.abbotsfordflyingclub.ca/event/casara-training-session-2/
LOCATION:AFC Meeting Room\, 30540 Approach Drive\, Abbotsford\, BC\, V2T 6H5\, Canada
CATEGORIES:CASARA
ORGANIZER;CN="Dennis%20Nevett%20%28CASARA%29":MAILTO:yxxcasara@telus.net
END:VEVENT
BEGIN:VEVENT
DTSTART;TZID=America/Vancouver:20220403T150000
DTEND;TZID=America/Vancouver:20220403T180000
DTSTAMP:20260422T234846
CREATED:20220318T085220Z
LAST-MODIFIED:20220318T085352Z
UID:12685-1648998000-1649008800@www.abbotsfordflyingclub.ca
SUMMARY:Mayday Club Youth Choir Practice - Private Event
DESCRIPTION:
URL:https://www.abbotsfordflyingclub.ca/event/mayday-club-youth-choir-practice/
LOCATION:AFC Clubhouse\, 30540 Approach Drive\, Abbotsford\, BC\, V2T 6H5
CATEGORIES:Private Member Event
END:VEVENT
BEGIN:VEVENT
DTSTART;TZID=America/Vancouver:20220326T100000
DTEND;TZID=America/Vancouver:20220326T113000
DTSTAMP:20260422T234846
CREATED:20220315T190244Z
LAST-MODIFIED:20220326T190853Z
UID:12679-1648288800-1648294200@www.abbotsfordflyingclub.ca
SUMMARY:IMC Club 10am via Webex
DESCRIPTION:Join us for a Webex discussion about real life flying scenarios\, weather\, maps and charts\, including simulated trips. The subject matter is supplemented by real life stories\, examples and nuggets of knowledge as told by some high time pilots (old\, but not bold) now retired. Come and learn from those that have survived doing what we want do.  If you want to listen to the actual guys who’ve gone before us and done it\, and have access to ask them questions\, you will not want to miss these sessions.   \nUp coming topics:\n-Border crossing tips/tricks\, ADSB\, EAPIS.  Feb 26\n-Lower Mainland Airspace and VTA changes.  A simulated trip to Victoria.   Mar 26\n-Mountain flying tips/tricks/gotchas. TBA \nNOTE:  WEBEX links for IMC Club sessions will be posted here as they become available.  If you would like to be put on an email list to automatically receive the Webex links\, send an email to devcamp@telus.net \nWEBEX LINK: \nhttps://apa-bya.my.webex.com/apa-bya.my/j.php?MTID=mdfd866994672c6b7b62b1dc25f006886\nSaturday\, Mar 26\, 2022 10:00 am | 1 hour 30 minutes | (UTC-07:00) Pacific Time (US & Canada)\nMeeting number: 2554 599 3963\nPassword: PFiAtTpj373 (73428875 from phones and video systems) \nJoin by video system\nDial 25545993963@webex.com\nYou can also dial 173.243.2.68 and enter your meeting number. \nJoin by phone\n+1-415-655-0001 US Toll \nAccess code: 255 459 93963
URL:https://www.abbotsfordflyingclub.ca/event/imc-club-4/
LOCATION:WEBEX
CATEGORIES:Education & Training,IMC/ VMC Club
END:VEVENT
BEGIN:VEVENT
DTSTART;TZID=America/Vancouver:20220321T190000
DTEND;TZID=America/Vancouver:20220321T220000
DTSTAMP:20260422T234846
CREATED:20220318T090622Z
LAST-MODIFIED:20220318T090622Z
UID:12707-1647889200-1647900000@www.abbotsfordflyingclub.ca
SUMMARY:Board Meeting
DESCRIPTION:
URL:https://www.abbotsfordflyingclub.ca/event/board-meeting-28/
LOCATION:Zoom Online Meeting
CATEGORIES:Board Meeting,Meetings
ORGANIZER;CN="AFC%20Board":MAILTO:afcsec@gmail.com
END:VEVENT
BEGIN:VEVENT
DTSTART;TZID=America/Vancouver:20220320T150000
DTEND;TZID=America/Vancouver:20220320T180000
DTSTAMP:20260422T234846
CREATED:20211212T200651Z
LAST-MODIFIED:20211212T200651Z
UID:12507-1647788400-1647799200@www.abbotsfordflyingclub.ca
SUMMARY:MayDay Club Youth Choir – Private Event
DESCRIPTION:
URL:https://www.abbotsfordflyingclub.ca/event/mayday-club-youth-choir-private-event-9/
LOCATION:AFC Clubhouse\, 30540 Approach Drive\, Abbotsford\, BC\, V2T 6H5
CATEGORIES:Private Member Event
END:VEVENT
BEGIN:VEVENT
DTSTART;TZID=America/Vancouver:20220313T150000
DTEND;TZID=America/Vancouver:20220313T180000
DTSTAMP:20260422T234846
CREATED:20211212T200611Z
LAST-MODIFIED:20211212T200611Z
UID:12505-1647183600-1647194400@www.abbotsfordflyingclub.ca
SUMMARY:MayDay Club Youth Choir – Private Event
DESCRIPTION:
URL:https://www.abbotsfordflyingclub.ca/event/mayday-club-youth-choir-private-event-8/
LOCATION:AFC Clubhouse\, 30540 Approach Drive\, Abbotsford\, BC\, V2T 6H5
CATEGORIES:Private Member Event
END:VEVENT
BEGIN:VEVENT
DTSTART;TZID=America/Vancouver:20220312T080000
DTEND;TZID=America/Vancouver:20220312T160000
DTSTAMP:20260422T234846
CREATED:20220304T104107Z
LAST-MODIFIED:20220304T104107Z
UID:12647-1647072000-1647100800@www.abbotsfordflyingclub.ca
SUMMARY:CASARA Training Session
DESCRIPTION:
URL:https://www.abbotsfordflyingclub.ca/event/casara-training-session/
LOCATION:AFC Meeting Room\, 30540 Approach Drive\, Abbotsford\, BC\, V2T 6H5\, Canada
CATEGORIES:CASARA
ORGANIZER;CN="Dennis%20Nevett%20%28CASARA%29":MAILTO:yxxcasara@telus.net
END:VEVENT
BEGIN:VEVENT
DTSTART;TZID=America/Vancouver:20220306T150000
DTEND;TZID=America/Vancouver:20220306T180000
DTSTAMP:20260422T234846
CREATED:20211212T200528Z
LAST-MODIFIED:20211212T200528Z
UID:12503-1646578800-1646589600@www.abbotsfordflyingclub.ca
SUMMARY:MayDay Club Youth Choir – Private Event
DESCRIPTION:
URL:https://www.abbotsfordflyingclub.ca/event/mayday-club-youth-choir-private-event-7/
LOCATION:AFC Clubhouse\, 30540 Approach Drive\, Abbotsford\, BC\, V2T 6H5
CATEGORIES:Private Member Event
END:VEVENT
BEGIN:VEVENT
DTSTART;TZID=America/Vancouver:20220226T100000
DTEND;TZID=America/Vancouver:20220226T113000
DTSTAMP:20260422T234846
CREATED:20220226T032304Z
LAST-MODIFIED:20220226T032957Z
UID:12639-1645869600-1645875000@www.abbotsfordflyingclub.ca
SUMMARY:IMC CLUB 10am EAPIS\, Lower Mainland Airspace
DESCRIPTION:Join us for a discussion about EAPIS (cross border operations) and Lower Mainland Airspace.  10AM Saturday Feb 26\, 2022 \nJoin from the meeting link\nhttps://apa-bya.my.webex.com/apa-bya.my/j.php?MTID=m823da5ce3097b7f5afd2ed151e477e32 \nJoin by meeting number\nMeeting number (access code): 2551 490 6517\nMeeting password: bMsrwD7Za64 (26779379 from phones and video systems) \nTap to join from a mobile device (attendees only)\n+1-415-655-0001\,\,25514906517#26779379# US Toll\nSome mobile devices may ask attendees to enter a numeric password. \nJoin by phone\n+1-415-655-0001 US Toll\nGlobal call-in numbers \nJoin by video system\, application or Skype for business\nDial 25514906517@webex.com\nYou can also dial 173.243.2.68 and enter your meeting number.
URL:https://www.abbotsfordflyingclub.ca/event/imc-club-10am-saturday-feb-26/
LOCATION:WEBEX
CATEGORIES:Education & Training,IMC/ VMC Club
END:VEVENT
BEGIN:VEVENT
DTSTART;TZID=America/Vancouver:20220226T090000
DTEND;TZID=America/Vancouver:20220226T130000
DTSTAMP:20260422T234846
CREATED:20220117T193933Z
LAST-MODIFIED:20220117T194727Z
UID:12578-1645866000-1645880400@www.abbotsfordflyingclub.ca
SUMMARY:St John Ambulance Therapy Dog
DESCRIPTION:
URL:https://www.abbotsfordflyingclub.ca/event/st-john-ambulance-therapy-dog-2/
LOCATION:AFC Meeting Room\, 30540 Approach Drive\, Abbotsford\, BC\, V2T 6H5\, Canada
CATEGORIES:Private Member Event
END:VEVENT
BEGIN:VEVENT
DTSTART;TZID=America/Vancouver:20220225T173000
DTEND;TZID=America/Vancouver:20220225T210000
DTSTAMP:20260422T234846
CREATED:20211213T202326Z
LAST-MODIFIED:20211213T202326Z
UID:12518-1645810200-1645822800@www.abbotsfordflyingclub.ca
SUMMARY:TGIF – Member event\, Guests welcome
DESCRIPTION:
URL:https://www.abbotsfordflyingclub.ca/event/tgif-member-event-guests-welcome-9/
LOCATION:AFC Lounge\, 30540 Approach Drive\, Abbotsford\, BC\, V2T 6H5\, Canada
CATEGORIES:Socials
ORGANIZER;CN="Chris%20Palmer":MAILTO:crtpalmer@me.com
END:VEVENT
BEGIN:VEVENT
DTSTART;TZID=America/Vancouver:20220219T090000
DTEND;TZID=America/Vancouver:20220219T130000
DTSTAMP:20260422T234846
CREATED:20220117T193751Z
LAST-MODIFIED:20220117T194644Z
UID:12576-1645261200-1645275600@www.abbotsfordflyingclub.ca
SUMMARY:St John Ambulance Therapy Dog
DESCRIPTION:
URL:https://www.abbotsfordflyingclub.ca/event/st-john-ambulance-therapy-dog/
LOCATION:AFC Meeting Room\, 30540 Approach Drive\, Abbotsford\, BC\, V2T 6H5\, Canada
CATEGORIES:Private Member Event
END:VEVENT
END:VCALENDAR